BEGIN:VCALENDAR
VERSION:2.0
PRODID:-//LA ANTIGUA GUATEMALA - ECPv6.0.3.1//NONSGML v1.0//EN
CALSCALE:GREGORIAN
METHOD:PUBLISH
X-ORIGINAL-URL:https://laantiguaguatemala.com
X-WR-CALDESC:Events for LA ANTIGUA GUATEMALA
REFRESH-INTERVAL;VALUE=DURATION:PT1H
X-Robots-Tag:noindex
X-PUBLISHED-TTL:PT1H
BEGIN:VTIMEZONE
TZID:UTC
BEGIN:STANDARD
TZOFFSETFROM:+0000
TZOFFSETTO:+0000
TZNAME:UTC
DTSTART:20220101T000000
END:STANDARD
END:VTIMEZONE
BEGIN:VEVENT
DTSTART;TZID=UTC:20221101T090000
DTEND;TZID=UTC:20221130T180000
DTSTAMP:20260419T200347
CREATED:20221114T231622Z
LAST-MODIFIED:20221114T231622Z
UID:10000377-1667293200-1669831200@laantiguaguatemala.com
SUMMARY:Exposición José Gregorio Leiva
DESCRIPTION:
URL:https://laantiguaguatemala.com/event/exposicion-jose-gregorio-leiva/
LOCATION:Galeria 4 – Santo Domingo del Cerro\, Km 42.5\, La Antigua Guatemala\, Santa Inés del Monte Pulciano\, Guatemala
END:VEVENT
END:VCALENDAR