BEGIN:VCALENDAR
VERSION:2.0
PRODID:-//LA ANTIGUA GUATEMALA - ECPv6.0.3.1//NONSGML v1.0//EN
CALSCALE:GREGORIAN
METHOD:PUBLISH
X-ORIGINAL-URL:https://laantiguaguatemala.com
X-WR-CALDESC:Events for LA ANTIGUA GUATEMALA
REFRESH-INTERVAL;VALUE=DURATION:PT1H
X-Robots-Tag:noindex
X-PUBLISHED-TTL:PT1H
BEGIN:VTIMEZONE
TZID:UTC
BEGIN:STANDARD
TZOFFSETFROM:+0000
TZOFFSETTO:+0000
TZNAME:UTC
DTSTART:20230101T000000
END:STANDARD
END:VTIMEZONE
BEGIN:VEVENT
DTSTART;TZID=UTC:20230401T080000
DTEND;TZID=UTC:20230430T170000
DTSTAMP:20260419T131025
CREATED:20230404T184432Z
LAST-MODIFIED:20230404T184924Z
UID:10000517-1680336000-1682874000@laantiguaguatemala.com
SUMMARY:Exposición colectiva
DESCRIPTION:Magda Eunice Sánchez\, Guillermo Grajeda Mena y Arnoldo Ramírez Amaya.  \nPaseo de los Museo Costo: Q48.00
URL:https://laantiguaguatemala.com/event/exposicion-colectiva-3/
LOCATION:Atardeceres musicales – Proyecto Luis de Lión\, Santa Inés del Monte Pulciano
END:VEVENT
BEGIN:VEVENT
DTSTART;TZID=UTC:20230401T090000
DTEND;TZID=UTC:20230430T180000
DTSTAMP:20260419T131025
CREATED:20230203T211119Z
LAST-MODIFIED:20230404T183539Z
UID:10000425-1680339600-1682877600@laantiguaguatemala.com
SUMMARY:Exposición de Pintura
DESCRIPTION:Pinturas de Ana María Martínez Sobral\, Ramón Ávila y\n“La Seguridad Social” por González Goyri
URL:https://laantiguaguatemala.com/event/exposicion-de-pintura-6/
LOCATION:Atardeceres musicales – Proyecto Luis de Lión\, Santa Inés del Monte Pulciano
END:VEVENT
BEGIN:VEVENT
DTSTART;TZID=UTC:20230401T090000
DTEND;TZID=UTC:20230430T180000
DTSTAMP:20260419T131025
CREATED:20230404T183429Z
LAST-MODIFIED:20230404T183429Z
UID:10000515-1680339600-1682877600@laantiguaguatemala.com
SUMMARY:Exposiciones de Arte
DESCRIPTION:Colección Madga Eunice Sánchez\nMural Torre de Babel de Josué Romero\nExposición homenaje a Alfredo Mackenney\nEspiARTE de Veronica Giracca
URL:https://laantiguaguatemala.com/event/exposiciones-de-arte/
LOCATION:Atardeceres musicales – Proyecto Luis de Lión\, Santa Inés del Monte Pulciano
END:VEVENT
BEGIN:VEVENT
DTSTART;TZID=UTC:20230401T090000
DTEND;TZID=UTC:20230430T180000
DTSTAMP:20260419T131025
CREATED:20230404T184842Z
LAST-MODIFIED:20230404T184842Z
UID:10000518-1680339600-1682877600@laantiguaguatemala.com
SUMMARY:Expo-venta ARTE URBANO
DESCRIPTION:Josué Romero\, Karla Higueros y Klara Chavarria\nPaseo de los Museo Costo: Q48.00
URL:https://laantiguaguatemala.com/event/expo-venta-arte-urbano-3/
LOCATION:Atardeceres musicales – Proyecto Luis de Lión\, Santa Inés del Monte Pulciano
END:VEVENT
BEGIN:VEVENT
DTSTART;TZID=UTC:20230401T090000
DTEND;TZID=UTC:20230514T170000
DTSTAMP:20260419T131025
CREATED:20230404T185427Z
LAST-MODIFIED:20230404T185427Z
UID:10000519-1680339600-1684083600@laantiguaguatemala.com
SUMMARY:Exposición Ritos y Rituales de Guatemala: Ensayo de GG
DESCRIPTION:
URL:https://laantiguaguatemala.com/event/exposicion-ritos-y-rituales-de-guatemala-ensayo-de-gg/
LOCATION:Atardeceres musicales – Proyecto Luis de Lión\, Santa Inés del Monte Pulciano
END:VEVENT
BEGIN:VEVENT
DTSTART;TZID=UTC:20230415T130000
DTEND;TZID=UTC:20230415T150000
DTSTAMP:20260419T131025
CREATED:20230404T180237Z
LAST-MODIFIED:20230404T180237Z
UID:10000442-1681563600-1681570800@laantiguaguatemala.com
SUMMARY:Sofi Miranda
DESCRIPTION:Música en vivo
URL:https://laantiguaguatemala.com/event/sofi-miranda/
LOCATION:Atardeceres musicales – Proyecto Luis de Lión\, Santa Inés del Monte Pulciano
END:VEVENT
BEGIN:VEVENT
DTSTART;TZID=UTC:20230416T080000
DTEND;TZID=UTC:20230416T180000
DTSTAMP:20260419T131025
CREATED:20230404T191723Z
LAST-MODIFIED:20230404T191723Z
UID:10000528-1681632000-1681668000@laantiguaguatemala.com
SUMMARY:Activate Antigua
DESCRIPTION:Mercadito de artesanias y productos elaborados por personas emprendoras del departamento de Sacatepéquez
URL:https://laantiguaguatemala.com/event/activate-antigua/
LOCATION:Atardeceres musicales – Proyecto Luis de Lión\, Santa Inés del Monte Pulciano
END:VEVENT
BEGIN:VEVENT
DTSTART;TZID=UTC:20230416T130000
DTEND;TZID=UTC:20230416T150000
DTSTAMP:20260419T131026
CREATED:20230404T180407Z
LAST-MODIFIED:20230404T180407Z
UID:10000443-1681650000-1681657200@laantiguaguatemala.com
SUMMARY:Ana Villa y Pipe Piedras
DESCRIPTION:Música en vivo
URL:https://laantiguaguatemala.com/event/ana-villa-y-pipe-piedras/
LOCATION:Atardeceres musicales – Proyecto Luis de Lión\, Santa Inés del Monte Pulciano
END:VEVENT
BEGIN:VEVENT
DTSTART;TZID=UTC:20230417T090000
DTEND;TZID=UTC:20230417T180000
DTSTAMP:20260419T131026
CREATED:20230404T191814Z
LAST-MODIFIED:20230404T191814Z
UID:10000529-1681722000-1681754400@laantiguaguatemala.com
SUMMARY:Exposición “Arte Metal Reciclado”
DESCRIPTION:
URL:https://laantiguaguatemala.com/event/exposicion-arte-metal-reciclado/
LOCATION:Atardeceres musicales – Proyecto Luis de Lión\, Santa Inés del Monte Pulciano
END:VEVENT
BEGIN:VEVENT
DTSTART;TZID=UTC:20230419T110000
DTEND;TZID=UTC:20230419T123000
DTSTAMP:20260419T131026
CREATED:20230404T191930Z
LAST-MODIFIED:20230404T191930Z
UID:10000530-1681902000-1681907400@laantiguaguatemala.com
SUMMARY:Haroldo Coyoy y su aporte a la plástica guatemalteca (vía Facebook)
DESCRIPTION:Análisis de su trabajo por el crítico de arte Hugo Gutiérrez.  \nFacebook: Centro Cultural Colegio Mayor Santo Tomás de Aquino USAC
URL:https://laantiguaguatemala.com/event/haroldo-coyoy-y-su-aporte-a-la-plastica-guatemalteca-via-facebook/
LOCATION:Atardeceres musicales – Proyecto Luis de Lión\, Santa Inés del Monte Pulciano
END:VEVENT
BEGIN:VEVENT
DTSTART;TZID=UTC:20230419T183000
DTEND;TZID=UTC:20230419T200000
DTSTAMP:20260419T131026
CREATED:20230404T192156Z
LAST-MODIFIED:20230404T192156Z
UID:10000531-1681929000-1681934400@laantiguaguatemala.com
SUMMARY:Taller de conversación: hablemos de nuestras apps (vía zoom)
DESCRIPTION:¿Te interesaría practicar francés y descubrir nuevas aplicaciones útiles?
URL:https://laantiguaguatemala.com/event/taller-de-conversacion-hablemos-de-nuestras-apps-via-zoom/
LOCATION:Atardeceres musicales – Proyecto Luis de Lión\, Santa Inés del Monte Pulciano
END:VEVENT
BEGIN:VEVENT
DTSTART;TZID=UTC:20230420T090000
DTEND;TZID=UTC:20230420T170000
DTSTAMP:20260419T131026
CREATED:20230404T192422Z
LAST-MODIFIED:20230404T192422Z
UID:10000533-1681981200-1682010000@laantiguaguatemala.com
SUMMARY:Mercadito de libros antiguos
DESCRIPTION:En conmemoración al Día Internacional del Libro\, mercadillo de libros seleccionados GRATUITOS
URL:https://laantiguaguatemala.com/event/mercadito-de-libros-antiguos/
LOCATION:Atardeceres musicales – Proyecto Luis de Lión\, Santa Inés del Monte Pulciano
END:VEVENT
BEGIN:VEVENT
DTSTART;TZID=UTC:20230420T163000
DTEND;TZID=UTC:20230420T180000
DTSTAMP:20260419T131026
CREATED:20230404T192336Z
LAST-MODIFIED:20230404T192336Z
UID:10000532-1682008200-1682013600@laantiguaguatemala.com
SUMMARY:Taller de emprendimiento
DESCRIPTION:Tema: Emprendimiento consciente
URL:https://laantiguaguatemala.com/event/taller-de-emprendimiento/
LOCATION:Atardeceres musicales – Proyecto Luis de Lión\, Santa Inés del Monte Pulciano
END:VEVENT
BEGIN:VEVENT
DTSTART;TZID=UTC:20230421T090000
DTEND;TZID=UTC:20230421T170000
DTSTAMP:20260419T131026
CREATED:20230404T192459Z
LAST-MODIFIED:20230404T192459Z
UID:10000534-1682067600-1682096400@laantiguaguatemala.com
SUMMARY:Mercadito de libros antiguos
DESCRIPTION:En conmemoración al Día Internacional del Libro\, mercadillo de libros seleccionados GRATUITOS
URL:https://laantiguaguatemala.com/event/mercadito-de-libros-antiguos-2/
LOCATION:Atardeceres musicales – Proyecto Luis de Lión\, Santa Inés del Monte Pulciano
END:VEVENT
BEGIN:VEVENT
DTSTART;TZID=UTC:20230421T150000
DTEND;TZID=UTC:20230421T170000
DTSTAMP:20260419T131026
CREATED:20230404T192626Z
LAST-MODIFIED:20230404T192626Z
UID:10000535-1682089200-1682096400@laantiguaguatemala.com
SUMMARY:Club de Lectura de CIRMA "Pequeños investigadores"
DESCRIPTION:Invitada especial Valeria Cerezo.\nTaller de escritura creativa\, celebrando el día internacional del libro.\nLectores de 7 a 9 años  15:00 a 15:45 \nLectores de 10 a 12 años  16:00 a 16:45
URL:https://laantiguaguatemala.com/event/club-de-lectura-de-cirma-pequenos-investigadores/
LOCATION:Atardeceres musicales – Proyecto Luis de Lión\, Santa Inés del Monte Pulciano
END:VEVENT
BEGIN:VEVENT
DTSTART;TZID=UTC:20230421T190000
DTEND;TZID=UTC:20230421T210000
DTSTAMP:20260419T131026
CREATED:20230404T180827Z
LAST-MODIFIED:20230404T180827Z
UID:10000444-1682103600-1682110800@laantiguaguatemala.com
SUMMARY:Dj al atardecer y Noche acústica
DESCRIPTION:Dj en vivo y Ana Villa
URL:https://laantiguaguatemala.com/event/dj-al-atardecer-y-noche-acustica/
LOCATION:Atardeceres musicales – Proyecto Luis de Lión\, Santa Inés del Monte Pulciano
END:VEVENT
BEGIN:VEVENT
DTSTART;TZID=UTC:20230422T130000
DTEND;TZID=UTC:20230422T150000
DTSTAMP:20260419T131026
CREATED:20230404T180925Z
LAST-MODIFIED:20230404T180925Z
UID:10000445-1682168400-1682175600@laantiguaguatemala.com
SUMMARY:Kukuli Dueñas
DESCRIPTION:Música en vivo
URL:https://laantiguaguatemala.com/event/kukuli-duenas/
LOCATION:Atardeceres musicales – Proyecto Luis de Lión\, Santa Inés del Monte Pulciano
END:VEVENT
BEGIN:VEVENT
DTSTART;TZID=UTC:20230422T170000
DTEND;TZID=UTC:20230422T183000
DTSTAMP:20260419T131026
CREATED:20230404T192741Z
LAST-MODIFIED:20230404T192741Z
UID:10000536-1682182800-1682188200@laantiguaguatemala.com
SUMMARY:Trasfondo filosófico y político del poema: La Niña de Guatemala
DESCRIPTION:Conferencia presentada por el Lic. Alvaro Morales
URL:https://laantiguaguatemala.com/event/trasfondo-filosofico-y-politico-del-poema-la-nina-de-guatemala/
LOCATION:Atardeceres musicales – Proyecto Luis de Lión\, Santa Inés del Monte Pulciano
END:VEVENT
BEGIN:VEVENT
DTSTART;TZID=UTC:20230423T130000
DTEND;TZID=UTC:20230423T150000
DTSTAMP:20260419T131026
CREATED:20230404T181037Z
LAST-MODIFIED:20230404T181037Z
UID:10000446-1682254800-1682262000@laantiguaguatemala.com
SUMMARY:Gary Tumpa
DESCRIPTION:Música en vivo
URL:https://laantiguaguatemala.com/event/gary-tumpa-2/
LOCATION:Atardeceres musicales – Proyecto Luis de Lión\, Santa Inés del Monte Pulciano
END:VEVENT
BEGIN:VEVENT
DTSTART;TZID=UTC:20230424T100000
DTEND;TZID=UTC:20230428T160000
DTSTAMP:20260419T131026
CREATED:20230404T192833Z
LAST-MODIFIED:20230404T192833Z
UID:10000537-1682330400-1682697600@laantiguaguatemala.com
SUMMARY:Puertas abiertas Biblioteca del CFCE
DESCRIPTION:Visitas guiadas a los diferentes fondos bibliográficos con exposición de libros especiales y antiguos considerados piezas únicas dentro de su acervo. Reservas: 7932 – 3838 Aforo limitado.
URL:https://laantiguaguatemala.com/event/puertas-abiertas-biblioteca-del-cfce/
LOCATION:Atardeceres musicales – Proyecto Luis de Lión\, Santa Inés del Monte Pulciano
END:VEVENT
BEGIN:VEVENT
DTSTART;TZID=UTC:20230425T090000
DTEND;TZID=UTC:20230425T130000
DTSTAMP:20260419T131026
CREATED:20230404T193104Z
LAST-MODIFIED:20230404T193104Z
UID:10000539-1682413200-1682427600@laantiguaguatemala.com
SUMMARY:Resuena
DESCRIPTION:Dirigido a empresarios y músicos locales de La Antigua Guatemala para informar sobre la importancia\, beneficios y el valor de la música en los negocios.
URL:https://laantiguaguatemala.com/event/resuena/
LOCATION:Atardeceres musicales – Proyecto Luis de Lión\, Santa Inés del Monte Pulciano
END:VEVENT
BEGIN:VEVENT
DTSTART;TZID=UTC:20230427T183000
DTEND;TZID=UTC:20230427T200000
DTSTAMP:20260419T131026
CREATED:20230404T181218Z
LAST-MODIFIED:20230404T181218Z
UID:10000447-1682620200-1682625600@laantiguaguatemala.com
SUMMARY:Cine bajo las estrellas
DESCRIPTION:Cine al aire libre con pantalla grande en el jardín de El Azote BG
URL:https://laantiguaguatemala.com/event/cine-bajo-las-estrellas-4/
LOCATION:Atardeceres musicales – Proyecto Luis de Lión\, Santa Inés del Monte Pulciano
END:VEVENT
BEGIN:VEVENT
DTSTART;TZID=UTC:20230428T170000
DTEND;TZID=UTC:20230428T180000
DTSTAMP:20260419T131026
CREATED:20230404T181341Z
LAST-MODIFIED:20230404T181341Z
UID:10000448-1682701200-1682704800@laantiguaguatemala.com
SUMMARY:Música al atardecer
DESCRIPTION:Dj en vivo
URL:https://laantiguaguatemala.com/event/musica-al-atardecer/
LOCATION:Atardeceres musicales – Proyecto Luis de Lión\, Santa Inés del Monte Pulciano
END:VEVENT
BEGIN:VEVENT
DTSTART;TZID=UTC:20230428T190000
DTEND;TZID=UTC:20230428T210000
DTSTAMP:20260419T131026
CREATED:20230404T181443Z
LAST-MODIFIED:20230404T181443Z
UID:10000449-1682708400-1682715600@laantiguaguatemala.com
SUMMARY:Noche acústica
DESCRIPTION:Música en vivo con Ana Villa
URL:https://laantiguaguatemala.com/event/noche-acustica-2/
LOCATION:Atardeceres musicales – Proyecto Luis de Lión\, Santa Inés del Monte Pulciano
END:VEVENT
BEGIN:VEVENT
DTSTART;TZID=UTC:20230429T130000
DTEND;TZID=UTC:20230429T150000
DTSTAMP:20260419T131026
CREATED:20230404T181553Z
LAST-MODIFIED:20230404T181553Z
UID:10000450-1682773200-1682780400@laantiguaguatemala.com
SUMMARY:Música en vivo
DESCRIPTION:Artista sorpresa
URL:https://laantiguaguatemala.com/event/musica-en-vivo-3/
LOCATION:Atardeceres musicales – Proyecto Luis de Lión\, Santa Inés del Monte Pulciano
END:VEVENT
BEGIN:VEVENT
DTSTART;TZID=UTC:20230429T150000
DTEND;TZID=UTC:20230429T170000
DTSTAMP:20260419T131026
CREATED:20230404T193015Z
LAST-MODIFIED:20230404T193015Z
UID:10000538-1682780400-1682787600@laantiguaguatemala.com
SUMMARY:Celebración del Día Internacional de la Danza
DESCRIPTION:Con la participación de la Escuela de Danza Spiral dirigido por la maestra Stefanie Toledo
URL:https://laantiguaguatemala.com/event/celebracion-del-dia-internacional-de-la-danza/
LOCATION:Atardeceres musicales – Proyecto Luis de Lión\, Santa Inés del Monte Pulciano
END:VEVENT
BEGIN:VEVENT
DTSTART;TZID=UTC:20230430T130000
DTEND;TZID=UTC:20230430T150000
DTSTAMP:20260419T131026
CREATED:20230404T181651Z
LAST-MODIFIED:20230404T181651Z
UID:10000451-1682859600-1682866800@laantiguaguatemala.com
SUMMARY:Jona Mendéz
DESCRIPTION:Música en vivo
URL:https://laantiguaguatemala.com/event/jona-mendez-3/
LOCATION:Atardeceres musicales – Proyecto Luis de Lión\, Santa Inés del Monte Pulciano
END:VEVENT
BEGIN:VEVENT
DTSTART;TZID=UTC:20230601T090000
DTEND;TZID=UTC:20230630T180000
DTSTAMP:20260419T131026
CREATED:20230601T211611Z
LAST-MODIFIED:20230601T211853Z
UID:10001348-1685610000-1688148000@laantiguaguatemala.com
SUMMARY:Exposición “Guatemala Multi”
DESCRIPTION:Dirección creativa por: Sofía Hegel \nSale del corazón de un grupo de artistas\, diseñadores y artesanos que llevan el nombre de Guatemala en alto.\nGuatemala multilingüística\, multifacética\, multicultural\, multisensorial\, esta es una propuesta de diseño\, arte\, gastronomía\, fotografía\, música y creatividad\, donde se unen varios talentos para generar un mismo movimiento\, un mismo momento y un mismo evento que impactará a nivel económico\, social y comunitario. \nArtistas Participantes:\n·         Isabela Springmühl\, Diseño de modas\n·         Chef Mario Campollo\, Gastronomía\n·         Sofía Miranda\, Música\n·         Mónica Torrebiarte\, Arte plástico\n·         Rodrigo Santa Cruz Anchissi\, Escultura\n·         Jorge Chavarría\, Fotografía\n·         Mod Cárdenas\, Pintura
URL:https://laantiguaguatemala.com/event/exposicion-guatemala-multi/
LOCATION:Atardeceres musicales – Proyecto Luis de Lión\, Santa Inés del Monte Pulciano
END:VEVENT
BEGIN:VEVENT
DTSTART;TZID=UTC:20230601T180000
DTEND;TZID=UTC:20230601T193000
DTSTAMP:20260419T131026
CREATED:20230601T205720Z
LAST-MODIFIED:20230601T205720Z
UID:10000561-1685642400-1685647800@laantiguaguatemala.com
SUMMARY:Macky notas
DESCRIPTION:Inauguración de la exposición de caricaturas del artista antigüeño Macky Alegría.
URL:https://laantiguaguatemala.com/event/macky-notas/
LOCATION:Atardeceres musicales – Proyecto Luis de Lión\, Santa Inés del Monte Pulciano
END:VEVENT
BEGIN:VEVENT
DTSTART;TZID=UTC:20230603T150000
DTEND;TZID=UTC:20230603T170000
DTSTAMP:20260419T131026
CREATED:20230601T204400Z
LAST-MODIFIED:20230601T204400Z
UID:10000554-1685804400-1685811600@laantiguaguatemala.com
SUMMARY:Iniciación a la salsa
DESCRIPTION:Aprende los pasos básicos de la salsa y déjate llevar por la música en una tarde llena de energía y diversión. \nInscripciones por Whatsapp: +502 3645 7742
URL:https://laantiguaguatemala.com/event/iniciacion-a-la-salsa/
LOCATION:Atardeceres musicales – Proyecto Luis de Lión\, Santa Inés del Monte Pulciano
END:VEVENT
END:VCALENDAR