BEGIN:VCALENDAR
VERSION:2.0
PRODID:-//LA ANTIGUA GUATEMALA - ECPv6.0.3.1//NONSGML v1.0//EN
CALSCALE:GREGORIAN
METHOD:PUBLISH
X-ORIGINAL-URL:https://laantiguaguatemala.com
X-WR-CALDESC:Events for LA ANTIGUA GUATEMALA
REFRESH-INTERVAL;VALUE=DURATION:PT1H
X-Robots-Tag:noindex
X-PUBLISHED-TTL:PT1H
BEGIN:VTIMEZONE
TZID:UTC
BEGIN:STANDARD
TZOFFSETFROM:+0000
TZOFFSETTO:+0000
TZNAME:UTC
DTSTART:20220101T000000
END:STANDARD
END:VTIMEZONE
BEGIN:VEVENT
DTSTART;VALUE=DATE:20220901
DTEND;VALUE=DATE:20221001
DTSTAMP:20260420T024730
CREATED:20220902T191313Z
LAST-MODIFIED:20220902T191313Z
UID:10000225-1661990400-1664582399@laantiguaguatemala.com
SUMMARY:El paseo de los museos – Sala Marco Augusto Quiroa
DESCRIPTION:Pinturas Marco Augusto Quiroa Piezas arqueológicas propiedad de Casa Santo Domingo 200 Legado Muestra fotográfica Danny Gambia & Sergio Cruz.\nCosto: Incluye 6 museos y dos galerías de arte
URL:https://laantiguaguatemala.com/event/el-paseo-de-los-museos/
LOCATION:Atardeceres musicales – Proyecto Luis de Lión\, Santa Inés del Monte Pulciano
END:VEVENT
BEGIN:VEVENT
DTSTART;VALUE=DATE:20220901
DTEND;VALUE=DATE:20221001
DTSTAMP:20260420T024730
CREATED:20220902T194021Z
LAST-MODIFIED:20220902T194021Z
UID:10000228-1661990400-1664582399@laantiguaguatemala.com
SUMMARY:Exposiciones privadas
DESCRIPTION:Exposición privada Rolando Ixquiac Xicará & Colección privada de Josué Romero
URL:https://laantiguaguatemala.com/event/exposiciones/
LOCATION:Atardeceres musicales – Proyecto Luis de Lión\, Santa Inés del Monte Pulciano
END:VEVENT
BEGIN:VEVENT
DTSTART;VALUE=DATE:20220901
DTEND;VALUE=DATE:20221001
DTSTAMP:20260420T024730
CREATED:20220902T194116Z
LAST-MODIFIED:20220902T194116Z
UID:10000229-1661990400-1664582399@laantiguaguatemala.com
SUMMARY:Exposición PRIMITIVISTA
DESCRIPTION:Hondas\, jícaros\, estribos\, sillas\, espadas\, entre otros.
URL:https://laantiguaguatemala.com/event/exposicion-primitivista/
LOCATION:Atardeceres musicales – Proyecto Luis de Lión\, Santa Inés del Monte Pulciano
END:VEVENT
BEGIN:VEVENT
DTSTART;VALUE=DATE:20220901
DTEND;VALUE=DATE:20221001
DTSTAMP:20260420T024730
CREATED:20220902T194217Z
LAST-MODIFIED:20220902T194217Z
UID:10000230-1661990400-1664582399@laantiguaguatemala.com
SUMMARY:Exposición de pintura
DESCRIPTION:Ana María Martínez Sobral
URL:https://laantiguaguatemala.com/event/exposicion-de-pintura/
LOCATION:Atardeceres musicales – Proyecto Luis de Lión\, Santa Inés del Monte Pulciano
END:VEVENT
BEGIN:VEVENT
DTSTART;VALUE=DATE:20220901
DTEND;VALUE=DATE:20221001
DTSTAMP:20260420T024730
CREATED:20220902T194327Z
LAST-MODIFIED:20220902T194327Z
UID:10000231-1661990400-1664582399@laantiguaguatemala.com
SUMMARY:Exposición colectiva -Santo Domingo del Cerro
DESCRIPTION:«Colección Magda Eunice Sánchez\, Mural Torre de Babel\, Josué Romero.\nExposición HOMENAJE A ALFREDO MACKENNEY – Museo de Magda Eunice Sánchez»
URL:https://laantiguaguatemala.com/event/exposicion-temporal/
LOCATION:Atardeceres musicales – Proyecto Luis de Lión\, Santa Inés del Monte Pulciano
END:VEVENT
BEGIN:VEVENT
DTSTART;VALUE=DATE:20220901
DTEND;VALUE=DATE:20221001
DTSTAMP:20260420T024730
CREATED:20220902T194434Z
LAST-MODIFIED:20220902T194434Z
UID:10000232-1661990400-1664582399@laantiguaguatemala.com
SUMMARY:Exposición temporal Roberto González Goyri
DESCRIPTION:«Lienzos de los murales Obra: LA RELIGIÓN – Artista Roberto González Goyri Requiém a siete Voces de Jaime Bishof Pintura Ramón Avila y la seguridad social por Gonzalez Goyri»
URL:https://laantiguaguatemala.com/event/exposicion-temporal-2/
LOCATION:Atardeceres musicales – Proyecto Luis de Lión\, Santa Inés del Monte Pulciano
END:VEVENT
BEGIN:VEVENT
DTSTART;VALUE=DATE:20220901
DTEND;VALUE=DATE:20221001
DTSTAMP:20260420T024730
CREATED:20220902T194537Z
LAST-MODIFIED:20220902T194537Z
UID:10000233-1661990400-1664582399@laantiguaguatemala.com
SUMMARY:Exposición temporal – Alexandra Grant
DESCRIPTION:Mural Alexandra Grant
URL:https://laantiguaguatemala.com/event/exposicion-temporal-3/
LOCATION:Atardeceres musicales – Proyecto Luis de Lión\, Santa Inés del Monte Pulciano
END:VEVENT
BEGIN:VEVENT
DTSTART;VALUE=DATE:20220901
DTEND;VALUE=DATE:20221001
DTSTAMP:20260420T024730
CREATED:20220902T194635Z
LAST-MODIFIED:20220902T194635Z
UID:10000234-1661990400-1664582399@laantiguaguatemala.com
SUMMARY:Exposición temporal – Guillermo Grajeda Mena
DESCRIPTION:Artista Guillermo Grajeda Mena
URL:https://laantiguaguatemala.com/event/exposicion-temporal-4/
LOCATION:Atardeceres musicales – Proyecto Luis de Lión\, Santa Inés del Monte Pulciano
END:VEVENT
BEGIN:VEVENT
DTSTART;VALUE=DATE:20220901
DTEND;VALUE=DATE:20221001
DTSTAMP:20260420T024730
CREATED:20220902T194720Z
LAST-MODIFIED:20220902T194720Z
UID:10000235-1661990400-1664582399@laantiguaguatemala.com
SUMMARY:Exposición temporal – José Gregorio Leiva
DESCRIPTION:Artista José Gregorio Leiva
URL:https://laantiguaguatemala.com/event/exposicion-temporal-5/
LOCATION:Atardeceres musicales – Proyecto Luis de Lión\, Santa Inés del Monte Pulciano
END:VEVENT
BEGIN:VEVENT
DTSTART;VALUE=DATE:20220901
DTEND;VALUE=DATE:20221001
DTSTAMP:20260420T024730
CREATED:20220902T194803Z
LAST-MODIFIED:20220902T194803Z
UID:10000236-1661990400-1664582399@laantiguaguatemala.com
SUMMARY:Exposición temporal – Elmar Rojas
DESCRIPTION:Elmar Rojas – Grupo Vertebra
URL:https://laantiguaguatemala.com/event/exposicion-temporal-6/
LOCATION:Atardeceres musicales – Proyecto Luis de Lión\, Santa Inés del Monte Pulciano
END:VEVENT
BEGIN:VEVENT
DTSTART;VALUE=DATE:20220901
DTEND;VALUE=DATE:20221001
DTSTAMP:20260420T024731
CREATED:20220902T194857Z
LAST-MODIFIED:20220902T194857Z
UID:10000237-1661990400-1664582399@laantiguaguatemala.com
SUMMARY:Exposición colectiva – Santo Domingo del Cerro
DESCRIPTION:MUSEO: Quiroa\, Gonzalez Goyri\, Carlos Mérida\, Jorge Sarmiento\, Amerigo Giracca.
URL:https://laantiguaguatemala.com/event/exposicion-temporal-7/
LOCATION:Atardeceres musicales – Proyecto Luis de Lión\, Santa Inés del Monte Pulciano
END:VEVENT
BEGIN:VEVENT
DTSTART;TZID=UTC:20220901T080000
DTEND;TZID=UTC:20220930T180000
DTSTAMP:20260420T024731
CREATED:20220902T193739Z
LAST-MODIFIED:20220902T193739Z
UID:10000226-1662019200-1664560800@laantiguaguatemala.com
SUMMARY:El paseo de los museos – Fotografía y pintura
DESCRIPTION:Exposición fotográfica Yohei Nishida\nExposición de pinturas de José Gregorio Leiva\nTrajes de Opera de Mosaico\nCosto: Incluye 6 museos y dos galerías de arte
URL:https://laantiguaguatemala.com/event/el-paseo-de-los-museos-2/
LOCATION:Atardeceres musicales – Proyecto Luis de Lión\, Santa Inés del Monte Pulciano
END:VEVENT
BEGIN:VEVENT
DTSTART;TZID=UTC:20220901T090000
DTEND;TZID=UTC:20220930T180000
DTSTAMP:20260420T024731
CREATED:20220902T193858Z
LAST-MODIFIED:20220902T193858Z
UID:10000227-1662022800-1664560800@laantiguaguatemala.com
SUMMARY:El paseo de los museos – Arte Urbano
DESCRIPTION:Exposición venta. Arte Urbano: Josué Romero\, Mod Cárdenas y Karla Higueros
URL:https://laantiguaguatemala.com/event/el-paseo-de-los-museos-3/
LOCATION:Atardeceres musicales – Proyecto Luis de Lión\, Santa Inés del Monte Pulciano
END:VEVENT
BEGIN:VEVENT
DTSTART;VALUE=DATE:20220902
DTEND;VALUE=DATE:20220927
DTSTAMP:20260420T024731
CREATED:20220902T190222Z
LAST-MODIFIED:20220902T190222Z
UID:10000224-1662076800-1664236799@laantiguaguatemala.com
SUMMARY:Exposición Fotográfica SERENITY
DESCRIPTION:Dedicada a la memoria de «Tia Sheny». Disponible hasta el 26 de septiembre
URL:https://laantiguaguatemala.com/event/exposicion-fotografica-serenity/
LOCATION:Atardeceres musicales – Proyecto Luis de Lión\, Santa Inés del Monte Pulciano
END:VEVENT
BEGIN:VEVENT
DTSTART;TZID=UTC:20220912T103000
DTEND;TZID=UTC:20220912T120000
DTSTAMP:20260420T024731
CREATED:20220902T203159Z
LAST-MODIFIED:20220902T203159Z
UID:10000254-1662978600-1662984000@laantiguaguatemala.com
SUMMARY:Festival del arte por la independencia
DESCRIPTION:Bailes folklóricos\, marimba\, conferencias y más
URL:https://laantiguaguatemala.com/event/festival-del-arte-por-la-independencia/
LOCATION:Atardeceres musicales – Proyecto Luis de Lión\, Santa Inés del Monte Pulciano
END:VEVENT
BEGIN:VEVENT
DTSTART;TZID=UTC:20220912T180000
DTEND;TZID=UTC:20220912T210000
DTSTAMP:20260420T024731
CREATED:20220902T203056Z
LAST-MODIFIED:20220902T203056Z
UID:10000253-1663005600-1663016400@laantiguaguatemala.com
SUMMARY:Movie Night
DESCRIPTION:Visita nuestro cinema mientras ves las mejores películas
URL:https://laantiguaguatemala.com/event/movie-night-7/
LOCATION:Atardeceres musicales – Proyecto Luis de Lión\, Santa Inés del Monte Pulciano
END:VEVENT
BEGIN:VEVENT
DTSTART;TZID=UTC:20220914T160000
DTEND;TZID=UTC:20220914T180000
DTSTAMP:20260420T024731
CREATED:20220902T203255Z
LAST-MODIFIED:20220902T203255Z
UID:10000255-1663171200-1663178400@laantiguaguatemala.com
SUMMARY:Juan Carlos Calderón – Pintor – Virtual
DESCRIPTION:Análisis de su obra a tráves del ojo crítico del Sr. Hugo Guitierrez
URL:https://laantiguaguatemala.com/event/juan-carlos-calderon-pintor-virtual/
LOCATION:Atardeceres musicales – Proyecto Luis de Lión\, Santa Inés del Monte Pulciano
END:VEVENT
BEGIN:VEVENT
DTSTART;TZID=UTC:20220914T180000
DTEND;TZID=UTC:20220914T193000
DTSTAMP:20260420T024731
CREATED:20220902T203403Z
LAST-MODIFIED:20220902T203403Z
UID:10000256-1663178400-1663183800@laantiguaguatemala.com
SUMMARY:Miércoles de Cine – El Silencio del Topo
DESCRIPTION:Anaïs Taracena / Guatemala / 2021 / 91 min. Proyectado en más de 40 festivales de cine y ganador de 11 premios internacionales
URL:https://laantiguaguatemala.com/event/miercoles-de-cine-el-silencio-del-topo/
LOCATION:Atardeceres musicales – Proyecto Luis de Lión\, Santa Inés del Monte Pulciano
END:VEVENT
BEGIN:VEVENT
DTSTART;TZID=UTC:20220914T190000
DTEND;TZID=UTC:20220914T200000
DTSTAMP:20260420T024731
CREATED:20220902T203459Z
LAST-MODIFIED:20220902T203459Z
UID:10000257-1663182000-1663185600@laantiguaguatemala.com
SUMMARY:Clase de Salsa
DESCRIPTION:¿Qué tal una clase de salsa con la increible instructora Nancy?
URL:https://laantiguaguatemala.com/event/clase-de-salsa-3/
LOCATION:Atardeceres musicales – Proyecto Luis de Lión\, Santa Inés del Monte Pulciano
END:VEVENT
BEGIN:VEVENT
DTSTART;TZID=UTC:20220915T110000
DTEND;TZID=UTC:20220915T150000
DTSTAMP:20260420T024731
CREATED:20220902T203750Z
LAST-MODIFIED:20220902T203750Z
UID:10000259-1663239600-1663254000@laantiguaguatemala.com
SUMMARY:Estampas tradicionales de Guatemala
DESCRIPTION:
URL:https://laantiguaguatemala.com/event/estampas-tradicionales-de-guatemala-2/
LOCATION:Atardeceres musicales – Proyecto Luis de Lión\, Santa Inés del Monte Pulciano
END:VEVENT
BEGIN:VEVENT
DTSTART;TZID=UTC:20220918T100000
DTEND;TZID=UTC:20220918T160000
DTSTAMP:20260420T024731
CREATED:20220902T203831Z
LAST-MODIFIED:20220902T203831Z
UID:10000260-1663495200-1663516800@laantiguaguatemala.com
SUMMARY:Mercadito
DESCRIPTION:
URL:https://laantiguaguatemala.com/event/mercadito-3/
LOCATION:Atardeceres musicales – Proyecto Luis de Lión\, Santa Inés del Monte Pulciano
END:VEVENT
BEGIN:VEVENT
DTSTART;TZID=UTC:20220918T130000
DTEND;TZID=UTC:20220918T160000
DTSTAMP:20260420T024731
CREATED:20220405T162855Z
LAST-MODIFIED:20220405T162855Z
UID:10000041-1663506000-1663516800@laantiguaguatemala.com
SUMMARY:Marimba en vivo
DESCRIPTION:Todos los domingos. Entrada por consumo
URL:https://laantiguaguatemala.com/event/marimba-en-vivo/2022-09-18/
LOCATION:Atardeceres musicales – Proyecto Luis de Lión\, Santa Inés del Monte Pulciano
END:VEVENT
BEGIN:VEVENT
DTSTART;TZID=UTC:20220918T160000
DTEND;TZID=UTC:20220918T180000
DTSTAMP:20260420T024731
CREATED:20220902T203921Z
LAST-MODIFIED:20220902T203921Z
UID:10000261-1663516800-1663524000@laantiguaguatemala.com
SUMMARY:Ensamble de Maderas
DESCRIPTION:
URL:https://laantiguaguatemala.com/event/ensamble-de-maderas/
LOCATION:Atardeceres musicales – Proyecto Luis de Lión\, Santa Inés del Monte Pulciano
END:VEVENT
BEGIN:VEVENT
DTSTART;TZID=UTC:20220918T160000
DTEND;TZID=UTC:20220918T180000
DTSTAMP:20260420T024731
CREATED:20220902T204024Z
LAST-MODIFIED:20220902T204024Z
UID:10000262-1663516800-1663524000@laantiguaguatemala.com
SUMMARY:Paint and Drink
DESCRIPTION:Un espacio enfocado en la creatividad y la convivencia\, donde podrás pintar tu propio cuadro mientras bebes un buen cocktail
URL:https://laantiguaguatemala.com/event/paint-and-drink-3/
LOCATION:Atardeceres musicales – Proyecto Luis de Lión\, Santa Inés del Monte Pulciano
END:VEVENT
BEGIN:VEVENT
DTSTART;TZID=UTC:20220919T180000
DTEND;TZID=UTC:20220919T210000
DTSTAMP:20260420T024731
CREATED:20220902T204219Z
LAST-MODIFIED:20220902T204219Z
UID:10000263-1663610400-1663621200@laantiguaguatemala.com
SUMMARY:Movie Night
DESCRIPTION:Visita nuestro cinema mientras ves las mejores películas
URL:https://laantiguaguatemala.com/event/movie-night-8/
LOCATION:Atardeceres musicales – Proyecto Luis de Lión\, Santa Inés del Monte Pulciano
END:VEVENT
BEGIN:VEVENT
DTSTART;TZID=UTC:20220921T160000
DTEND;TZID=UTC:20220921T170000
DTSTAMP:20260420T024731
CREATED:20220902T204324Z
LAST-MODIFIED:20220902T204324Z
UID:10000264-1663776000-1663779600@laantiguaguatemala.com
SUMMARY:Poesía – Virtual
DESCRIPTION:Video narrativo con el apoyo de la epesista Ana Lucía del Cid
URL:https://laantiguaguatemala.com/event/poesia-virtual/
LOCATION:Atardeceres musicales – Proyecto Luis de Lión\, Santa Inés del Monte Pulciano
END:VEVENT
BEGIN:VEVENT
DTSTART;TZID=UTC:20220921T190000
DTEND;TZID=UTC:20220921T200000
DTSTAMP:20260420T024731
CREATED:20220902T204408Z
LAST-MODIFIED:20220902T204408Z
UID:10000265-1663786800-1663790400@laantiguaguatemala.com
SUMMARY:Clase de Salsa
DESCRIPTION:¿Qué tal una clase de salsa con la increible instructora Nancy?
URL:https://laantiguaguatemala.com/event/clase-de-salsa-4/
LOCATION:Atardeceres musicales – Proyecto Luis de Lión\, Santa Inés del Monte Pulciano
END:VEVENT
BEGIN:VEVENT
DTSTART;TZID=UTC:20220922T190000
DTEND;TZID=UTC:20220922T210000
DTSTAMP:20260420T024731
CREATED:20220902T204938Z
LAST-MODIFIED:20220902T204938Z
UID:10000268-1663873200-1663880400@laantiguaguatemala.com
SUMMARY:Improvisación teatral
DESCRIPTION:Espectáculo de formato largo\, donde se crean dos historias independientes
URL:https://laantiguaguatemala.com/event/improvisacion-teatral/
LOCATION:Atardeceres musicales – Proyecto Luis de Lión\, Santa Inés del Monte Pulciano
END:VEVENT
BEGIN:VEVENT
DTSTART;TZID=UTC:20220925T100000
DTEND;TZID=UTC:20220925T160000
DTSTAMP:20260420T024731
CREATED:20220902T205023Z
LAST-MODIFIED:20220902T205023Z
UID:10000269-1664100000-1664121600@laantiguaguatemala.com
SUMMARY:Mercadito
DESCRIPTION:
URL:https://laantiguaguatemala.com/event/mercadito-4/
LOCATION:Atardeceres musicales – Proyecto Luis de Lión\, Santa Inés del Monte Pulciano
END:VEVENT
BEGIN:VEVENT
DTSTART;TZID=UTC:20220925T130000
DTEND;TZID=UTC:20220925T160000
DTSTAMP:20260420T024731
CREATED:20220405T162855Z
LAST-MODIFIED:20220405T162855Z
UID:10000042-1664110800-1664121600@laantiguaguatemala.com
SUMMARY:Marimba en vivo
DESCRIPTION:Todos los domingos. Entrada por consumo
URL:https://laantiguaguatemala.com/event/marimba-en-vivo/2022-09-25/
LOCATION:Atardeceres musicales – Proyecto Luis de Lión\, Santa Inés del Monte Pulciano
END:VEVENT
END:VCALENDAR