BEGIN:VCALENDAR
VERSION:2.0
PRODID:-//LA ANTIGUA GUATEMALA - ECPv6.0.3.1//NONSGML v1.0//EN
CALSCALE:GREGORIAN
METHOD:PUBLISH
X-ORIGINAL-URL:https://laantiguaguatemala.com
X-WR-CALDESC:Events for LA ANTIGUA GUATEMALA
REFRESH-INTERVAL;VALUE=DURATION:PT1H
X-Robots-Tag:noindex
X-PUBLISHED-TTL:PT1H
BEGIN:VTIMEZONE
TZID:UTC
BEGIN:STANDARD
TZOFFSETFROM:+0000
TZOFFSETTO:+0000
TZNAME:UTC
DTSTART:20220101T000000
END:STANDARD
END:VTIMEZONE
BEGIN:VEVENT
DTSTART;TZID=UTC:20220720T183000
DTEND;TZID=UTC:20220720T193000
DTSTAMP:20260420T072654
CREATED:20220704T215500Z
LAST-MODIFIED:20220704T215500Z
UID:10000186-1658341800-1658345400@laantiguaguatemala.com
SUMMARY:Taller de conversación
DESCRIPTION:¿Te interesaría conocer más sobre las vacaciones en Francia? En julio empiezan las vacaciones de verano para todos los alumnos franceses. Este mes es una buena ocasión para hablar de las vacaciones en Francia
URL:https://laantiguaguatemala.com/event/taller-de-conversacion-2/
LOCATION:Atardeceres musicales – Proyecto Luis de Lión\, Santa Inés del Monte Pulciano
END:VEVENT
BEGIN:VEVENT
DTSTART;TZID=UTC:20220722T190000
DTEND;TZID=UTC:20220722T210000
DTSTAMP:20260420T072654
CREATED:20220704T215844Z
LAST-MODIFIED:20220704T215844Z
UID:10000187-1658516400-1658523600@laantiguaguatemala.com
SUMMARY:Monti Sax
DESCRIPTION:Música en vivo. Por consumo
URL:https://laantiguaguatemala.com/event/monti-sax-2/
LOCATION:Atardeceres musicales – Proyecto Luis de Lión\, Santa Inés del Monte Pulciano
END:VEVENT
BEGIN:VEVENT
DTSTART;TZID=UTC:20220723T190000
DTEND;TZID=UTC:20220723T210000
DTSTAMP:20260420T072654
CREATED:20220704T220007Z
LAST-MODIFIED:20220704T220007Z
UID:10000188-1658602800-1658610000@laantiguaguatemala.com
SUMMARY:Candy Valle
DESCRIPTION:Música en vivo. Por consumo
URL:https://laantiguaguatemala.com/event/candy-valle-18/
LOCATION:Atardeceres musicales – Proyecto Luis de Lión\, Santa Inés del Monte Pulciano
END:VEVENT
BEGIN:VEVENT
DTSTART;TZID=UTC:20220724T100000
DTEND;TZID=UTC:20220724T120000
DTSTAMP:20260420T072654
CREATED:20220704T220132Z
LAST-MODIFIED:20220704T220132Z
UID:10000189-1658656800-1658664000@laantiguaguatemala.com
SUMMARY:Los de Rivera
DESCRIPTION:Música en vivo. Por consumo
URL:https://laantiguaguatemala.com/event/los-de-rivera-3/
LOCATION:Atardeceres musicales – Proyecto Luis de Lión\, Santa Inés del Monte Pulciano
END:VEVENT
BEGIN:VEVENT
DTSTART;TZID=UTC:20220724T130000
DTEND;TZID=UTC:20220724T160000
DTSTAMP:20260420T072654
CREATED:20220405T162855Z
LAST-MODIFIED:20220405T162855Z
UID:10000033-1658667600-1658678400@laantiguaguatemala.com
SUMMARY:Marimba en vivo
DESCRIPTION:Todos los domingos. Entrada por consumo
URL:https://laantiguaguatemala.com/event/marimba-en-vivo/2022-07-24/
LOCATION:Atardeceres musicales – Proyecto Luis de Lión\, Santa Inés del Monte Pulciano
END:VEVENT
BEGIN:VEVENT
DTSTART;TZID=UTC:20220725T080000
DTEND;TZID=UTC:20220725T230000
DTSTAMP:20260420T072654
CREATED:20220704T220528Z
LAST-MODIFIED:20220704T220528Z
UID:10000190-1658736000-1658790000@laantiguaguatemala.com
SUMMARY:Movie Night
DESCRIPTION:Visita nuestro cinema mientras ves las mejores películas. Todos los lunes del mes
URL:https://laantiguaguatemala.com/event/movie-night-4/
LOCATION:Atardeceres musicales – Proyecto Luis de Lión\, Santa Inés del Monte Pulciano
END:VEVENT
BEGIN:VEVENT
DTSTART;TZID=UTC:20220729T110000
DTEND;TZID=UTC:20220729T130000
DTSTAMP:20260420T072654
CREATED:20220704T220942Z
LAST-MODIFIED:20220704T220942Z
UID:10000193-1659092400-1659099600@laantiguaguatemala.com
SUMMARY:Tour por las cafeterías de Antigua Guatemala
DESCRIPTION:¿Quieres conocer los mejores lugares locales para degustar la perfecta taza de café? Únete a nuestro tour y obtén las mejores recomendaciones. Todos los viernes del mes.
URL:https://laantiguaguatemala.com/event/tour-por-las-cafeterias-de-antigua-guatemala-3/
LOCATION:Atardeceres musicales – Proyecto Luis de Lión\, Santa Inés del Monte Pulciano
END:VEVENT
BEGIN:VEVENT
DTSTART;TZID=UTC:20220729T160000
DTEND;TZID=UTC:20220729T180000
DTSTAMP:20260420T072654
CREATED:20220704T221234Z
LAST-MODIFIED:20220704T221234Z
UID:10000194-1659110400-1659117600@laantiguaguatemala.com
SUMMARY:Rudeloop
DESCRIPTION:Concierto de clarinete: acércate al bar/restaurante de Selina y escucha a Mario Gonzáles desde Costa Rica.
URL:https://laantiguaguatemala.com/event/rudeloop-10/
LOCATION:Atardeceres musicales – Proyecto Luis de Lión\, Santa Inés del Monte Pulciano
END:VEVENT
BEGIN:VEVENT
DTSTART;TZID=UTC:20220729T190000
DTEND;TZID=UTC:20220729T210000
DTSTAMP:20260420T072654
CREATED:20220704T220808Z
LAST-MODIFIED:20220704T220808Z
UID:10000192-1659121200-1659128400@laantiguaguatemala.com
SUMMARY:Candy Valle
DESCRIPTION:
URL:https://laantiguaguatemala.com/event/candy-valle-19/
LOCATION:Atardeceres musicales – Proyecto Luis de Lión\, Santa Inés del Monte Pulciano
END:VEVENT
BEGIN:VEVENT
DTSTART;TZID=UTC:20220730T190000
DTEND;TZID=UTC:20220730T210000
DTSTAMP:20260420T072654
CREATED:20220704T221505Z
LAST-MODIFIED:20220704T221505Z
UID:10000195-1659207600-1659214800@laantiguaguatemala.com
SUMMARY:Candy Valle
DESCRIPTION:Música en vivo. Por consumo
URL:https://laantiguaguatemala.com/event/candy-valle-20/
LOCATION:Atardeceres musicales – Proyecto Luis de Lión\, Santa Inés del Monte Pulciano
END:VEVENT
BEGIN:VEVENT
DTSTART;TZID=UTC:20220731T100000
DTEND;TZID=UTC:20220731T120000
DTSTAMP:20260420T072654
CREATED:20220704T221636Z
LAST-MODIFIED:20220704T221636Z
UID:10000196-1659261600-1659268800@laantiguaguatemala.com
SUMMARY:Grupo Montuno
DESCRIPTION:Música en vivo. Por consumo
URL:https://laantiguaguatemala.com/event/grupo-montuno-8/
LOCATION:Atardeceres musicales – Proyecto Luis de Lión\, Santa Inés del Monte Pulciano
END:VEVENT
BEGIN:VEVENT
DTSTART;TZID=UTC:20220731T130000
DTEND;TZID=UTC:20220731T160000
DTSTAMP:20260420T072654
CREATED:20220405T162855Z
LAST-MODIFIED:20220405T162855Z
UID:10000034-1659272400-1659283200@laantiguaguatemala.com
SUMMARY:Marimba en vivo
DESCRIPTION:Todos los domingos. Entrada por consumo
URL:https://laantiguaguatemala.com/event/marimba-en-vivo/2022-07-31/
LOCATION:Atardeceres musicales – Proyecto Luis de Lión\, Santa Inés del Monte Pulciano
END:VEVENT
BEGIN:VEVENT
DTSTART;TZID=UTC:20220801T200000
DTEND;TZID=UTC:20220801T230000
DTSTAMP:20260420T072654
CREATED:20220803T181530Z
LAST-MODIFIED:20220803T181530Z
UID:10000197-1659384000-1659394800@laantiguaguatemala.com
SUMMARY:Movie Night
DESCRIPTION:Visita nuestro cinema mientras ves las mejores películas\, todos los lunes del mes.
URL:https://laantiguaguatemala.com/event/movie-night-5/
LOCATION:Atardeceres musicales – Proyecto Luis de Lión\, Santa Inés del Monte Pulciano
END:VEVENT
BEGIN:VEVENT
DTSTART;TZID=UTC:20220803T180000
DTEND;TZID=UTC:20220803T190000
DTSTAMP:20260420T072654
CREATED:20220803T182501Z
LAST-MODIFIED:20220803T182501Z
UID:10000198-1659549600-1659553200@laantiguaguatemala.com
SUMMARY:Club de Lectura
DESCRIPTION:Libro a compartir: La amiga estupenda de Elena Ferrante \nVía zoom
URL:https://laantiguaguatemala.com/event/club-de-lectura-5/
LOCATION:Atardeceres musicales – Proyecto Luis de Lión\, Santa Inés del Monte Pulciano
END:VEVENT
BEGIN:VEVENT
DTSTART;TZID=UTC:20220803T190000
DTEND;TZID=UTC:20220803T200000
DTSTAMP:20260420T072654
CREATED:20220803T183156Z
LAST-MODIFIED:20220803T183156Z
UID:10000199-1659553200-1659556800@laantiguaguatemala.com
SUMMARY:Clase de Salsa
DESCRIPTION:¿Qué tal una clase de salsa con la increíble instructora Nancy? Un curso de baile de 1 hora le ayudará a empezar a bailar salsa como un profesional. Todos los miércoles del mes.
URL:https://laantiguaguatemala.com/event/clase-de-salsa/
LOCATION:Atardeceres musicales – Proyecto Luis de Lión\, Santa Inés del Monte Pulciano
END:VEVENT
BEGIN:VEVENT
DTSTART;TZID=UTC:20220805T100000
DTEND;TZID=UTC:20220805T110000
DTSTAMP:20260420T072654
CREATED:20220803T184658Z
LAST-MODIFIED:20220803T184658Z
UID:10000201-1659693600-1659697200@laantiguaguatemala.com
SUMMARY:Festival de Arte de la USAC
DESCRIPTION:Danza\, arte dramático\, artes visuales\, música; actividad conjunta con la Dirección General de Extensión Universitaria y la Escuela Superior de Arte.
URL:https://laantiguaguatemala.com/event/festival-de-arte-de-la-usac/
LOCATION:Atardeceres musicales – Proyecto Luis de Lión\, Santa Inés del Monte Pulciano
END:VEVENT
BEGIN:VEVENT
DTSTART;TZID=UTC:20220805T170000
DTEND;TZID=UTC:20220807T170000
DTSTAMP:20260420T072654
CREATED:20220803T185046Z
LAST-MODIFIED:20220803T185046Z
UID:10000202-1659718800-1659891600@laantiguaguatemala.com
SUMMARY:Invocación Maya
DESCRIPTION:Inicio del XI Festival de Proyección Folklórica Zoel Valdés
URL:https://laantiguaguatemala.com/event/invocacion-maya/
LOCATION:Atardeceres musicales – Proyecto Luis de Lión\, Santa Inés del Monte Pulciano
END:VEVENT
BEGIN:VEVENT
DTSTART;TZID=UTC:20220805T190000
DTEND;TZID=UTC:20220805T200000
DTSTAMP:20260420T072654
CREATED:20220803T185357Z
LAST-MODIFIED:20220803T185357Z
UID:10000203-1659726000-1659729600@laantiguaguatemala.com
SUMMARY:¡Ay amor\, ya no me quieras tanto!audiovisual teatro experimental
DESCRIPTION:Audiovisual experimental de Xoshil Rose y David Veliz inspirado en la obra de Lucero Millán. Musicalización por Marimba Contemporánea de Guatemala. Después de la proyección habrá un cine-foro con los artistas. Con venta de poporopos y bebidas. Entrada gratuita.
URL:https://laantiguaguatemala.com/event/ay-amor-ya-no-me-quieras-tantoaudiovisual-teatro-experimental/
LOCATION:Atardeceres musicales – Proyecto Luis de Lión\, Santa Inés del Monte Pulciano
END:VEVENT
BEGIN:VEVENT
DTSTART;TZID=UTC:20220805T190000
DTEND;TZID=UTC:20220805T210000
DTSTAMP:20260420T072654
CREATED:20220803T190355Z
LAST-MODIFIED:20220803T190355Z
UID:10000204-1659726000-1659733200@laantiguaguatemala.com
SUMMARY:DJ live Music Set
DESCRIPTION:Acompañanos a disfrutar de la llegada del fin de semana con los mejores djs en vivo. Todos los viernes del mes.
URL:https://laantiguaguatemala.com/event/dj-live-music-set/
LOCATION:Atardeceres musicales – Proyecto Luis de Lión\, Santa Inés del Monte Pulciano
END:VEVENT
BEGIN:VEVENT
DTSTART;TZID=UTC:20220806T100000
DTEND;TZID=UTC:20220806T110000
DTSTAMP:20260420T072654
CREATED:20220803T191240Z
LAST-MODIFIED:20220803T191240Z
UID:10000205-1659780000-1659783600@laantiguaguatemala.com
SUMMARY:Presentación Escolar
DESCRIPTION:Presentación didactica dirigida a Centros Educativos y docentes del VI Festival Folklórico Zoel Valdés
URL:https://laantiguaguatemala.com/event/presentacion-escolar/
LOCATION:Atardeceres musicales – Proyecto Luis de Lión\, Santa Inés del Monte Pulciano
END:VEVENT
BEGIN:VEVENT
DTSTART;TZID=UTC:20220806T100000
DTEND;TZID=UTC:20220806T110000
DTSTAMP:20260420T072654
CREATED:20220803T193250Z
LAST-MODIFIED:20220803T193250Z
UID:10000206-1659780000-1659783600@laantiguaguatemala.com
SUMMARY:Cuerda\, viento\, percusión y danza
DESCRIPTION:Presentación de los alumnos de la academía Mundo Musial G.
URL:https://laantiguaguatemala.com/event/cuerda-viento-percusion-y-danza/
LOCATION:Atardeceres musicales – Proyecto Luis de Lión\, Santa Inés del Monte Pulciano
END:VEVENT
BEGIN:VEVENT
DTSTART;TZID=UTC:20220806T100000
DTEND;TZID=UTC:20220806T160000
DTSTAMP:20260420T072654
CREATED:20220803T200617Z
LAST-MODIFIED:20220803T200617Z
UID:10000210-1659780000-1659801600@laantiguaguatemala.com
SUMMARY:Mercadito local
DESCRIPTION:acercáte a nuestro mercado de variedades\, y así apoyar a los artesanos\, impulsar la economía local y disfrutar de una experiencia única. Todos los Sábados del mes.
URL:https://laantiguaguatemala.com/event/mercadito-local-4/
LOCATION:Atardeceres musicales – Proyecto Luis de Lión\, Santa Inés del Monte Pulciano
END:VEVENT
BEGIN:VEVENT
DTSTART;TZID=UTC:20220806T170000
DTEND;TZID=UTC:20220806T180000
DTSTAMP:20260420T072654
CREATED:20220803T193453Z
LAST-MODIFIED:20220803T193453Z
UID:10000207-1659805200-1659808800@laantiguaguatemala.com
SUMMARY:Desfile folklórico
DESCRIPTION:Recorrido desde la Calle del Arco hasta el Parque Central con los integrantes del Grupo de Proyección Folklórica Zoél Valdés
URL:https://laantiguaguatemala.com/event/desfile-folklorico/
LOCATION:Atardeceres musicales – Proyecto Luis de Lión\, Santa Inés del Monte Pulciano
END:VEVENT
BEGIN:VEVENT
DTSTART;TZID=UTC:20220806T170000
DTEND;TZID=UTC:20220806T180000
DTSTAMP:20260420T072654
CREATED:20220803T193655Z
LAST-MODIFIED:20220803T193655Z
UID:10000208-1659805200-1659808800@laantiguaguatemala.com
SUMMARY:Formas del Sentimiento
DESCRIPTION:Inauguración de la exposición de esculturas del artista Victor Hugo Sánchez \nActividad Virtual
URL:https://laantiguaguatemala.com/event/formas-del-sentimiento/
LOCATION:Atardeceres musicales – Proyecto Luis de Lión\, Santa Inés del Monte Pulciano
END:VEVENT
BEGIN:VEVENT
DTSTART;TZID=UTC:20220806T180000
DTEND;TZID=UTC:20220806T190000
DTSTAMP:20260420T072654
CREATED:20220803T193943Z
LAST-MODIFIED:20220803T193943Z
UID:10000209-1659808800-1659812400@laantiguaguatemala.com
SUMMARY:Inauguración del VI Festival Folklórico Zoel Valdés
DESCRIPTION:Presentación de danzas de proyección folklórica
URL:https://laantiguaguatemala.com/event/inauguracion-del-vi-festival-folklorico-zoel-valdes/
LOCATION:Atardeceres musicales – Proyecto Luis de Lión\, Santa Inés del Monte Pulciano
END:VEVENT
BEGIN:VEVENT
DTSTART;TZID=UTC:20220807T100000
DTEND;TZID=UTC:20220807T160000
DTSTAMP:20260420T072654
CREATED:20220803T204348Z
LAST-MODIFIED:20220803T204348Z
UID:10000213-1659866400-1659888000@laantiguaguatemala.com
SUMMARY:Mercadito local
DESCRIPTION:acercáte a nuestro mercado de variedades\, y así apoyar a los artesanos\, impulsar la economía local y disfrutar de una experiencia única. Todos los domingos del mes.
URL:https://laantiguaguatemala.com/event/mercadito-local-5/
LOCATION:Atardeceres musicales – Proyecto Luis de Lión\, Santa Inés del Monte Pulciano
END:VEVENT
BEGIN:VEVENT
DTSTART;TZID=UTC:20220807T110000
DTEND;TZID=UTC:20220807T170000
DTSTAMP:20260420T072654
CREATED:20220803T203636Z
LAST-MODIFIED:20220803T203636Z
UID:10000211-1659870000-1659891600@laantiguaguatemala.com
SUMMARY:VI Festival Folklórico Zoel Valdés
DESCRIPTION:Por el grupo de proyección folklórcia Zoel Valdés
URL:https://laantiguaguatemala.com/event/vi-festival-folklorico-zoel-valdes/
LOCATION:Atardeceres musicales – Proyecto Luis de Lión\, Santa Inés del Monte Pulciano
END:VEVENT
BEGIN:VEVENT
DTSTART;TZID=UTC:20220807T130000
DTEND;TZID=UTC:20220807T160000
DTSTAMP:20260420T072654
CREATED:20220405T162855Z
LAST-MODIFIED:20220405T162855Z
UID:10000035-1659877200-1659888000@laantiguaguatemala.com
SUMMARY:Marimba en vivo
DESCRIPTION:Todos los domingos. Entrada por consumo
URL:https://laantiguaguatemala.com/event/marimba-en-vivo/2022-08-07/
LOCATION:Atardeceres musicales – Proyecto Luis de Lión\, Santa Inés del Monte Pulciano
END:VEVENT
BEGIN:VEVENT
DTSTART;TZID=UTC:20220807T150000
DTEND;TZID=UTC:20220807T160000
DTSTAMP:20260420T072654
CREATED:20220803T204037Z
LAST-MODIFIED:20220803T204037Z
UID:10000212-1659884400-1659888000@laantiguaguatemala.com
SUMMARY:VI Festival Folklórico Zoel Valdés
DESCRIPTION:
URL:https://laantiguaguatemala.com/event/vi-festival-folklorico-zoel-valdes-2/
LOCATION:Atardeceres musicales – Proyecto Luis de Lión\, Santa Inés del Monte Pulciano
END:VEVENT
BEGIN:VEVENT
DTSTART;TZID=UTC:20220812T170000
DTEND;TZID=UTC:20220812T180000
DTSTAMP:20260420T072654
CREATED:20220803T205107Z
LAST-MODIFIED:20220803T205107Z
UID:10000214-1660323600-1660327200@laantiguaguatemala.com
SUMMARY:Victor Hugo Sanchéz
DESCRIPTION:Análisis de su obra a través del ojo crítico del Sr. Hugo Gutierrez \nactividad virtual\, Facebook: Colegio Mayor Santo Tomás de Aquino USAC
URL:https://laantiguaguatemala.com/event/victor-hugo-sanchez/
LOCATION:Atardeceres musicales – Proyecto Luis de Lión\, Santa Inés del Monte Pulciano
END:VEVENT
END:VCALENDAR