BEGIN:VCALENDAR
VERSION:2.0
PRODID:-//LA ANTIGUA GUATEMALA - ECPv6.0.3.1//NONSGML v1.0//EN
CALSCALE:GREGORIAN
METHOD:PUBLISH
X-ORIGINAL-URL:https://laantiguaguatemala.com
X-WR-CALDESC:Events for LA ANTIGUA GUATEMALA
REFRESH-INTERVAL;VALUE=DURATION:PT1H
X-Robots-Tag:noindex
X-PUBLISHED-TTL:PT1H
BEGIN:VTIMEZONE
TZID:UTC
BEGIN:STANDARD
TZOFFSETFROM:+0000
TZOFFSETTO:+0000
TZNAME:UTC
DTSTART:20220101T000000
END:STANDARD
END:VTIMEZONE
BEGIN:VEVENT
DTSTART;TZID=UTC:20220401T090000
DTEND;TZID=UTC:20220430T190000
DTSTAMP:20260420T124939
CREATED:20220404T164646Z
LAST-MODIFIED:20220404T164646Z
UID:10000004-1648803600-1651345200@laantiguaguatemala.com
SUMMARY:Arte sacro en miniatura
DESCRIPTION:Exposición disponible toda la Semana Santa
URL:https://laantiguaguatemala.com/event/arte-sacro-en-miniatura/
LOCATION:Atardeceres musicales – Proyecto Luis de Lión\, Santa Inés del Monte Pulciano
END:VEVENT
BEGIN:VEVENT
DTSTART;TZID=UTC:20220408T090000
DTEND;TZID=UTC:20220408T170000
DTSTAMP:20260420T124939
CREATED:20220405T163157Z
LAST-MODIFIED:20220405T163157Z
UID:10000047-1649408400-1649437200@laantiguaguatemala.com
SUMMARY:Exposición de enseres
DESCRIPTION:De la Hermandad de la Escuela de Cristo. \nDisponible toda la Semana Santa
URL:https://laantiguaguatemala.com/event/exposicion-de-enseres/
LOCATION:Atardeceres musicales – Proyecto Luis de Lión\, Santa Inés del Monte Pulciano
END:VEVENT
BEGIN:VEVENT
DTSTART;TZID=UTC:20220408T090000
DTEND;TZID=UTC:20220408T170000
DTSTAMP:20260420T124939
CREATED:20220405T163721Z
LAST-MODIFIED:20220405T163721Z
UID:10000049-1649408400-1649437200@laantiguaguatemala.com
SUMMARY:Expo. #CriaturasFurtivas
DESCRIPTION:Muestra de dibujos contemporáneos\, elaborada por las artistas @alba.mandarina y Véronique Simar. \nAbierta al público hasta el 12 de junio. \n 
URL:https://laantiguaguatemala.com/event/expo-criaturasfurtivas/
LOCATION:Atardeceres musicales – Proyecto Luis de Lión\, Santa Inés del Monte Pulciano
END:VEVENT
BEGIN:VEVENT
DTSTART;TZID=UTC:20220408T110000
DTEND;TZID=UTC:20220408T120000
DTSTAMP:20260420T124939
CREATED:20220405T163332Z
LAST-MODIFIED:20220405T163332Z
UID:10000048-1649415600-1649419200@laantiguaguatemala.com
SUMMARY:Un espacio para la literatura
DESCRIPTION:Por Carlos Solórzano y su aporte \nActividad vía Facebook: Colegio Mayor Santo Tomás de Aquino USAC
URL:https://laantiguaguatemala.com/event/un-espacio-para-la-literatura/
LOCATION:Atardeceres musicales – Proyecto Luis de Lión\, Santa Inés del Monte Pulciano
END:VEVENT
BEGIN:VEVENT
DTSTART;TZID=UTC:20220408T180000
DTEND;TZID=UTC:20220408T210000
DTSTAMP:20260420T124939
CREATED:20220405T162504Z
LAST-MODIFIED:20220405T162504Z
UID:10000015-1649440800-1649451600@laantiguaguatemala.com
SUMMARY:Noche Estelar
DESCRIPTION:Observación de estrellas con distintos telescopios con el apoyo de técnicos especializados.
URL:https://laantiguaguatemala.com/event/noche-estelar/
LOCATION:Atardeceres musicales – Proyecto Luis de Lión\, Santa Inés del Monte Pulciano
END:VEVENT
BEGIN:VEVENT
DTSTART;TZID=UTC:20220408T180000
DTEND;TZID=UTC:20220408T210000
DTSTAMP:20260420T124939
CREATED:20220405T164014Z
LAST-MODIFIED:20220405T164014Z
UID:10000050-1649440800-1649451600@laantiguaguatemala.com
SUMMARY:Concierto de Dolores
DESCRIPTION:Recital de marchas fúnebres por Quinteto Strauss. \n 
URL:https://laantiguaguatemala.com/event/concierto-de-dolores/
LOCATION:Atardeceres musicales – Proyecto Luis de Lión\, Santa Inés del Monte Pulciano
END:VEVENT
BEGIN:VEVENT
DTSTART;TZID=UTC:20220408T190000
DTEND;TZID=UTC:20220408T210000
DTSTAMP:20260420T124939
CREATED:20220405T164528Z
LAST-MODIFIED:20220405T164528Z
UID:10000051-1649444400-1649451600@laantiguaguatemala.com
SUMMARY:Película Le Roi et l’oiseau (El Rey y el pájaro)
DESCRIPTION:Película francesa de dibujos animados dirigida por Paul Grimault en 1980.
URL:https://laantiguaguatemala.com/event/pelicula-le-roi-et-loiseau-el-rey-y-el-pajaro/
LOCATION:Atardeceres musicales – Proyecto Luis de Lión\, Santa Inés del Monte Pulciano
END:VEVENT
BEGIN:VEVENT
DTSTART;TZID=UTC:20220408T190000
DTEND;TZID=UTC:20220408T210000
DTSTAMP:20260420T124939
CREATED:20220405T165340Z
LAST-MODIFIED:20220405T165340Z
UID:10000052-1649444400-1649451600@laantiguaguatemala.com
SUMMARY:Daniel Plata
DESCRIPTION:Entrada por Consumo
URL:https://laantiguaguatemala.com/event/daniel-plata/
LOCATION:Atardeceres musicales – Proyecto Luis de Lión\, Santa Inés del Monte Pulciano
END:VEVENT
BEGIN:VEVENT
DTSTART;TZID=UTC:20220409T190000
DTEND;TZID=UTC:20220409T210000
DTSTAMP:20260420T124939
CREATED:20220405T165504Z
LAST-MODIFIED:20220405T165504Z
UID:10000053-1649530800-1649538000@laantiguaguatemala.com
SUMMARY:Candy Valle
DESCRIPTION:Entrada por Consumo
URL:https://laantiguaguatemala.com/event/candy-valle-2/
LOCATION:Atardeceres musicales – Proyecto Luis de Lión\, Santa Inés del Monte Pulciano
END:VEVENT
BEGIN:VEVENT
DTSTART;TZID=UTC:20220410T100000
DTEND;TZID=UTC:20220410T120000
DTSTAMP:20260420T124939
CREATED:20220405T165727Z
LAST-MODIFIED:20220405T165727Z
UID:10000054-1649584800-1649592000@laantiguaguatemala.com
SUMMARY:Duo Friends/Latino
DESCRIPTION:Entrada por Consumo
URL:https://laantiguaguatemala.com/event/duo-friends-latino/
LOCATION:Atardeceres musicales – Proyecto Luis de Lión\, Santa Inés del Monte Pulciano
END:VEVENT
BEGIN:VEVENT
DTSTART;TZID=UTC:20220410T130000
DTEND;TZID=UTC:20220410T160000
DTSTAMP:20260420T124939
CREATED:20220405T162855Z
LAST-MODIFIED:20220405T162855Z
UID:10000018-1649595600-1649606400@laantiguaguatemala.com
SUMMARY:Marimba en vivo
DESCRIPTION:Todos los domingos. Entrada por consumo
URL:https://laantiguaguatemala.com/event/marimba-en-vivo/2022-04-10/
LOCATION:Atardeceres musicales – Proyecto Luis de Lión\, Santa Inés del Monte Pulciano
END:VEVENT
BEGIN:VEVENT
DTSTART;VALUE=DATE:20220411
DTEND;VALUE=DATE:20220412
DTSTAMP:20260420T124939
CREATED:20220405T165835Z
LAST-MODIFIED:20220405T165835Z
UID:10000055-1649635200-1649721599@laantiguaguatemala.com
SUMMARY:Elaboración de alfombra y huerto de velación
DESCRIPTION:
URL:https://laantiguaguatemala.com/event/elaboracion-de-alfombra-y-huerto-de-velacion/
LOCATION:Atardeceres musicales – Proyecto Luis de Lión\, Santa Inés del Monte Pulciano
END:VEVENT
BEGIN:VEVENT
DTSTART;TZID=UTC:20220411T100000
DTEND;TZID=UTC:20220411T110000
DTSTAMP:20260420T124939
CREATED:20220405T170130Z
LAST-MODIFIED:20220405T170130Z
UID:10000056-1649671200-1649674800@laantiguaguatemala.com
SUMMARY:Cápsulas educativas sobre literatura
DESCRIPTION:Actividad vía Facebook: Colegio Mayor Santo Tomás de Aquino USAC
URL:https://laantiguaguatemala.com/event/capsulas-educativas-sobre-literatura-2/
LOCATION:Atardeceres musicales – Proyecto Luis de Lión\, Santa Inés del Monte Pulciano
END:VEVENT
BEGIN:VEVENT
DTSTART;TZID=UTC:20220413T170000
DTEND;TZID=UTC:20220413T190000
DTSTAMP:20260420T124939
CREATED:20220405T170408Z
LAST-MODIFIED:20220405T170408Z
UID:10000057-1649869200-1649876400@laantiguaguatemala.com
SUMMARY:Concierto de Marchas Fúnebres
DESCRIPTION:Bajo la dirección del Maestro Erick Portillo. \nAforo limitado
URL:https://laantiguaguatemala.com/event/concierto-de-marchas-funebres/
LOCATION:Atardeceres musicales – Proyecto Luis de Lión\, Santa Inés del Monte Pulciano
END:VEVENT
BEGIN:VEVENT
DTSTART;TZID=UTC:20220414T100000
DTEND;TZID=UTC:20220414T233000
DTSTAMP:20260420T124939
CREATED:20220405T170536Z
LAST-MODIFIED:20220405T170536Z
UID:10000058-1649930400-1649979000@laantiguaguatemala.com
SUMMARY:Feria chapina
DESCRIPTION:Manualidades
URL:https://laantiguaguatemala.com/event/feria-chapina/
LOCATION:Atardeceres musicales – Proyecto Luis de Lión\, Santa Inés del Monte Pulciano
END:VEVENT
BEGIN:VEVENT
DTSTART;TZID=UTC:20220414T150000
DTEND;TZID=UTC:20220414T170000
DTSTAMP:20260420T124939
CREATED:20220405T170722Z
LAST-MODIFIED:20220405T170722Z
UID:10000059-1649948400-1649955600@laantiguaguatemala.com
SUMMARY:Feria Chapina
DESCRIPTION:Elaboración de Alfombra
URL:https://laantiguaguatemala.com/event/elaboracion-de-alfombra/
LOCATION:Atardeceres musicales – Proyecto Luis de Lión\, Santa Inés del Monte Pulciano
END:VEVENT
BEGIN:VEVENT
DTSTART;TZID=UTC:20220414T180000
DTEND;TZID=UTC:20220414T200000
DTSTAMP:20260420T124939
CREATED:20220405T171013Z
LAST-MODIFIED:20220405T171013Z
UID:10000060-1649959200-1649966400@laantiguaguatemala.com
SUMMARY:Feria Chapina
DESCRIPTION:Cine Infantil
URL:https://laantiguaguatemala.com/event/cine-infantil/
LOCATION:Atardeceres musicales – Proyecto Luis de Lión\, Santa Inés del Monte Pulciano
END:VEVENT
BEGIN:VEVENT
DTSTART;TZID=UTC:20220415T100000
DTEND;TZID=UTC:20220415T233000
DTSTAMP:20260420T124939
CREATED:20220405T171200Z
LAST-MODIFIED:20220405T171200Z
UID:10000061-1650016800-1650065400@laantiguaguatemala.com
SUMMARY:Feria Chapina
DESCRIPTION:Manualidades
URL:https://laantiguaguatemala.com/event/feria-chapina-2/
LOCATION:Atardeceres musicales – Proyecto Luis de Lión\, Santa Inés del Monte Pulciano
END:VEVENT
BEGIN:VEVENT
DTSTART;TZID=UTC:20220415T150000
DTEND;TZID=UTC:20220415T170000
DTSTAMP:20260420T124939
CREATED:20220405T171323Z
LAST-MODIFIED:20220405T171323Z
UID:10000062-1650034800-1650042000@laantiguaguatemala.com
SUMMARY:Feria Chapina
DESCRIPTION:Elaboración de alfombra
URL:https://laantiguaguatemala.com/event/feria-chapina-3/
LOCATION:Atardeceres musicales – Proyecto Luis de Lión\, Santa Inés del Monte Pulciano
END:VEVENT
BEGIN:VEVENT
DTSTART;TZID=UTC:20220415T180000
DTEND;TZID=UTC:20220415T200000
DTSTAMP:20260420T124939
CREATED:20220405T171629Z
LAST-MODIFIED:20220405T171629Z
UID:10000063-1650045600-1650052800@laantiguaguatemala.com
SUMMARY:Feria Chapina
DESCRIPTION:Cine Infantil
URL:https://laantiguaguatemala.com/event/feria-chapina-4/
LOCATION:Atardeceres musicales – Proyecto Luis de Lión\, Santa Inés del Monte Pulciano
END:VEVENT
BEGIN:VEVENT
DTSTART;TZID=UTC:20220416T100000
DTEND;TZID=UTC:20220416T120000
DTSTAMP:20260420T124939
CREATED:20220405T171755Z
LAST-MODIFIED:20220405T171755Z
UID:10000064-1650103200-1650110400@laantiguaguatemala.com
SUMMARY:Feria Chapina
DESCRIPTION:Manualidades
URL:https://laantiguaguatemala.com/event/feria-chapina-5/
LOCATION:Atardeceres musicales – Proyecto Luis de Lión\, Santa Inés del Monte Pulciano
END:VEVENT
BEGIN:VEVENT
DTSTART;TZID=UTC:20220416T150000
DTEND;TZID=UTC:20220416T170000
DTSTAMP:20260420T124939
CREATED:20220405T171926Z
LAST-MODIFIED:20220405T171926Z
UID:10000065-1650121200-1650128400@laantiguaguatemala.com
SUMMARY:Feria Chapina
DESCRIPTION:Elaboración de Alfombra
URL:https://laantiguaguatemala.com/event/feria-chapina-6/
LOCATION:Atardeceres musicales – Proyecto Luis de Lión\, Santa Inés del Monte Pulciano
END:VEVENT
BEGIN:VEVENT
DTSTART;TZID=UTC:20220416T180000
DTEND;TZID=UTC:20220416T200000
DTSTAMP:20260420T124939
CREATED:20220405T172032Z
LAST-MODIFIED:20220405T172032Z
UID:10000066-1650132000-1650139200@laantiguaguatemala.com
SUMMARY:Feria Chapina
DESCRIPTION:Cine Infantil
URL:https://laantiguaguatemala.com/event/feria-chapina-7/
LOCATION:Atardeceres musicales – Proyecto Luis de Lión\, Santa Inés del Monte Pulciano
END:VEVENT
BEGIN:VEVENT
DTSTART;TZID=UTC:20220416T190000
DTEND;TZID=UTC:20220416T210000
DTSTAMP:20260420T124939
CREATED:20220405T172153Z
LAST-MODIFIED:20220405T172153Z
UID:10000067-1650135600-1650142800@laantiguaguatemala.com
SUMMARY:MontiSax
DESCRIPTION:Entrada por consumo
URL:https://laantiguaguatemala.com/event/montisax/
LOCATION:Atardeceres musicales – Proyecto Luis de Lión\, Santa Inés del Monte Pulciano
END:VEVENT
BEGIN:VEVENT
DTSTART;TZID=UTC:20220417T100000
DTEND;TZID=UTC:20220417T120000
DTSTAMP:20260420T124939
CREATED:20220405T172321Z
LAST-MODIFIED:20220405T172321Z
UID:10000068-1650189600-1650196800@laantiguaguatemala.com
SUMMARY:Duo Friends
DESCRIPTION:Entrada por Consumo
URL:https://laantiguaguatemala.com/event/duo-friends/
LOCATION:Atardeceres musicales – Proyecto Luis de Lión\, Santa Inés del Monte Pulciano
END:VEVENT
BEGIN:VEVENT
DTSTART;TZID=UTC:20220417T103000
DTEND;TZID=UTC:20220417T120000
DTSTAMP:20260420T124939
CREATED:20220405T172526Z
LAST-MODIFIED:20220405T172526Z
UID:10000069-1650191400-1650196800@laantiguaguatemala.com
SUMMARY:Día de Huevos de Pascua
DESCRIPTION:Elabora tu canasta\, busca huevos de pascua y quiebra la piñata.
URL:https://laantiguaguatemala.com/event/dia-de-huevos-de-pascua/
LOCATION:Atardeceres musicales – Proyecto Luis de Lión\, Santa Inés del Monte Pulciano
END:VEVENT
BEGIN:VEVENT
DTSTART;TZID=UTC:20220417T130000
DTEND;TZID=UTC:20220417T160000
DTSTAMP:20260420T124939
CREATED:20220405T162855Z
LAST-MODIFIED:20220405T162855Z
UID:10000019-1650200400-1650211200@laantiguaguatemala.com
SUMMARY:Marimba en vivo
DESCRIPTION:Todos los domingos. Entrada por consumo
URL:https://laantiguaguatemala.com/event/marimba-en-vivo/2022-04-17/
LOCATION:Atardeceres musicales – Proyecto Luis de Lión\, Santa Inés del Monte Pulciano
END:VEVENT
BEGIN:VEVENT
DTSTART;TZID=UTC:20220420T110000
DTEND;TZID=UTC:20220420T120000
DTSTAMP:20260420T124939
CREATED:20220405T172739Z
LAST-MODIFIED:20220405T172739Z
UID:10000070-1650452400-1650456000@laantiguaguatemala.com
SUMMARY:Nuni Canals
DESCRIPTION:Análisis de su obra bajo el ojo crítico de Hugo Gutiérrez. \nActividad vía Facebook: Colegio Mayor Santo Tomás de Aquino USAC
URL:https://laantiguaguatemala.com/event/nuni-canals/
LOCATION:Atardeceres musicales – Proyecto Luis de Lión\, Santa Inés del Monte Pulciano
END:VEVENT
BEGIN:VEVENT
DTSTART;TZID=UTC:20220420T183000
DTEND;TZID=UTC:20220420T193000
DTSTAMP:20260420T124939
CREATED:20220405T173943Z
LAST-MODIFIED:20220405T173943Z
UID:10000071-1650479400-1650483000@laantiguaguatemala.com
SUMMARY:Taller de conversación
DESCRIPTION:«Las elecciones presidenciales en Francia» El 10 de abril y el 24 de abril tendrán lugar las dos vueltas de las elecciones presidenciales en Francia. \nModalidad Virtual Vía: zoom
URL:https://laantiguaguatemala.com/event/taller-de-conversacion/
LOCATION:Atardeceres musicales – Proyecto Luis de Lión\, Santa Inés del Monte Pulciano
END:VEVENT
BEGIN:VEVENT
DTSTART;TZID=UTC:20220422T190000
DTEND;TZID=UTC:20220422T210000
DTSTAMP:20260420T124939
CREATED:20220405T175045Z
LAST-MODIFIED:20220405T175045Z
UID:10000072-1650654000-1650661200@laantiguaguatemala.com
SUMMARY:Stephanie Darce
DESCRIPTION:Entrada por Consumo
URL:https://laantiguaguatemala.com/event/stephanie-darce-2/
LOCATION:Atardeceres musicales – Proyecto Luis de Lión\, Santa Inés del Monte Pulciano
END:VEVENT
END:VCALENDAR