BEGIN:VCALENDAR
VERSION:2.0
PRODID:-//LA ANTIGUA GUATEMALA - ECPv6.0.3.1//NONSGML v1.0//EN
CALSCALE:GREGORIAN
METHOD:PUBLISH
X-WR-CALNAME:LA ANTIGUA GUATEMALA
X-ORIGINAL-URL:https://laantiguaguatemala.com
X-WR-CALDESC:Events for LA ANTIGUA GUATEMALA
REFRESH-INTERVAL;VALUE=DURATION:PT1H
X-Robots-Tag:noindex
X-PUBLISHED-TTL:PT1H
BEGIN:VTIMEZONE
TZID:UTC
BEGIN:STANDARD
TZOFFSETFROM:+0000
TZOFFSETTO:+0000
TZNAME:UTC
DTSTART:20220101T000000
END:STANDARD
END:VTIMEZONE
BEGIN:VEVENT
DTSTART;TZID=UTC:20221101T090000
DTEND;TZID=UTC:20221130T180000
DTSTAMP:20260419T210703
CREATED:20221114T225523Z
LAST-MODIFIED:20221114T225523Z
UID:10000361-1667293200-1669831200@laantiguaguatemala.com
SUMMARY:El Paseo de los Museos
DESCRIPTION:El paseo de los museos – Q48.00 por persona. Incluye 6 museos y dos galerías de arte \nMuseo de plata  \nMuseo Colonial \nMuseo Arqueológico  \nMuseo de Arte Pre-colombino y vidrio moderno \nMuseo de la Farmacia  \nMuseo de Artes y Artesanias Populares de Sacatepéquez \n 
URL:https://laantiguaguatemala.com/event/el-paseo-de-los-museos-4/
LOCATION:Atardeceres musicales – Proyecto Luis de Lión\, Santa Inés del Monte Pulciano
END:VEVENT
BEGIN:VEVENT
DTSTART;TZID=UTC:20221101T090000
DTEND;TZID=UTC:20221130T180000
DTSTAMP:20260419T210703
CREATED:20221114T225710Z
LAST-MODIFIED:20221114T225710Z
UID:10000362-1667293200-1669831200@laantiguaguatemala.com
SUMMARY:Criptas - El Paseo de los Museos
DESCRIPTION:Cripta Conventual \nCripta de Calvario
URL:https://laantiguaguatemala.com/event/criptas-el-paseo-de-los-museos/
LOCATION:Atardeceres musicales – Proyecto Luis de Lión\, Santa Inés del Monte Pulciano
END:VEVENT
BEGIN:VEVENT
DTSTART;TZID=UTC:20221101T090000
DTEND;TZID=UTC:20221130T180000
DTSTAMP:20260419T210703
CREATED:20221114T225837Z
LAST-MODIFIED:20221114T225837Z
UID:10000363-1667293200-1669831200@laantiguaguatemala.com
SUMMARY:Exposición de pintura
DESCRIPTION:Marco Augusto Quiroa
URL:https://laantiguaguatemala.com/event/exposicion-de-pintura-2/
LOCATION:Atardeceres musicales – Proyecto Luis de Lión\, Santa Inés del Monte Pulciano
END:VEVENT
BEGIN:VEVENT
DTSTART;TZID=UTC:20221101T090000
DTEND;TZID=UTC:20221130T180000
DTSTAMP:20260419T210703
CREATED:20221114T225914Z
LAST-MODIFIED:20221114T225914Z
UID:10000364-1667293200-1669831200@laantiguaguatemala.com
SUMMARY:Exposición de piezas arqueológicas
DESCRIPTION:Propiedad de Casa Santo Domingo 200 Legado
URL:https://laantiguaguatemala.com/event/exposicion-de-piezas-arqueologicas/
LOCATION:Atardeceres musicales – Proyecto Luis de Lión\, Santa Inés del Monte Pulciano
END:VEVENT
BEGIN:VEVENT
DTSTART;TZID=UTC:20221101T090000
DTEND;TZID=UTC:20221130T180000
DTSTAMP:20260419T210703
CREATED:20221114T230007Z
LAST-MODIFIED:20221114T230007Z
UID:10000365-1667293200-1669831200@laantiguaguatemala.com
SUMMARY:Exposición fotográfica
DESCRIPTION:Danny Gamboa & Sergio Cruz
URL:https://laantiguaguatemala.com/event/exposicion-fotografica-2/
LOCATION:Atardeceres musicales – Proyecto Luis de Lión\, Santa Inés del Monte Pulciano
END:VEVENT
BEGIN:VEVENT
DTSTART;TZID=UTC:20221101T090000
DTEND;TZID=UTC:20221130T180000
DTSTAMP:20260419T210703
CREATED:20221114T230113Z
LAST-MODIFIED:20221114T230113Z
UID:10000366-1667293200-1669831200@laantiguaguatemala.com
SUMMARY:Exposición fotográfica invidividual
DESCRIPTION:Yohei Nishida
URL:https://laantiguaguatemala.com/event/exposicion-fotografica-invidividual/
LOCATION:Atardeceres musicales – Proyecto Luis de Lión\, Santa Inés del Monte Pulciano
END:VEVENT
BEGIN:VEVENT
DTSTART;TZID=UTC:20221101T090000
DTEND;TZID=UTC:20221130T180000
DTSTAMP:20260419T210703
CREATED:20221114T230153Z
LAST-MODIFIED:20221114T230153Z
UID:10000367-1667293200-1669831200@laantiguaguatemala.com
SUMMARY:Exposición de pintura
DESCRIPTION:José Gregorio Leiva
URL:https://laantiguaguatemala.com/event/exposicion-de-pintura-3/
LOCATION:Atardeceres musicales – Proyecto Luis de Lión\, Santa Inés del Monte Pulciano
END:VEVENT
BEGIN:VEVENT
DTSTART;TZID=UTC:20221101T090000
DTEND;TZID=UTC:20221130T180000
DTSTAMP:20260419T210703
CREATED:20221114T230227Z
LAST-MODIFIED:20221114T230227Z
UID:10000368-1667293200-1669831200@laantiguaguatemala.com
SUMMARY:Exposición de trajes
DESCRIPTION:Trajes de Ópera de Mosaico
URL:https://laantiguaguatemala.com/event/exposicion-de-trajes/
LOCATION:Atardeceres musicales – Proyecto Luis de Lión\, Santa Inés del Monte Pulciano
END:VEVENT
BEGIN:VEVENT
DTSTART;TZID=UTC:20221101T090000
DTEND;TZID=UTC:20221130T180000
DTSTAMP:20260419T210703
CREATED:20221114T230354Z
LAST-MODIFIED:20221114T230354Z
UID:10000369-1667293200-1669831200@laantiguaguatemala.com
SUMMARY:Exposición "EUPHORIA"
DESCRIPTION:De los artistas Isabella\, Rocío y Cesar Fortuny
URL:https://laantiguaguatemala.com/event/exposicion-euphoria/
LOCATION:Atardeceres musicales – Proyecto Luis de Lión\, Santa Inés del Monte Pulciano
END:VEVENT
BEGIN:VEVENT
DTSTART;TZID=UTC:20221101T090000
DTEND;TZID=UTC:20221130T180000
DTSTAMP:20260419T210703
CREATED:20221114T230659Z
LAST-MODIFIED:20221114T230659Z
UID:10000370-1667293200-1669831200@laantiguaguatemala.com
SUMMARY:Expo-venta "Arte Urbano"
DESCRIPTION:Josué Romero y Karla Higueros
URL:https://laantiguaguatemala.com/event/expo-venta-arte-urbano/
LOCATION:Atardeceres musicales – Proyecto Luis de Lión\, Santa Inés del Monte Pulciano
END:VEVENT
BEGIN:VEVENT
DTSTART;TZID=UTC:20221101T090000
DTEND;TZID=UTC:20221130T180000
DTSTAMP:20260419T210703
CREATED:20221114T230904Z
LAST-MODIFIED:20221114T230904Z
UID:10000371-1667293200-1669831200@laantiguaguatemala.com
SUMMARY:Exposiciones temporales
DESCRIPTION:Exposición privada Rolando Ixquiac Xicará & Colección privada de Josué Romero \nExposición Mod Cárdenas \nExposición Arnoldo Ramírez Amaya \nExposición PRIMITIVISTA/ Hondas\, jícaros\, estribos\, sillas\, espadas\, entre otros. \n 
URL:https://laantiguaguatemala.com/event/exposiciones-temporales/
LOCATION:Atardeceres musicales – Proyecto Luis de Lión\, Santa Inés del Monte Pulciano
END:VEVENT
BEGIN:VEVENT
DTSTART;TZID=UTC:20221101T090000
DTEND;TZID=UTC:20221130T180000
DTSTAMP:20260419T210703
CREATED:20221114T231015Z
LAST-MODIFIED:20221114T231015Z
UID:10000372-1667293200-1669831200@laantiguaguatemala.com
SUMMARY:Exposición de pintura
DESCRIPTION:Pinturas de Ana María Martínez Sobral\, Ramón Ávila y “La Seguridad Social” por González Goyri
URL:https://laantiguaguatemala.com/event/exposicion-de-pintura-4/
LOCATION:Atardeceres musicales – Proyecto Luis de Lión\, Santa Inés del Monte Pulciano
END:VEVENT
BEGIN:VEVENT
DTSTART;TZID=UTC:20221101T090000
DTEND;TZID=UTC:20221130T180000
DTSTAMP:20260419T210703
CREATED:20221114T231131Z
LAST-MODIFIED:20221114T231131Z
UID:10000373-1667293200-1669831200@laantiguaguatemala.com
SUMMARY:Exposición temporal
DESCRIPTION:Museo: Quiroa\, González Goyri\, Carlos Mérida\, Jorge Sarmientos\, Amerigo Giracca
URL:https://laantiguaguatemala.com/event/exposicion-temporal-8/
LOCATION:Atardeceres musicales – Proyecto Luis de Lión\, Santa Inés del Monte Pulciano
END:VEVENT
BEGIN:VEVENT
DTSTART;TZID=UTC:20221101T090000
DTEND;TZID=UTC:20221130T180000
DTSTAMP:20260419T210703
CREATED:20221114T231252Z
LAST-MODIFIED:20221114T231252Z
UID:10000374-1667293200-1669831200@laantiguaguatemala.com
SUMMARY:Exposición de colección
DESCRIPTION:Magda Eunice Sánchez\, Mural Torre de Babel\, Josué Romero. Exposición homenaje a Alfredo Mackenney
URL:https://laantiguaguatemala.com/event/exposicion-de-coleccion/
LOCATION:Atardeceres musicales – Proyecto Luis de Lión\, Santa Inés del Monte Pulciano
END:VEVENT
BEGIN:VEVENT
DTSTART;TZID=UTC:20221101T090000
DTEND;TZID=UTC:20221130T180000
DTSTAMP:20260419T210703
CREATED:20221114T231426Z
LAST-MODIFIED:20221114T231426Z
UID:10000375-1667293200-1669831200@laantiguaguatemala.com
SUMMARY:Exposición Efraín Recinos
DESCRIPTION:Mural “Puebo Fantasma”\, Alexandra Grant Exposición “El Juego de hacer Dibujos”\, Efrain Recinos
URL:https://laantiguaguatemala.com/event/exposicion-efrain-recinos/
LOCATION:Atardeceres musicales – Proyecto Luis de Lión\, Santa Inés del Monte Pulciano
END:VEVENT
BEGIN:VEVENT
DTSTART;TZID=UTC:20221101T090000
DTEND;TZID=UTC:20221130T180000
DTSTAMP:20260419T210703
CREATED:20221114T231525Z
LAST-MODIFIED:20221114T231525Z
UID:10000376-1667293200-1669831200@laantiguaguatemala.com
SUMMARY:Exposición Guillermo Grajeda Mena
DESCRIPTION:
URL:https://laantiguaguatemala.com/event/exposicion-guillermo-grajeda-mena/
LOCATION:Atardeceres musicales – Proyecto Luis de Lión\, Santa Inés del Monte Pulciano
END:VEVENT
BEGIN:VEVENT
DTSTART;TZID=UTC:20221101T090000
DTEND;TZID=UTC:20221130T180000
DTSTAMP:20260419T210703
CREATED:20221114T231622Z
LAST-MODIFIED:20221114T231622Z
UID:10000377-1667293200-1669831200@laantiguaguatemala.com
SUMMARY:Exposición José Gregorio Leiva
DESCRIPTION:
URL:https://laantiguaguatemala.com/event/exposicion-jose-gregorio-leiva/
LOCATION:Atardeceres musicales – Proyecto Luis de Lión\, Santa Inés del Monte Pulciano
END:VEVENT
BEGIN:VEVENT
DTSTART;TZID=UTC:20221101T090000
DTEND;TZID=UTC:20221130T180000
DTSTAMP:20260419T210703
CREATED:20221114T231801Z
LAST-MODIFIED:20221114T231801Z
UID:10000378-1667293200-1669831200@laantiguaguatemala.com
SUMMARY:Exposición colectiva: Manos de Mujer
DESCRIPTION:Museo del Papa \nMuseo de Elmar Rojas \nMuseo de Miguel Ángel Asturias  \nMuseo Efrain Recinos  \n 
URL:https://laantiguaguatemala.com/event/exposicion-colectiva-manos-de-mujer/
LOCATION:Atardeceres musicales – Proyecto Luis de Lión\, Santa Inés del Monte Pulciano
END:VEVENT
BEGIN:VEVENT
DTSTART;TZID=UTC:20221119T080000
DTEND;TZID=UTC:20221204T170000
DTSTAMP:20260419T210703
CREATED:20221114T223834Z
LAST-MODIFIED:20221114T223834Z
UID:10000347-1668844800-1670173200@laantiguaguatemala.com
SUMMARY:La Perpetua Rosa
DESCRIPTION:Instalación de totem de La Perpetua Rosa una estructura única realizada en esta ciudad\, que contará no solo historia sino estará acompañado de jardines para formar una bella postal.
URL:https://laantiguaguatemala.com/event/la-perpetua-rosa/
LOCATION:Atardeceres musicales – Proyecto Luis de Lión\, Santa Inés del Monte Pulciano
END:VEVENT
BEGIN:VEVENT
DTSTART;TZID=UTC:20221119T090000
DTEND;TZID=UTC:20221205T170000
DTSTAMP:20260419T210703
CREATED:20221114T224004Z
LAST-MODIFIED:20221114T224004Z
UID:10000348-1668848400-1670259600@laantiguaguatemala.com
SUMMARY:Eterna Primavera
DESCRIPTION:Exposición plástica que contará con 25 obras inspiradas en la «Eterna Primavera»\, vista a través de los ojos de las niñas y los niños del Astillero.
URL:https://laantiguaguatemala.com/event/eterna-primavera/
LOCATION:Atardeceres musicales – Proyecto Luis de Lión\, Santa Inés del Monte Pulciano
END:VEVENT
BEGIN:VEVENT
DTSTART;TZID=UTC:20221127T090000
DTEND;TZID=UTC:20221205T170000
DTSTAMP:20260419T210703
CREATED:20221114T225008Z
LAST-MODIFIED:20221114T225008Z
UID:10000358-1669539600-1670259600@laantiguaguatemala.com
SUMMARY:Exposición fotográfica
DESCRIPTION:Entrelazados. Escuela EFE
URL:https://laantiguaguatemala.com/event/exposicion-fotografica/
LOCATION:Atardeceres musicales – Proyecto Luis de Lión\, Santa Inés del Monte Pulciano
END:VEVENT
BEGIN:VEVENT
DTSTART;TZID=UTC:20221130T150000
DTEND;TZID=UTC:20221130T180000
DTSTAMP:20260419T210703
CREATED:20221114T225053Z
LAST-MODIFIED:20221114T225053Z
UID:10000359-1669820400-1669831200@laantiguaguatemala.com
SUMMARY:Club de Lectura de Miguel Ángel Asturias
DESCRIPTION:Se profundizará en la obra “Mulata de tal”\, la cual\, será moderada por el escritor guatemalteco\, Francisco Alejandro Méndez.
URL:https://laantiguaguatemala.com/event/club-de-lectura-de-miguel-angel-asturias-3/
LOCATION:Atardeceres musicales – Proyecto Luis de Lión\, Santa Inés del Monte Pulciano
END:VEVENT
BEGIN:VEVENT
DTSTART;TZID=UTC:20221130T180000
DTEND;TZID=UTC:20221130T200000
DTSTAMP:20260419T210703
CREATED:20221114T225139Z
LAST-MODIFIED:20221114T225139Z
UID:10000360-1669831200-1669838400@laantiguaguatemala.com
SUMMARY:Coro "Voces y sonidos del tiempo"
DESCRIPTION:Concierto del coro de la Alianza con la participación especial de Daniel Dominguez compositor salvadoreño y Reinhold Ralp
URL:https://laantiguaguatemala.com/event/coro-voces-y-sonidos-del-tiempo/
LOCATION:Atardeceres musicales – Proyecto Luis de Lión\, Santa Inés del Monte Pulciano
END:VEVENT
BEGIN:VEVENT
DTSTART;TZID=UTC:20221214T150000
DTEND;TZID=UTC:20221214T170000
DTSTAMP:20260419T210703
CREATED:20221214T154147Z
LAST-MODIFIED:20221214T154147Z
UID:10000391-1671030000-1671037200@laantiguaguatemala.com
SUMMARY:Club de lectura Miguel Ángel Asturias
DESCRIPTION:LibroLos cuentos del Cuyito a cargo de Francisco Alejandro Méndez\, escritor guatemalteco
URL:https://laantiguaguatemala.com/event/club-de-lectura-miguel-angel-asturias/
LOCATION:Atardeceres musicales – Proyecto Luis de Lión\, Santa Inés del Monte Pulciano
END:VEVENT
BEGIN:VEVENT
DTSTART;TZID=UTC:20221214T163000
DTEND;TZID=UTC:20221214T173000
DTSTAMP:20260419T210703
CREATED:20221214T154243Z
LAST-MODIFIED:20221214T154243Z
UID:10000392-1671035400-1671039000@laantiguaguatemala.com
SUMMARY:Cine: Entrevista a Miguel Ángel Asturias
DESCRIPTION:Unesco 1973 / pertenece a la Colección de Audiovisuales\, Archivo Histórico de CIRMA\,\neditada en Guatemala 26 de octubre 1999 / 34:33
URL:https://laantiguaguatemala.com/event/cine-entrevista-a-miguel-angel-asturias/
LOCATION:Atardeceres musicales – Proyecto Luis de Lión\, Santa Inés del Monte Pulciano
END:VEVENT
BEGIN:VEVENT
DTSTART;TZID=UTC:20221221T090000
DTEND;TZID=UTC:20221221T180000
DTSTAMP:20260419T210703
CREATED:20221214T154417Z
LAST-MODIFIED:20221214T154417Z
UID:10000393-1671613200-1671645600@laantiguaguatemala.com
SUMMARY:Exposición Jaime Arimany
DESCRIPTION:
URL:https://laantiguaguatemala.com/event/exposicion-jaime-arimany/
LOCATION:Atardeceres musicales – Proyecto Luis de Lión\, Santa Inés del Monte Pulciano
END:VEVENT
BEGIN:VEVENT
DTSTART;TZID=UTC:20221230T193000
DTEND;TZID=UTC:20221230T210000
DTSTAMP:20260419T210703
CREATED:20221214T154548Z
LAST-MODIFIED:20221214T154548Z
UID:10000394-1672428600-1672434000@laantiguaguatemala.com
SUMMARY:Concierto Marcelo Ré – Violín
DESCRIPTION:Artista invitada – Yahaira Tubac – Piano
URL:https://laantiguaguatemala.com/event/concierto-marcelo-re-violin/
LOCATION:Atardeceres musicales – Proyecto Luis de Lión\, Santa Inés del Monte Pulciano
END:VEVENT
BEGIN:VEVENT
DTSTART;TZID=UTC:20221231T190000
DTEND;TZID=UTC:20221231T210000
DTSTAMP:20260419T210703
CREATED:20221214T154644Z
LAST-MODIFIED:20221214T154644Z
UID:10000395-1672513200-1672520400@laantiguaguatemala.com
SUMMARY:Concierto Cristian Marroquín – Violín
DESCRIPTION:
URL:https://laantiguaguatemala.com/event/concierto-cristian-marroquin-violin/
LOCATION:Atardeceres musicales – Proyecto Luis de Lión\, Santa Inés del Monte Pulciano
END:VEVENT
BEGIN:VEVENT
DTSTART;TZID=UTC:20221231T200000
DTEND;TZID=UTC:20221231T210000
DTSTAMP:20260419T210703
CREATED:20221214T154746Z
LAST-MODIFIED:20221214T154746Z
UID:10000396-1672516800-1672520400@laantiguaguatemala.com
SUMMARY:Concierto Dina Ramírez – Saxofón
DESCRIPTION:
URL:https://laantiguaguatemala.com/event/concierto-dina-ramirez-saxofon/
LOCATION:Atardeceres musicales – Proyecto Luis de Lión\, Santa Inés del Monte Pulciano
END:VEVENT
BEGIN:VEVENT
DTSTART;TZID=UTC:20230112T180000
DTEND;TZID=UTC:20230112T193000
DTSTAMP:20260419T210703
CREATED:20230110T171426Z
LAST-MODIFIED:20230110T171426Z
UID:10000397-1673546400-1673551800@laantiguaguatemala.com
SUMMARY:TEMPORADA ANTIGÜEÑA
DESCRIPTION:Concierto de guitarra con para TODOS con el guitarrista invitado Rodrigo Lima
URL:https://laantiguaguatemala.com/event/temporada-antiguena/
LOCATION:Atardeceres musicales – Proyecto Luis de Lión\, Santa Inés del Monte Pulciano
END:VEVENT
END:VCALENDAR