BEGIN:VCALENDAR
VERSION:2.0
PRODID:-//LA ANTIGUA GUATEMALA - ECPv6.0.3.1//NONSGML v1.0//EN
CALSCALE:GREGORIAN
METHOD:PUBLISH
X-WR-CALNAME:LA ANTIGUA GUATEMALA
X-ORIGINAL-URL:https://laantiguaguatemala.com
X-WR-CALDESC:Events for LA ANTIGUA GUATEMALA
REFRESH-INTERVAL;VALUE=DURATION:PT1H
X-Robots-Tag:noindex
X-PUBLISHED-TTL:PT1H
BEGIN:VTIMEZONE
TZID:UTC
BEGIN:STANDARD
TZOFFSETFROM:+0000
TZOFFSETTO:+0000
TZNAME:UTC
DTSTART:20220101T000000
END:STANDARD
END:VTIMEZONE
BEGIN:VEVENT
DTSTART;TZID=UTC:20221001T080000
DTEND;TZID=UTC:20221031T170000
DTSTAMP:20260420T010503
CREATED:20221003T151601Z
LAST-MODIFIED:20221003T151601Z
UID:10000277-1664611200-1667235600@laantiguaguatemala.com
SUMMARY:Exposición Mujeres y Revolución
DESCRIPTION:Exposición abierta
URL:https://laantiguaguatemala.com/event/exposicion-mujeres-y-revolucion/
LOCATION:Atardeceres musicales – Proyecto Luis de Lión\, Santa Inés del Monte Pulciano
END:VEVENT
BEGIN:VEVENT
DTSTART;TZID=UTC:20221006T100000
DTEND;TZID=UTC:20221006T120000
DTSTAMP:20260420T010503
CREATED:20221003T155341Z
LAST-MODIFIED:20221003T155341Z
UID:10000284-1665050400-1665057600@laantiguaguatemala.com
SUMMARY:Conferencia de Prensa y entrega de 40 macetonas
DESCRIPTION:
URL:https://laantiguaguatemala.com/event/conferencia-de-prensa-y-entrega-de-40-macetonas/
LOCATION:Atardeceres musicales – Proyecto Luis de Lión\, Santa Inés del Monte Pulciano
END:VEVENT
BEGIN:VEVENT
DTSTART;TZID=UTC:20221006T170000
DTEND;TZID=UTC:20221006T190000
DTSTAMP:20260420T010503
CREATED:20221003T155739Z
LAST-MODIFIED:20221003T155739Z
UID:10000285-1665075600-1665082800@laantiguaguatemala.com
SUMMARY:Inauguración Mujeres y Revolución
DESCRIPTION:Charla: Mujeres\, trabajo y maternidad con Lucrecia Hernández Mack y María Eugenia Solis.
URL:https://laantiguaguatemala.com/event/inauguracion-mujeres-y-revolucion/
LOCATION:Atardeceres musicales – Proyecto Luis de Lión\, Santa Inés del Monte Pulciano
END:VEVENT
BEGIN:VEVENT
DTSTART;TZID=UTC:20221006T180000
DTEND;TZID=UTC:20221006T200000
DTSTAMP:20260420T010503
CREATED:20221003T160012Z
LAST-MODIFIED:20221003T160012Z
UID:10000286-1665079200-1665086400@laantiguaguatemala.com
SUMMARY:Presentación Virtual del libro “Las ruinas de la memoria”
DESCRIPTION:8 autores que integran el Colectivo de “Cuentistas de Guatemala”. Moderadora: Cristina Vásquez. Facebook: CFCE Antigua
URL:https://laantiguaguatemala.com/event/presentacion-virtual-del-libro-las-ruinas-de-la-memoria/
LOCATION:Atardeceres musicales – Proyecto Luis de Lión\, Santa Inés del Monte Pulciano
END:VEVENT
BEGIN:VEVENT
DTSTART;TZID=UTC:20221007T100000
DTEND;TZID=UTC:20221007T120000
DTSTAMP:20260420T010503
CREATED:20221003T161029Z
LAST-MODIFIED:20221003T161029Z
UID:10000287-1665136800-1665144000@laantiguaguatemala.com
SUMMARY:I Encuentro sobre Patrimonio Intangible: “Gastronomía y Artesanía”
DESCRIPTION:Dignificando el trabajo y el futuro de las mujeres de Guatemala. Expo-venta.
URL:https://laantiguaguatemala.com/event/i-encuentro-sobre-patrimonio-intangible-gastronomia-y-artesania/
LOCATION:Atardeceres musicales – Proyecto Luis de Lión\, Santa Inés del Monte Pulciano
END:VEVENT
BEGIN:VEVENT
DTSTART;TZID=UTC:20221007T110000
DTEND;TZID=UTC:20221007T130000
DTSTAMP:20260420T010503
CREATED:20221003T161221Z
LAST-MODIFIED:20221003T161221Z
UID:10000288-1665140400-1665147600@laantiguaguatemala.com
SUMMARY:Exposición de Pintura – Espacios en dualidad
DESCRIPTION:Inauguración de exposición de pintura de los artistas Rodrigo Alvarez y Juan Ismael Sosof\, egresados de la Escuela Superior de Arte.
URL:https://laantiguaguatemala.com/event/exposicion-de-pintura-espacios-en-dualidad/
LOCATION:Atardeceres musicales – Proyecto Luis de Lión\, Santa Inés del Monte Pulciano
END:VEVENT
BEGIN:VEVENT
DTSTART;TZID=UTC:20221008T100000
DTEND;TZID=UTC:20221008T120000
DTSTAMP:20260420T010503
CREATED:20221003T153521Z
LAST-MODIFIED:20221003T153521Z
UID:10000280-1665223200-1665230400@laantiguaguatemala.com
SUMMARY:Curso de arte y creatividad para niños y niñas
DESCRIPTION:¡Un curso sobre arte\, emociones y trabajo en equipo!. Precio curso completo: Q350.00.
URL:https://laantiguaguatemala.com/event/curso-de-arte-y-creatividad-para-ninos-y-ninas-2/
LOCATION:Atardeceres musicales – Proyecto Luis de Lión\, Santa Inés del Monte Pulciano
END:VEVENT
BEGIN:VEVENT
DTSTART;TZID=UTC:20221008T100000
DTEND;TZID=UTC:20221008T160000
DTSTAMP:20260420T010503
CREATED:20221003T161344Z
LAST-MODIFIED:20221003T161344Z
UID:10000289-1665223200-1665244800@laantiguaguatemala.com
SUMMARY:Vitalmed kids – Celebrando el día del niño
DESCRIPTION:Convive con jugadores del Club Antigua GFC\, inflables\, pinta caritas\, evaluaciones médicas gratuitas y más sorpresas.
URL:https://laantiguaguatemala.com/event/vitalmed-kids-celebrando-el-dia-del-nino/
LOCATION:Atardeceres musicales – Proyecto Luis de Lión\, Santa Inés del Monte Pulciano
END:VEVENT
BEGIN:VEVENT
DTSTART;TZID=UTC:20221008T103000
DTEND;TZID=UTC:20221008T170000
DTSTAMP:20260420T010503
CREATED:20221003T161455Z
LAST-MODIFIED:20221003T161455Z
UID:10000290-1665225000-1665248400@laantiguaguatemala.com
SUMMARY:Encuentro viajero
DESCRIPTION:Ven a conocer la historia de una familia viajera dando la vuelta al mundo en un camión 4×4.
URL:https://laantiguaguatemala.com/event/encuentro-viajero/
LOCATION:Atardeceres musicales – Proyecto Luis de Lión\, Santa Inés del Monte Pulciano
END:VEVENT
BEGIN:VEVENT
DTSTART;TZID=UTC:20221008T140000
DTEND;TZID=UTC:20221008T170000
DTSTAMP:20260420T010503
CREATED:20221003T161559Z
LAST-MODIFIED:20221003T161559Z
UID:10000291-1665237600-1665248400@laantiguaguatemala.com
SUMMARY:Música en vivo
DESCRIPTION:April Clark
URL:https://laantiguaguatemala.com/event/musica-en-vivo/
LOCATION:Atardeceres musicales – Proyecto Luis de Lión\, Santa Inés del Monte Pulciano
END:VEVENT
BEGIN:VEVENT
DTSTART;TZID=UTC:20221008T170000
DTEND;TZID=UTC:20221008T190000
DTSTAMP:20260420T010503
CREATED:20221003T161654Z
LAST-MODIFIED:20221003T161654Z
UID:10000292-1665248400-1665255600@laantiguaguatemala.com
SUMMARY:Recordando a Mauro López (QEPD)
DESCRIPTION:Inauguración de la exposición de pintura de cuadros del artista
URL:https://laantiguaguatemala.com/event/recordando-a-mauro-lopez-qepd/
LOCATION:Atardeceres musicales – Proyecto Luis de Lión\, Santa Inés del Monte Pulciano
END:VEVENT
BEGIN:VEVENT
DTSTART;TZID=UTC:20221009T110000
DTEND;TZID=UTC:20221009T180000
DTSTAMP:20260420T010503
CREATED:20221007T004252Z
LAST-MODIFIED:20221007T004252Z
UID:10000322-1665313200-1665338400@laantiguaguatemala.com
SUMMARY:Aprende a hacer cerveza desde cero
DESCRIPTION:Aprende a hacer cerveza desde cero con uno de los mejores maestros cerveceros: Jorge Pinelo de 100 goles\, nos enseñará todo acerca de la cerveza artesanal y cocinará una cerveza en nuestro jardín.
URL:https://laantiguaguatemala.com/event/aprende-a-hacer-cerveza-desde-cero/
LOCATION:Atardeceres musicales – Proyecto Luis de Lión\, Santa Inés del Monte Pulciano
END:VEVENT
BEGIN:VEVENT
DTSTART;TZID=UTC:20221009T130000
DTEND;TZID=UTC:20221009T160000
DTSTAMP:20260420T010503
CREATED:20220405T162855Z
LAST-MODIFIED:20220405T162855Z
UID:10000044-1665320400-1665331200@laantiguaguatemala.com
SUMMARY:Marimba en vivo
DESCRIPTION:Todos los domingos. Entrada por consumo
URL:https://laantiguaguatemala.com/event/marimba-en-vivo/2022-10-09/
LOCATION:Atardeceres musicales – Proyecto Luis de Lión\, Santa Inés del Monte Pulciano
END:VEVENT
BEGIN:VEVENT
DTSTART;TZID=UTC:20221009T130000
DTEND;TZID=UTC:20221009T160000
DTSTAMP:20260420T010503
CREATED:20221007T004356Z
LAST-MODIFIED:20221007T004356Z
UID:10000323-1665320400-1665331200@laantiguaguatemala.com
SUMMARY:Música en vivo con Jandir & Antonio
DESCRIPTION:
URL:https://laantiguaguatemala.com/event/musica-en-vivo-con-jandir-antonio/
LOCATION:Atardeceres musicales – Proyecto Luis de Lión\, Santa Inés del Monte Pulciano
END:VEVENT
BEGIN:VEVENT
DTSTART;TZID=UTC:20221010T103000
DTEND;TZID=UTC:20221010T123000
DTSTAMP:20260420T010503
CREATED:20221003T161804Z
LAST-MODIFIED:20221003T161804Z
UID:10000293-1665397800-1665405000@laantiguaguatemala.com
SUMMARY:Taller de baile Ecstatic Dance
DESCRIPTION:Apto para todas las edades y condiciones\nLleva ropa cómoda\nEntrada: Q115\nPreventa hasta el 05/10: Q100\nGratis para niñxs
URL:https://laantiguaguatemala.com/event/taller-de-baile-ecstatic-dance-2/
LOCATION:Atardeceres musicales – Proyecto Luis de Lión\, Santa Inés del Monte Pulciano
END:VEVENT
BEGIN:VEVENT
DTSTART;TZID=UTC:20221011T110000
DTEND;TZID=UTC:20221011T120000
DTSTAMP:20260420T010503
CREATED:20221003T154438Z
LAST-MODIFIED:20221003T154438Z
UID:10000281-1665486000-1665489600@laantiguaguatemala.com
SUMMARY:El Club de los colectores de los buenos recuerdos
DESCRIPTION:Gratuito. Aforo máximo de 70 personas. En celebración del día de la niñez.
URL:https://laantiguaguatemala.com/event/el-club-de-los-colectores-de-los-buenos-recuerdos/
LOCATION:Atardeceres musicales – Proyecto Luis de Lión\, Santa Inés del Monte Pulciano
END:VEVENT
BEGIN:VEVENT
DTSTART;TZID=UTC:20221012T160000
DTEND;TZID=UTC:20221012T170000
DTSTAMP:20260420T010503
CREATED:20221003T161939Z
LAST-MODIFIED:20221003T161939Z
UID:10000294-1665590400-1665594000@laantiguaguatemala.com
SUMMARY:Análisis de la obra de Mauro López – Virtual
DESCRIPTION:Análisis de su obra\, a través del ojo crítico del Señor Hugo Gutiérrez. Facebook: Colegio Mayor Santo Tomás de Aquino USAC
URL:https://laantiguaguatemala.com/event/analisis-de-la-obra-de-mauro-lopez-virtual/
LOCATION:Atardeceres musicales – Proyecto Luis de Lión\, Santa Inés del Monte Pulciano
END:VEVENT
BEGIN:VEVENT
DTSTART;TZID=UTC:20221013T170000
DTEND;TZID=UTC:20221013T190000
DTSTAMP:20260420T010503
CREATED:20221003T162137Z
LAST-MODIFIED:20221003T162137Z
UID:10000295-1665680400-1665687600@laantiguaguatemala.com
SUMMARY:Mujeres y revolución – Charla
DESCRIPTION:La educación con Lisette Jiménez y Glenda García
URL:https://laantiguaguatemala.com/event/mujeres-y-revolucion-charla/
LOCATION:Atardeceres musicales – Proyecto Luis de Lión\, Santa Inés del Monte Pulciano
END:VEVENT
BEGIN:VEVENT
DTSTART;TZID=UTC:20221014T150000
DTEND;TZID=UTC:20221014T160000
DTSTAMP:20260420T010503
CREATED:20221003T162433Z
LAST-MODIFIED:20221003T162433Z
UID:10000296-1665759600-1665763200@laantiguaguatemala.com
SUMMARY:Club de Lectura Infantil “Pequeños Investigadores”
DESCRIPTION:De 10 a 12 años. Gratuito. Cupo limitado. Inscripciones: club@cirma.org.gt
URL:https://laantiguaguatemala.com/event/club-de-lectura-infantil-pequenos-investigadores/
LOCATION:Atardeceres musicales – Proyecto Luis de Lión\, Santa Inés del Monte Pulciano
END:VEVENT
BEGIN:VEVENT
DTSTART;TZID=UTC:20221014T160000
DTEND;TZID=UTC:20221014T170000
DTSTAMP:20260420T010503
CREATED:20221003T162618Z
LAST-MODIFIED:20221003T162618Z
UID:10000297-1665763200-1665766800@laantiguaguatemala.com
SUMMARY:Club de Lectura Infantil “Pequeños Investigadores”
DESCRIPTION:De 7 a 9 años. Gratuito. Cupo limitado. Inscripciones: club@cirma.org.gt
URL:https://laantiguaguatemala.com/event/club-de-lectura-infantil-pequenos-investigadores-2/
LOCATION:Atardeceres musicales – Proyecto Luis de Lión\, Santa Inés del Monte Pulciano
END:VEVENT
BEGIN:VEVENT
DTSTART;TZID=UTC:20221015T090000
DTEND;TZID=UTC:20221015T160000
DTSTAMP:20260420T010503
CREATED:20221004T163725Z
LAST-MODIFIED:20221004T163725Z
UID:10000298-1665824400-1665849600@laantiguaguatemala.com
SUMMARY:Talleres teatrales
DESCRIPTION:Creación de máscaras\, voz\, dicción\, movimiento corporal y teatro en espacios abiertos. Cupo limitado
URL:https://laantiguaguatemala.com/event/talleres-teatrales/
LOCATION:Atardeceres musicales – Proyecto Luis de Lión\, Santa Inés del Monte Pulciano
END:VEVENT
BEGIN:VEVENT
DTSTART;TZID=UTC:20221015T130000
DTEND;TZID=UTC:20221015T160000
DTSTAMP:20260420T010503
CREATED:20221007T004519Z
LAST-MODIFIED:20221007T004519Z
UID:10000324-1665838800-1665849600@laantiguaguatemala.com
SUMMARY:Live Music – Sofi Miranda
DESCRIPTION:
URL:https://laantiguaguatemala.com/event/live-music-sofi-miranda/
LOCATION:Atardeceres musicales – Proyecto Luis de Lión\, Santa Inés del Monte Pulciano
END:VEVENT
BEGIN:VEVENT
DTSTART;TZID=UTC:20221015T180000
DTEND;TZID=UTC:20221015T200000
DTSTAMP:20260420T010503
CREATED:20221004T163819Z
LAST-MODIFIED:20221004T163819Z
UID:10000299-1665856800-1665864000@laantiguaguatemala.com
SUMMARY:Presentación de ballet y danza contemporánea
DESCRIPTION:Escuela Dance and Dream Studio con la dirección de la Maestra Andrea Orellana
URL:https://laantiguaguatemala.com/event/presentacion-de-ballet-y-danza-contemporanea/
LOCATION:Atardeceres musicales – Proyecto Luis de Lión\, Santa Inés del Monte Pulciano
END:VEVENT
BEGIN:VEVENT
DTSTART;TZID=UTC:20221016T130000
DTEND;TZID=UTC:20221016T160000
DTSTAMP:20260420T010503
CREATED:20220405T162855Z
LAST-MODIFIED:20220405T162855Z
UID:10000045-1665925200-1665936000@laantiguaguatemala.com
SUMMARY:Marimba en vivo
DESCRIPTION:Todos los domingos. Entrada por consumo
URL:https://laantiguaguatemala.com/event/marimba-en-vivo/2022-10-16/
LOCATION:Atardeceres musicales – Proyecto Luis de Lión\, Santa Inés del Monte Pulciano
END:VEVENT
BEGIN:VEVENT
DTSTART;TZID=UTC:20221017T170000
DTEND;TZID=UTC:20221017T180000
DTSTAMP:20260420T010503
CREATED:20221004T163951Z
LAST-MODIFIED:20221004T163951Z
UID:10000300-1666026000-1666029600@laantiguaguatemala.com
SUMMARY:Un poco de poesía – evento virtual
DESCRIPTION:Por Sandra Méndez
URL:https://laantiguaguatemala.com/event/un-poco-de-poesia-evento-virtual/
LOCATION:Atardeceres musicales – Proyecto Luis de Lión\, Santa Inés del Monte Pulciano
END:VEVENT
BEGIN:VEVENT
DTSTART;TZID=UTC:20221017T170000
DTEND;TZID=UTC:20221017T180000
DTSTAMP:20260420T010503
CREATED:20221004T164111Z
LAST-MODIFIED:20221004T164111Z
UID:10000301-1666026000-1666029600@laantiguaguatemala.com
SUMMARY:Los Colores del Ixim
DESCRIPTION:El maíz: cereal altamente fisiológico y nutritivo\, recuperando la soberanía y salud integral\nguatemalteca con la tradición ancestral. A cargo de: Dra. Carine Sost
URL:https://laantiguaguatemala.com/event/los-colores-del-ixim/
LOCATION:Atardeceres musicales – Proyecto Luis de Lión\, Santa Inés del Monte Pulciano
END:VEVENT
BEGIN:VEVENT
DTSTART;TZID=UTC:20221018T170000
DTEND;TZID=UTC:20221018T180000
DTSTAMP:20260420T010503
CREATED:20221004T164210Z
LAST-MODIFIED:20221004T164210Z
UID:10000302-1666112400-1666116000@laantiguaguatemala.com
SUMMARY:Los Colores del Ixim
DESCRIPTION:Dime lo que comes y te diré por qué enfermas\, derribando creencias sobre la dieta\nguatemalteca y nuestra salud personal. A cargo de: Dra. Carine Sost
URL:https://laantiguaguatemala.com/event/los-colores-del-ixim-2/
LOCATION:Atardeceres musicales – Proyecto Luis de Lión\, Santa Inés del Monte Pulciano
END:VEVENT
BEGIN:VEVENT
DTSTART;TZID=UTC:20221019T080000
DTEND;TZID=UTC:20221019T170000
DTSTAMP:20260420T010503
CREATED:20221004T165332Z
LAST-MODIFIED:20221004T165332Z
UID:10000304-1666166400-1666198800@laantiguaguatemala.com
SUMMARY:Visitas guiadas – Exposición Mujeres y Revolución
DESCRIPTION:Reserva tu espacio en CIRMA
URL:https://laantiguaguatemala.com/event/visitas-guiadas-exposicion-mujeres-y-revolucion/
LOCATION:Atardeceres musicales – Proyecto Luis de Lión\, Santa Inés del Monte Pulciano
END:VEVENT
BEGIN:VEVENT
DTSTART;TZID=UTC:20221019T093000
DTEND;TZID=UTC:20221019T230000
DTSTAMP:20260420T010503
CREATED:20221004T165506Z
LAST-MODIFIED:20221004T165506Z
UID:10000305-1666171800-1666220400@laantiguaguatemala.com
SUMMARY:Taller de abonera orgánica y huertos urbanos
DESCRIPTION:Beatriz Barrientos de Justicia Alimentaria\, Kevin Manolo Noriega y Fernando Escobedo del\nInstituto Privado de Investigación sobre Cambio Climático (ICC)
URL:https://laantiguaguatemala.com/event/taller-de-abonera-organica-y-huertos-urbanos/
LOCATION:Atardeceres musicales – Proyecto Luis de Lión\, Santa Inés del Monte Pulciano
END:VEVENT
BEGIN:VEVENT
DTSTART;TZID=UTC:20221019T100000
DTEND;TZID=UTC:20221019T120000
DTSTAMP:20260420T010503
CREATED:20221004T165217Z
LAST-MODIFIED:20221004T165217Z
UID:10000303-1666173600-1666180800@laantiguaguatemala.com
SUMMARY:Conferencia: Gestión de los sitios del Patrimonio Mundial (virtual)
DESCRIPTION:La gestión de los sitios del patrimonio mundial por: Arq. Alfredo Conti – Asesor del Centro de Patrimonio Mundial de la UNESCO
URL:https://laantiguaguatemala.com/event/conferencia-gestion-de-los-sitios-del-patrimonio-mundial-virtual/
LOCATION:Atardeceres musicales – Proyecto Luis de Lión\, Santa Inés del Monte Pulciano
END:VEVENT
END:VCALENDAR