BEGIN:VCALENDAR
VERSION:2.0
PRODID:-//LA ANTIGUA GUATEMALA - ECPv6.0.3.1//NONSGML v1.0//EN
CALSCALE:GREGORIAN
METHOD:PUBLISH
X-WR-CALNAME:LA ANTIGUA GUATEMALA
X-ORIGINAL-URL:https://laantiguaguatemala.com
X-WR-CALDESC:Events for LA ANTIGUA GUATEMALA
REFRESH-INTERVAL;VALUE=DURATION:PT1H
X-Robots-Tag:noindex
X-PUBLISHED-TTL:PT1H
BEGIN:VTIMEZONE
TZID:UTC
BEGIN:STANDARD
TZOFFSETFROM:+0000
TZOFFSETTO:+0000
TZNAME:UTC
DTSTART:20220101T000000
END:STANDARD
END:VTIMEZONE
BEGIN:VEVENT
DTSTART;TZID=UTC:20220510T110000
DTEND;TZID=UTC:20220510T123000
DTSTAMP:20260420T084807
CREATED:20220502T163156Z
LAST-MODIFIED:20220502T163156Z
UID:10000101-1652180400-1652185800@laantiguaguatemala.com
SUMMARY:Cápsulas educativas sobre literatura
DESCRIPTION:Actividad vía Facebook: Colegio Mayor Santo Tomás de Aquino USAC
URL:https://laantiguaguatemala.com/event/capsulas-educativas-sobre-literatura-5/
LOCATION:Atardeceres musicales – Proyecto Luis de Lión\, Santa Inés del Monte Pulciano
END:VEVENT
BEGIN:VEVENT
DTSTART;TZID=UTC:20220510T130000
DTEND;TZID=UTC:20220510T160000
DTSTAMP:20260420T084807
CREATED:20220503T154224Z
LAST-MODIFIED:20220503T154224Z
UID:10000103-1652187600-1652198400@laantiguaguatemala.com
SUMMARY:Marimba en Vivo
DESCRIPTION:Música en vivo. Entrada por consumo.
URL:https://laantiguaguatemala.com/event/marimba-en-vivo-3/
LOCATION:Atardeceres musicales – Proyecto Luis de Lión\, Santa Inés del Monte Pulciano
END:VEVENT
BEGIN:VEVENT
DTSTART;TZID=UTC:20220510T160000
DTEND;TZID=UTC:20220510T170000
DTSTAMP:20260420T084807
CREATED:20220503T153849Z
LAST-MODIFIED:20220503T153849Z
UID:10000102-1652198400-1652202000@laantiguaguatemala.com
SUMMARY:Un recital de guitarra para Mamá
DESCRIPTION:Con la participación del maestro Adolfo Méndez. \nActividad vía Facebook: Colegio Mayor Santo Tomás de Aquino USAC
URL:https://laantiguaguatemala.com/event/un-recital-de-guitarra-para-mama/
LOCATION:Atardeceres musicales – Proyecto Luis de Lión\, Santa Inés del Monte Pulciano
END:VEVENT
BEGIN:VEVENT
DTSTART;TZID=UTC:20220510T190000
DTEND;TZID=UTC:20220510T210000
DTSTAMP:20260420T084807
CREATED:20220503T154339Z
LAST-MODIFIED:20220503T154339Z
UID:10000104-1652209200-1652216400@laantiguaguatemala.com
SUMMARY:Candy Valle
DESCRIPTION:Música en vivo. Entrada por consumo.
URL:https://laantiguaguatemala.com/event/candy-valle-6/
LOCATION:Atardeceres musicales – Proyecto Luis de Lión\, Santa Inés del Monte Pulciano
END:VEVENT
BEGIN:VEVENT
DTSTART;TZID=UTC:20220513T190000
DTEND;TZID=UTC:20220513T210000
DTSTAMP:20260420T084807
CREATED:20220503T154513Z
LAST-MODIFIED:20220503T154513Z
UID:10000105-1652468400-1652475600@laantiguaguatemala.com
SUMMARY:Participación de una noche de Museos
DESCRIPTION:Con la coordinación de MUSAC. \nActividad vía Facebook: Colegio Mayor Santo Tomás de Aquino USAC
URL:https://laantiguaguatemala.com/event/participacion-de-una-noche-de-museos/
LOCATION:Atardeceres musicales – Proyecto Luis de Lión\, Santa Inés del Monte Pulciano
END:VEVENT
BEGIN:VEVENT
DTSTART;TZID=UTC:20220513T190000
DTEND;TZID=UTC:20220513T210000
DTSTAMP:20260420T084807
CREATED:20220503T154618Z
LAST-MODIFIED:20220503T154618Z
UID:10000106-1652468400-1652475600@laantiguaguatemala.com
SUMMARY:Stephanie Darce
DESCRIPTION:Música en vivo. Entrada por consumo.
URL:https://laantiguaguatemala.com/event/stephanie-darce-3/
LOCATION:Atardeceres musicales – Proyecto Luis de Lión\, Santa Inés del Monte Pulciano
END:VEVENT
BEGIN:VEVENT
DTSTART;TZID=UTC:20220514T190000
DTEND;TZID=UTC:20220514T200000
DTSTAMP:20260420T084807
CREATED:20220503T154737Z
LAST-MODIFIED:20220503T154737Z
UID:10000107-1652554800-1652558400@laantiguaguatemala.com
SUMMARY:Candy Valle
DESCRIPTION:Música en vivo. Entrada por consumo.
URL:https://laantiguaguatemala.com/event/candy-valle-7/
LOCATION:Atardeceres musicales – Proyecto Luis de Lión\, Santa Inés del Monte Pulciano
END:VEVENT
BEGIN:VEVENT
DTSTART;TZID=UTC:20220515T130000
DTEND;TZID=UTC:20220515T160000
DTSTAMP:20260420T084807
CREATED:20220405T162855Z
LAST-MODIFIED:20220405T162855Z
UID:10000023-1652619600-1652630400@laantiguaguatemala.com
SUMMARY:Marimba en vivo
DESCRIPTION:Todos los domingos. Entrada por consumo
URL:https://laantiguaguatemala.com/event/marimba-en-vivo/2022-05-15/
LOCATION:Atardeceres musicales – Proyecto Luis de Lión\, Santa Inés del Monte Pulciano
END:VEVENT
BEGIN:VEVENT
DTSTART;TZID=UTC:20220515T190000
DTEND;TZID=UTC:20220515T210000
DTSTAMP:20260420T084807
CREATED:20220503T154844Z
LAST-MODIFIED:20220503T154844Z
UID:10000108-1652641200-1652648400@laantiguaguatemala.com
SUMMARY:Grupo Montano
DESCRIPTION:Música en vivo. Entrada por consumo.
URL:https://laantiguaguatemala.com/event/grupo-montano/
LOCATION:Atardeceres musicales – Proyecto Luis de Lión\, Santa Inés del Monte Pulciano
END:VEVENT
BEGIN:VEVENT
DTSTART;TZID=UTC:20220518T110000
DTEND;TZID=UTC:20220518T120000
DTSTAMP:20260420T084807
CREATED:20220503T155019Z
LAST-MODIFIED:20220503T155019Z
UID:10000109-1652871600-1652875200@laantiguaguatemala.com
SUMMARY:Presentando a los escritores Guatemaltecos
DESCRIPTION:Manuel Bolom Yaxcal\, y su aporte. \nActividad vía Facebook: Colegio Mayor Santo Tomás de Aquino USAC
URL:https://laantiguaguatemala.com/event/presentando-a-los-escritores-guatemaltecos/
LOCATION:Atardeceres musicales – Proyecto Luis de Lión\, Santa Inés del Monte Pulciano
END:VEVENT
BEGIN:VEVENT
DTSTART;TZID=UTC:20220518T180000
DTEND;TZID=UTC:20220518T200000
DTSTAMP:20260420T084807
CREATED:20220503T155700Z
LAST-MODIFIED:20220503T155700Z
UID:10000111-1652896800-1652904000@laantiguaguatemala.com
SUMMARY:Noche de Leyendas
DESCRIPTION:Mágicas noches en la Ciudad Colonial\, con presentaciones de Teatro y nuestra deliciosa gastronomía.
URL:https://laantiguaguatemala.com/event/noche-de-leyendas/
LOCATION:Atardeceres musicales – Proyecto Luis de Lión\, Santa Inés del Monte Pulciano
END:VEVENT
BEGIN:VEVENT
DTSTART;TZID=UTC:20220518T183000
DTEND;TZID=UTC:20220518T200000
DTSTAMP:20260420T084808
CREATED:20220503T155318Z
LAST-MODIFIED:20220503T155318Z
UID:10000110-1652898600-1652904000@laantiguaguatemala.com
SUMMARY:Taller de conversación en francés
DESCRIPTION:¿Te preguntas cómo se vive la juventud en Francia? tendremos un agradable conversatorio\, ven y participa. \nSolicitar Link de inscripción. Facebook: Alianza francesa La Antigua Guatemala
URL:https://laantiguaguatemala.com/event/taller-de-conversacion-en-frances/
LOCATION:Atardeceres musicales – Proyecto Luis de Lión\, Santa Inés del Monte Pulciano
END:VEVENT
BEGIN:VEVENT
DTSTART;TZID=UTC:20220520T180000
DTEND;TZID=UTC:20220520T190000
DTSTAMP:20260420T084808
CREATED:20220503T160047Z
LAST-MODIFIED:20220503T160047Z
UID:10000113-1653069600-1653073200@laantiguaguatemala.com
SUMMARY:Luna de Xelajú
DESCRIPTION:Estreno del video con la participación de los cantantes Gustavo VII y Elizabeth de Guatemala. \nActividad vía Facebook: Colegio Mayor Santo Tomás de Aquino USAC
URL:https://laantiguaguatemala.com/event/luna-de-xelaju/
LOCATION:Atardeceres musicales – Proyecto Luis de Lión\, Santa Inés del Monte Pulciano
END:VEVENT
BEGIN:VEVENT
DTSTART;TZID=UTC:20220520T190000
DTEND;TZID=UTC:20220520T210000
DTSTAMP:20260420T084808
CREATED:20220503T155828Z
LAST-MODIFIED:20220503T155828Z
UID:10000112-1653073200-1653080400@laantiguaguatemala.com
SUMMARY:Andy García
DESCRIPTION:Música en vivo. Entrada por consumo.
URL:https://laantiguaguatemala.com/event/andy-garcia/
LOCATION:Atardeceres musicales – Proyecto Luis de Lión\, Santa Inés del Monte Pulciano
END:VEVENT
BEGIN:VEVENT
DTSTART;TZID=UTC:20220521T190000
DTEND;TZID=UTC:20220521T210000
DTSTAMP:20260420T084808
CREATED:20220503T160203Z
LAST-MODIFIED:20220503T160203Z
UID:10000114-1653159600-1653166800@laantiguaguatemala.com
SUMMARY:Candy Valle
DESCRIPTION:Música en vivo. Entrada por consumo.
URL:https://laantiguaguatemala.com/event/candy-valle-8/
LOCATION:Atardeceres musicales – Proyecto Luis de Lión\, Santa Inés del Monte Pulciano
END:VEVENT
BEGIN:VEVENT
DTSTART;TZID=UTC:20220522T100000
DTEND;TZID=UTC:20220522T120000
DTSTAMP:20260420T084808
CREATED:20220503T160422Z
LAST-MODIFIED:20220503T160422Z
UID:10000115-1653213600-1653220800@laantiguaguatemala.com
SUMMARY:Duo Friends
DESCRIPTION:Música en vivo. Entrada por consumo.
URL:https://laantiguaguatemala.com/event/duo-friends-3/
LOCATION:Atardeceres musicales – Proyecto Luis de Lión\, Santa Inés del Monte Pulciano
END:VEVENT
BEGIN:VEVENT
DTSTART;TZID=UTC:20220522T130000
DTEND;TZID=UTC:20220522T160000
DTSTAMP:20260420T084808
CREATED:20220405T162855Z
LAST-MODIFIED:20220405T162855Z
UID:10000024-1653224400-1653235200@laantiguaguatemala.com
SUMMARY:Marimba en vivo
DESCRIPTION:Todos los domingos. Entrada por consumo
URL:https://laantiguaguatemala.com/event/marimba-en-vivo/2022-05-22/
LOCATION:Atardeceres musicales – Proyecto Luis de Lión\, Santa Inés del Monte Pulciano
END:VEVENT
BEGIN:VEVENT
DTSTART;TZID=UTC:20220522T160000
DTEND;TZID=UTC:20220522T180000
DTSTAMP:20260420T084808
CREATED:20220503T160521Z
LAST-MODIFIED:20220503T160521Z
UID:10000116-1653235200-1653242400@laantiguaguatemala.com
SUMMARY:Tarde de juegos de mesa
DESCRIPTION:¡Ven a jugar con nosotros a varios juegos de mesa!
URL:https://laantiguaguatemala.com/event/tarde-de-juegos-de-mesa/
LOCATION:Atardeceres musicales – Proyecto Luis de Lión\, Santa Inés del Monte Pulciano
END:VEVENT
BEGIN:VEVENT
DTSTART;TZID=UTC:20220525T110000
DTEND;TZID=UTC:20220525T120000
DTSTAMP:20260420T084808
CREATED:20220503T160919Z
LAST-MODIFIED:20220503T160919Z
UID:10000117-1653476400-1653480000@laantiguaguatemala.com
SUMMARY:Ernesto Boesche Rizo
DESCRIPTION:Análisis de su obra\, bajo el ojo crítico de Hugo Gutiérrez. \nActividad vía Facebook: Colegio Mayor Santo Tomás de Aquino USAC
URL:https://laantiguaguatemala.com/event/ernesto-boesche-rizo/
LOCATION:Atardeceres musicales – Proyecto Luis de Lión\, Santa Inés del Monte Pulciano
END:VEVENT
BEGIN:VEVENT
DTSTART;TZID=UTC:20220525T110000
DTEND;TZID=UTC:20220525T120000
DTSTAMP:20260420T084808
CREATED:20220503T161042Z
LAST-MODIFIED:20220503T161042Z
UID:10000118-1653476400-1653480000@laantiguaguatemala.com
SUMMARY:Cápsulas educativas sobre literatura
DESCRIPTION:Actividad vía Facebook: Colegio Mayor Santo Tomás de Aquino USAC
URL:https://laantiguaguatemala.com/event/capsulas-educativas-sobre-literatura-6/
LOCATION:Atardeceres musicales – Proyecto Luis de Lión\, Santa Inés del Monte Pulciano
END:VEVENT
BEGIN:VEVENT
DTSTART;TZID=UTC:20220527T170000
DTEND;TZID=UTC:20220527T180000
DTSTAMP:20260420T084808
CREATED:20220503T161338Z
LAST-MODIFIED:20220503T161338Z
UID:10000120-1653670800-1653674400@laantiguaguatemala.com
SUMMARY:a Literatura de los Pueblos Precolombinos
DESCRIPTION:Presentación de video narrativo. \nActividad vía Facebook: Colegio Mayor Santo Tomás de Aquino USAC
URL:https://laantiguaguatemala.com/event/a-literatura-de-los-pueblos-precolombinos/
LOCATION:Atardeceres musicales – Proyecto Luis de Lión\, Santa Inés del Monte Pulciano
END:VEVENT
BEGIN:VEVENT
DTSTART;TZID=UTC:20220527T190000
DTEND;TZID=UTC:20220527T210000
DTSTAMP:20260420T084808
CREATED:20220503T161216Z
LAST-MODIFIED:20220503T161216Z
UID:10000119-1653678000-1653685200@laantiguaguatemala.com
SUMMARY:Stephanie Darce
DESCRIPTION:Música en vivo. Entrada por consumo.
URL:https://laantiguaguatemala.com/event/stephanie-darce-4/
LOCATION:Atardeceres musicales – Proyecto Luis de Lión\, Santa Inés del Monte Pulciano
END:VEVENT
BEGIN:VEVENT
DTSTART;TZID=UTC:20220528T190000
DTEND;TZID=UTC:20220528T210000
DTSTAMP:20260420T084808
CREATED:20220503T161500Z
LAST-MODIFIED:20220503T161500Z
UID:10000121-1653764400-1653771600@laantiguaguatemala.com
SUMMARY:candy Valle
DESCRIPTION:Música en vivo. Entrada por consumo.
URL:https://laantiguaguatemala.com/event/candy-valle-9/
LOCATION:Atardeceres musicales – Proyecto Luis de Lión\, Santa Inés del Monte Pulciano
END:VEVENT
BEGIN:VEVENT
DTSTART;TZID=UTC:20220529T100000
DTEND;TZID=UTC:20220529T120000
DTSTAMP:20260420T084808
CREATED:20220503T161621Z
LAST-MODIFIED:20220503T161621Z
UID:10000122-1653818400-1653825600@laantiguaguatemala.com
SUMMARY:Grupo Montuno
DESCRIPTION:Música en vivo. Entrada por consumo.
URL:https://laantiguaguatemala.com/event/grupo-montuno-4/
LOCATION:Atardeceres musicales – Proyecto Luis de Lión\, Santa Inés del Monte Pulciano
END:VEVENT
BEGIN:VEVENT
DTSTART;TZID=UTC:20220529T130000
DTEND;TZID=UTC:20220529T160000
DTSTAMP:20260420T084808
CREATED:20220405T162855Z
LAST-MODIFIED:20220405T162855Z
UID:10000025-1653829200-1653840000@laantiguaguatemala.com
SUMMARY:Marimba en vivo
DESCRIPTION:Todos los domingos. Entrada por consumo
URL:https://laantiguaguatemala.com/event/marimba-en-vivo/2022-05-29/
LOCATION:Atardeceres musicales – Proyecto Luis de Lión\, Santa Inés del Monte Pulciano
END:VEVENT
BEGIN:VEVENT
DTSTART;TZID=UTC:20220530T110000
DTEND;TZID=UTC:20220530T120000
DTSTAMP:20260420T084808
CREATED:20220503T161817Z
LAST-MODIFIED:20220503T161817Z
UID:10000123-1653908400-1653912000@laantiguaguatemala.com
SUMMARY:Cápsulas educativas sobre literatura
DESCRIPTION:Actividad vía Facebook: Colegio Mayor Santo Tomás de Aquino USAC
URL:https://laantiguaguatemala.com/event/capsulas-educativas-sobre-literatura-7/
LOCATION:Atardeceres musicales – Proyecto Luis de Lión\, Santa Inés del Monte Pulciano
END:VEVENT
BEGIN:VEVENT
DTSTART;TZID=UTC:20220601T180000
DTEND;TZID=UTC:20220601T200000
DTSTAMP:20260420T084808
CREATED:20220601T145742Z
LAST-MODIFIED:20220601T145742Z
UID:10000125-1654106400-1654113600@laantiguaguatemala.com
SUMMARY:Club de Lectura
DESCRIPTION:modalidad virtual: vía zoom
URL:https://laantiguaguatemala.com/event/club-de-lectura-3/
LOCATION:Atardeceres musicales – Proyecto Luis de Lión\, Santa Inés del Monte Pulciano
END:VEVENT
BEGIN:VEVENT
DTSTART;TZID=UTC:20220601T190000
DTEND;TZID=UTC:20220601T200000
DTSTAMP:20260420T084808
CREATED:20220601T145524Z
LAST-MODIFIED:20220601T145524Z
UID:10000124-1654110000-1654113600@laantiguaguatemala.com
SUMMARY:Salsa Lesson
DESCRIPTION:Ven a una movida sesión de salsa impartida por Nancy de New Sensation. Todos los miércoles del mes.
URL:https://laantiguaguatemala.com/event/salsa-lesson-2/
LOCATION:Atardeceres musicales – Proyecto Luis de Lión\, Santa Inés del Monte Pulciano
END:VEVENT
BEGIN:VEVENT
DTSTART;TZID=UTC:20220603T190000
DTEND;TZID=UTC:20220603T210000
DTSTAMP:20260420T084808
CREATED:20220601T150639Z
LAST-MODIFIED:20220601T150639Z
UID:10000126-1654282800-1654290000@laantiguaguatemala.com
SUMMARY:Open mic: Obras que nos marcaron; arte\, emoción y conexión
DESCRIPTION:¿Ya has sentido una emoción frente a una obra de arte de la cual siempre te acordarás?» Que sea una música\, una pintura\, un concierto\, una escultura u otra obra que te emocionó\, queremos escuchar cual es tu historia con el arte. Todos los viernes
URL:https://laantiguaguatemala.com/event/open-mic-obras-que-nos-marcaron-arte-emocion-y-conexion/
LOCATION:Atardeceres musicales – Proyecto Luis de Lión\, Santa Inés del Monte Pulciano
END:VEVENT
BEGIN:VEVENT
DTSTART;TZID=UTC:20220603T190000
DTEND;TZID=UTC:20220603T210000
DTSTAMP:20260420T084808
CREATED:20220601T150903Z
LAST-MODIFIED:20220601T150903Z
UID:10000127-1654282800-1654290000@laantiguaguatemala.com
SUMMARY:Daniel Plata
DESCRIPTION:Entrada por consumo
URL:https://laantiguaguatemala.com/event/daniel-plata-2/
LOCATION:Atardeceres musicales – Proyecto Luis de Lión\, Santa Inés del Monte Pulciano
END:VEVENT
END:VCALENDAR