BEGIN:VCALENDAR
VERSION:2.0
PRODID:-//LA ANTIGUA GUATEMALA - ECPv6.0.3.1//NONSGML v1.0//EN
CALSCALE:GREGORIAN
METHOD:PUBLISH
X-WR-CALNAME:LA ANTIGUA GUATEMALA
X-ORIGINAL-URL:https://laantiguaguatemala.com
X-WR-CALDESC:Events for LA ANTIGUA GUATEMALA
REFRESH-INTERVAL;VALUE=DURATION:PT1H
X-Robots-Tag:noindex
X-PUBLISHED-TTL:PT1H
BEGIN:VTIMEZONE
TZID:UTC
BEGIN:STANDARD
TZOFFSETFROM:+0000
TZOFFSETTO:+0000
TZNAME:UTC
DTSTART:20220101T000000
END:STANDARD
END:VTIMEZONE
BEGIN:VEVENT
DTSTART;TZID=UTC:20221001T080000
DTEND;TZID=UTC:20221031T170000
DTSTAMP:20260419T222344
CREATED:20221003T151601Z
LAST-MODIFIED:20221003T151601Z
UID:10000277-1664611200-1667235600@laantiguaguatemala.com
SUMMARY:Exposición Mujeres y Revolución
DESCRIPTION:Exposición abierta
URL:https://laantiguaguatemala.com/event/exposicion-mujeres-y-revolucion/
LOCATION:Atardeceres musicales – Proyecto Luis de Lión\, Santa Inés del Monte Pulciano
END:VEVENT
BEGIN:VEVENT
DTSTART;TZID=UTC:20221029T080000
DTEND;TZID=UTC:20221029T170000
DTSTAMP:20260419T222344
CREATED:20221026T232701Z
LAST-MODIFIED:20221026T232701Z
UID:10000002-1667030400-1667062800@laantiguaguatemala.com
SUMMARY:Fiesta de disfraces
DESCRIPTION:test
URL:https://laantiguaguatemala.com/event/fiesta-de-disfraces/
LOCATION:Atardeceres musicales – Proyecto Luis de Lión\, Santa Inés del Monte Pulciano
END:VEVENT
BEGIN:VEVENT
DTSTART;TZID=UTC:20221029T090000
DTEND;TZID=UTC:20221029T160000
DTSTAMP:20260419T222344
CREATED:20221004T172847Z
LAST-MODIFIED:20221004T172847Z
UID:10000320-1667034000-1667059200@laantiguaguatemala.com
SUMMARY:Talleres teatrales
DESCRIPTION:Creación de máscaras\, voz\, dicción\, movimiento corporal y teatro en espacios abiertos. Cupo limitado
URL:https://laantiguaguatemala.com/event/talleres-teatrales-3/
LOCATION:Atardeceres musicales – Proyecto Luis de Lión\, Santa Inés del Monte Pulciano
END:VEVENT
BEGIN:VEVENT
DTSTART;TZID=UTC:20221029T170000
DTEND;TZID=UTC:20221029T180000
DTSTAMP:20260419T222344
CREATED:20221004T172944Z
LAST-MODIFIED:20221004T172944Z
UID:10000321-1667062800-1667066400@laantiguaguatemala.com
SUMMARY:Teatro-comedia
DESCRIPTION:No me cuentos cuentos con el Grupo Dama a la Obra – Xela
URL:https://laantiguaguatemala.com/event/teatro-comedia/
LOCATION:Atardeceres musicales – Proyecto Luis de Lión\, Santa Inés del Monte Pulciano
END:VEVENT
END:VCALENDAR