BEGIN:VCALENDAR
VERSION:2.0
PRODID:-//LA ANTIGUA GUATEMALA - ECPv6.0.3.1//NONSGML v1.0//EN
CALSCALE:GREGORIAN
METHOD:PUBLISH
X-ORIGINAL-URL:https://laantiguaguatemala.com
X-WR-CALDESC:Events for LA ANTIGUA GUATEMALA
REFRESH-INTERVAL;VALUE=DURATION:PT1H
X-Robots-Tag:noindex
X-PUBLISHED-TTL:PT1H
BEGIN:VTIMEZONE
TZID:UTC
BEGIN:STANDARD
TZOFFSETFROM:+0000
TZOFFSETTO:+0000
TZNAME:UTC
DTSTART:20220101T000000
END:STANDARD
END:VTIMEZONE
BEGIN:VEVENT
DTSTART;TZID=UTC:20221001T080000
DTEND;TZID=UTC:20221031T170000
DTSTAMP:20260419T222525
CREATED:20221003T151601Z
LAST-MODIFIED:20221003T151601Z
UID:10000277-1664611200-1667235600@laantiguaguatemala.com
SUMMARY:Exposición Mujeres y Revolución
DESCRIPTION:Exposición abierta
URL:https://laantiguaguatemala.com/event/exposicion-mujeres-y-revolucion/
LOCATION:Atardeceres musicales – Proyecto Luis de Lión\, Santa Inés del Monte Pulciano
END:VEVENT
BEGIN:VEVENT
DTSTART;TZID=UTC:20221028T090000
DTEND;TZID=UTC:20221028T170000
DTSTAMP:20260419T222525
CREATED:20221004T172311Z
LAST-MODIFIED:20221004T172311Z
UID:10000317-1666947600-1666976400@laantiguaguatemala.com
SUMMARY:Exposición 30 años de Fotokids
DESCRIPTION:Este proyecto se remonta la primera experiencia con niños viviendo y trabajando en el basurero de la zona 3\, explorando los “derechos del niño”. Disponible hasta el 05/02/2023
URL:https://laantiguaguatemala.com/event/exposicion-30-anos-de-fotokids/
LOCATION:Atardeceres musicales – Proyecto Luis de Lión\, Santa Inés del Monte Pulciano
END:VEVENT
BEGIN:VEVENT
DTSTART;TZID=UTC:20221028T190000
DTEND;TZID=UTC:20221028T200000
DTSTAMP:20260419T222525
CREATED:20221004T172805Z
LAST-MODIFIED:20221004T172805Z
UID:10000319-1666983600-1666987200@laantiguaguatemala.com
SUMMARY:Concierto para violín y vilonchelo
DESCRIPTION:El renombrado violinista Eric Silberger y el violonchelista Daniel Lelchuk
URL:https://laantiguaguatemala.com/event/concierto-para-violin-y-vilonchelo/
LOCATION:Atardeceres musicales – Proyecto Luis de Lión\, Santa Inés del Monte Pulciano
END:VEVENT
BEGIN:VEVENT
DTSTART;TZID=UTC:20221028T190000
DTEND;TZID=UTC:20221028T210000
DTSTAMP:20260419T222525
CREATED:20221004T172603Z
LAST-MODIFIED:20221004T172603Z
UID:10000318-1666983600-1666990800@laantiguaguatemala.com
SUMMARY:Leyendas (actividad virtual)
DESCRIPTION:El sonido del miedo en La Antigua Guatemala
URL:https://laantiguaguatemala.com/event/leyendas-actividad-virtual/
LOCATION:Atardeceres musicales – Proyecto Luis de Lión\, Santa Inés del Monte Pulciano
END:VEVENT
END:VCALENDAR