BEGIN:VCALENDAR
VERSION:2.0
PRODID:-//LA ANTIGUA GUATEMALA - ECPv6.0.3.1//NONSGML v1.0//EN
CALSCALE:GREGORIAN
METHOD:PUBLISH
X-ORIGINAL-URL:https://laantiguaguatemala.com
X-WR-CALDESC:Events for LA ANTIGUA GUATEMALA
REFRESH-INTERVAL;VALUE=DURATION:PT1H
X-Robots-Tag:noindex
X-PUBLISHED-TTL:PT1H
BEGIN:VTIMEZONE
TZID:UTC
BEGIN:STANDARD
TZOFFSETFROM:+0000
TZOFFSETTO:+0000
TZNAME:UTC
DTSTART:20220101T000000
END:STANDARD
END:VTIMEZONE
BEGIN:VEVENT
DTSTART;TZID=UTC:20221001T080000
DTEND;TZID=UTC:20221031T170000
DTSTAMP:20260419T222550
CREATED:20221003T151601Z
LAST-MODIFIED:20221003T151601Z
UID:10000277-1664611200-1667235600@laantiguaguatemala.com
SUMMARY:Exposición Mujeres y Revolución
DESCRIPTION:Exposición abierta
URL:https://laantiguaguatemala.com/event/exposicion-mujeres-y-revolucion/
LOCATION:Atardeceres musicales – Proyecto Luis de Lión\, Santa Inés del Monte Pulciano
END:VEVENT
BEGIN:VEVENT
DTSTART;TZID=UTC:20221027T170000
DTEND;TZID=UTC:20221027T180000
DTSTAMP:20260419T222550
CREATED:20221004T171755Z
LAST-MODIFIED:20221004T171755Z
UID:10000315-1666890000-1666893600@laantiguaguatemala.com
SUMMARY:Charla: Mujeres y Revolución
DESCRIPTION:La historia y las mujeres fuentes para su estudio a cargo de las historiadoras Anna Carla Ericastilla y Patricia Lepe
URL:https://laantiguaguatemala.com/event/charla-mujeres-y-revolucion/
LOCATION:Atardeceres musicales – Proyecto Luis de Lión\, Santa Inés del Monte Pulciano
END:VEVENT
BEGIN:VEVENT
DTSTART;TZID=UTC:20221027T180000
DTEND;TZID=UTC:20221027T200000
DTSTAMP:20260419T222550
CREATED:20221004T172043Z
LAST-MODIFIED:20221004T172043Z
UID:10000316-1666893600-1666900800@laantiguaguatemala.com
SUMMARY:Concierto de Marimbas
DESCRIPTION:Sonidos de Panchoy y Gaudia Cantorum
URL:https://laantiguaguatemala.com/event/concierto-de-marimbas/
LOCATION:Atardeceres musicales – Proyecto Luis de Lión\, Santa Inés del Monte Pulciano
END:VEVENT
END:VCALENDAR