BEGIN:VCALENDAR
VERSION:2.0
PRODID:-//LA ANTIGUA GUATEMALA - ECPv6.0.3.1//NONSGML v1.0//EN
CALSCALE:GREGORIAN
METHOD:PUBLISH
X-ORIGINAL-URL:https://laantiguaguatemala.com
X-WR-CALDESC:Events for LA ANTIGUA GUATEMALA
REFRESH-INTERVAL;VALUE=DURATION:PT1H
X-Robots-Tag:noindex
X-PUBLISHED-TTL:PT1H
BEGIN:VTIMEZONE
TZID:UTC
BEGIN:STANDARD
TZOFFSETFROM:+0000
TZOFFSETTO:+0000
TZNAME:UTC
DTSTART:20220101T000000
END:STANDARD
END:VTIMEZONE
BEGIN:VEVENT
DTSTART;TZID=UTC:20221001T080000
DTEND;TZID=UTC:20221031T170000
DTSTAMP:20260419T234752
CREATED:20221003T151601Z
LAST-MODIFIED:20221003T151601Z
UID:10000277-1664611200-1667235600@laantiguaguatemala.com
SUMMARY:Exposición Mujeres y Revolución
DESCRIPTION:Exposición abierta
URL:https://laantiguaguatemala.com/event/exposicion-mujeres-y-revolucion/
LOCATION:Atardeceres musicales – Proyecto Luis de Lión\, Santa Inés del Monte Pulciano
END:VEVENT
BEGIN:VEVENT
DTSTART;TZID=UTC:20221026T140000
DTEND;TZID=UTC:20221026T160000
DTSTAMP:20260419T234752
CREATED:20221004T170417Z
LAST-MODIFIED:20221004T170417Z
UID:10000310-1666792800-1666800000@laantiguaguatemala.com
SUMMARY:Encuentro latinoamericano de literatura\, poesía y cuento
DESCRIPTION:Con el apoyo de escritores guatemaltecos
URL:https://laantiguaguatemala.com/event/encuentro-latinoamericano-de-literatura-poesia-y-cuento/
LOCATION:Atardeceres musicales – Proyecto Luis de Lión\, Santa Inés del Monte Pulciano
END:VEVENT
BEGIN:VEVENT
DTSTART;TZID=UTC:20221026T150000
DTEND;TZID=UTC:20221026T160000
DTSTAMP:20260419T234752
CREATED:20221004T170525Z
LAST-MODIFIED:20221004T170525Z
UID:10000311-1666796400-1666800000@laantiguaguatemala.com
SUMMARY:Club de Lectura de Miguel Ángel Asturias
DESCRIPTION:Se profundizará en la obra “Week-end en Guatemala”. Modera: Francisco Alejandro Méndez
URL:https://laantiguaguatemala.com/event/club-de-lectura-de-miguel-angel-asturias-2/
LOCATION:Atardeceres musicales – Proyecto Luis de Lión\, Santa Inés del Monte Pulciano
END:VEVENT
BEGIN:VEVENT
DTSTART;TZID=UTC:20221026T180000
DTEND;TZID=UTC:20221026T200000
DTSTAMP:20260419T234752
CREATED:20221004T171144Z
LAST-MODIFIED:20221004T171144Z
UID:10000312-1666807200-1666814400@laantiguaguatemala.com
SUMMARY:Conmemoración del 43 aniversario de la declaratoria de La Antigua Guatemala como Patrimonio Mundial
DESCRIPTION:Acto protocolario y espectáculo cultural.
URL:https://laantiguaguatemala.com/event/conmemoracion-del-43-aniversario-de-la-declaratoria-de-la-antigua-guatemala-como-patrimonio-mundial/
LOCATION:Atardeceres musicales – Proyecto Luis de Lión\, Santa Inés del Monte Pulciano
END:VEVENT
BEGIN:VEVENT
DTSTART;TZID=UTC:20221026T180000
DTEND;TZID=UTC:20221026T200000
DTSTAMP:20260419T234752
CREATED:20221004T171330Z
LAST-MODIFIED:20221004T171330Z
UID:10000313-1666807200-1666814400@laantiguaguatemala.com
SUMMARY:Xibalbá – II Muestra de Cine de Terror en Centroamérica
DESCRIPTION:Películas:\n1. Amigos\n2. El Sombrerón\n3. Sol Negro\n4. El Zángano\n5. La Cuarta Noche\n6. Azar o Destino\n7. Luna Mía
URL:https://laantiguaguatemala.com/event/xibalba-ii-muestra-de-cine-de-terror-en-centroamerica/
LOCATION:Atardeceres musicales – Proyecto Luis de Lión\, Santa Inés del Monte Pulciano
END:VEVENT
BEGIN:VEVENT
DTSTART;TZID=UTC:20221026T183000
DTEND;TZID=UTC:20221026T200000
DTSTAMP:20260419T234752
CREATED:20221004T171634Z
LAST-MODIFIED:20221004T171634Z
UID:10000314-1666809000-1666814400@laantiguaguatemala.com
SUMMARY:Taller de conversación: La prensa escrita francesa (virtual)
DESCRIPTION:¿Te interesaría saber más sobre la prensa escrita en Francia?
URL:https://laantiguaguatemala.com/event/taller-de-conversacion-la-prensa-escrita-francesa-virtual/
LOCATION:Atardeceres musicales – Proyecto Luis de Lión\, Santa Inés del Monte Pulciano
END:VEVENT
END:VCALENDAR