BEGIN:VCALENDAR
VERSION:2.0
PRODID:-//LA ANTIGUA GUATEMALA - ECPv6.0.3.1//NONSGML v1.0//EN
CALSCALE:GREGORIAN
METHOD:PUBLISH
X-ORIGINAL-URL:https://laantiguaguatemala.com
X-WR-CALDESC:Events for LA ANTIGUA GUATEMALA
REFRESH-INTERVAL;VALUE=DURATION:PT1H
X-Robots-Tag:noindex
X-PUBLISHED-TTL:PT1H
BEGIN:VTIMEZONE
TZID:UTC
BEGIN:STANDARD
TZOFFSETFROM:+0000
TZOFFSETTO:+0000
TZNAME:UTC
DTSTART:20220101T000000
END:STANDARD
END:VTIMEZONE
BEGIN:VEVENT
DTSTART;TZID=UTC:20220805T170000
DTEND;TZID=UTC:20220807T170000
DTSTAMP:20260420T023252
CREATED:20220803T185046Z
LAST-MODIFIED:20220803T185046Z
UID:10000202-1659718800-1659891600@laantiguaguatemala.com
SUMMARY:Invocación Maya
DESCRIPTION:Inicio del XI Festival de Proyección Folklórica Zoel Valdés
URL:https://laantiguaguatemala.com/event/invocacion-maya/
LOCATION:Atardeceres musicales – Proyecto Luis de Lión\, Santa Inés del Monte Pulciano
END:VEVENT
BEGIN:VEVENT
DTSTART;TZID=UTC:20220806T100000
DTEND;TZID=UTC:20220806T110000
DTSTAMP:20260420T023252
CREATED:20220803T191240Z
LAST-MODIFIED:20220803T191240Z
UID:10000205-1659780000-1659783600@laantiguaguatemala.com
SUMMARY:Presentación Escolar
DESCRIPTION:Presentación didactica dirigida a Centros Educativos y docentes del VI Festival Folklórico Zoel Valdés
URL:https://laantiguaguatemala.com/event/presentacion-escolar/
LOCATION:Atardeceres musicales – Proyecto Luis de Lión\, Santa Inés del Monte Pulciano
END:VEVENT
BEGIN:VEVENT
DTSTART;TZID=UTC:20220806T100000
DTEND;TZID=UTC:20220806T110000
DTSTAMP:20260420T023252
CREATED:20220803T193250Z
LAST-MODIFIED:20220803T193250Z
UID:10000206-1659780000-1659783600@laantiguaguatemala.com
SUMMARY:Cuerda\, viento\, percusión y danza
DESCRIPTION:Presentación de los alumnos de la academía Mundo Musial G.
URL:https://laantiguaguatemala.com/event/cuerda-viento-percusion-y-danza/
LOCATION:Atardeceres musicales – Proyecto Luis de Lión\, Santa Inés del Monte Pulciano
END:VEVENT
BEGIN:VEVENT
DTSTART;TZID=UTC:20220806T100000
DTEND;TZID=UTC:20220806T160000
DTSTAMP:20260420T023252
CREATED:20220803T200617Z
LAST-MODIFIED:20220803T200617Z
UID:10000210-1659780000-1659801600@laantiguaguatemala.com
SUMMARY:Mercadito local
DESCRIPTION:acercáte a nuestro mercado de variedades\, y así apoyar a los artesanos\, impulsar la economía local y disfrutar de una experiencia única. Todos los Sábados del mes.
URL:https://laantiguaguatemala.com/event/mercadito-local-4/
LOCATION:Atardeceres musicales – Proyecto Luis de Lión\, Santa Inés del Monte Pulciano
END:VEVENT
BEGIN:VEVENT
DTSTART;TZID=UTC:20220806T170000
DTEND;TZID=UTC:20220806T180000
DTSTAMP:20260420T023252
CREATED:20220803T193453Z
LAST-MODIFIED:20220803T193453Z
UID:10000207-1659805200-1659808800@laantiguaguatemala.com
SUMMARY:Desfile folklórico
DESCRIPTION:Recorrido desde la Calle del Arco hasta el Parque Central con los integrantes del Grupo de Proyección Folklórica Zoél Valdés
URL:https://laantiguaguatemala.com/event/desfile-folklorico/
LOCATION:Atardeceres musicales – Proyecto Luis de Lión\, Santa Inés del Monte Pulciano
END:VEVENT
BEGIN:VEVENT
DTSTART;TZID=UTC:20220806T170000
DTEND;TZID=UTC:20220806T180000
DTSTAMP:20260420T023252
CREATED:20220803T193655Z
LAST-MODIFIED:20220803T193655Z
UID:10000208-1659805200-1659808800@laantiguaguatemala.com
SUMMARY:Formas del Sentimiento
DESCRIPTION:Inauguración de la exposición de esculturas del artista Victor Hugo Sánchez \nActividad Virtual
URL:https://laantiguaguatemala.com/event/formas-del-sentimiento/
LOCATION:Atardeceres musicales – Proyecto Luis de Lión\, Santa Inés del Monte Pulciano
END:VEVENT
BEGIN:VEVENT
DTSTART;TZID=UTC:20220806T180000
DTEND;TZID=UTC:20220806T190000
DTSTAMP:20260420T023252
CREATED:20220803T193943Z
LAST-MODIFIED:20220803T193943Z
UID:10000209-1659808800-1659812400@laantiguaguatemala.com
SUMMARY:Inauguración del VI Festival Folklórico Zoel Valdés
DESCRIPTION:Presentación de danzas de proyección folklórica
URL:https://laantiguaguatemala.com/event/inauguracion-del-vi-festival-folklorico-zoel-valdes/
LOCATION:Atardeceres musicales – Proyecto Luis de Lión\, Santa Inés del Monte Pulciano
END:VEVENT
END:VCALENDAR