BEGIN:VCALENDAR
VERSION:2.0
PRODID:-//LA ANTIGUA GUATEMALA - ECPv6.0.3.1//NONSGML v1.0//EN
CALSCALE:GREGORIAN
METHOD:PUBLISH
X-ORIGINAL-URL:https://laantiguaguatemala.com
X-WR-CALDESC:Events for LA ANTIGUA GUATEMALA
REFRESH-INTERVAL;VALUE=DURATION:PT1H
X-Robots-Tag:noindex
X-PUBLISHED-TTL:PT1H
BEGIN:VTIMEZONE
TZID:UTC
BEGIN:STANDARD
TZOFFSETFROM:+0000
TZOFFSETTO:+0000
TZNAME:UTC
DTSTART:20220101T000000
END:STANDARD
END:VTIMEZONE
BEGIN:VEVENT
DTSTART;TZID=UTC:20220710T100000
DTEND;TZID=UTC:20220710T120000
DTSTAMP:20260420T041857
CREATED:20220704T194318Z
LAST-MODIFIED:20220704T194318Z
UID:10000177-1657447200-1657454400@laantiguaguatemala.com
SUMMARY:Grupo Montuno
DESCRIPTION:Música en vivo. Por consumo
URL:https://laantiguaguatemala.com/event/grupo-montuno-7/
LOCATION:Atardeceres musicales – Proyecto Luis de Lión\, Santa Inés del Monte Pulciano
END:VEVENT
BEGIN:VEVENT
DTSTART;TZID=UTC:20220710T110000
DTEND;TZID=UTC:20220710T130000
DTSTAMP:20260420T041857
CREATED:20220704T194435Z
LAST-MODIFIED:20220704T194435Z
UID:10000178-1657450800-1657458000@laantiguaguatemala.com
SUMMARY:Rudeloop
DESCRIPTION:Concierto de clarinete: acércate al bar/restaurante de Selina y escucha a Mario Gonzáles desde Costa Rica.
URL:https://laantiguaguatemala.com/event/rudeloop-6/
LOCATION:Atardeceres musicales – Proyecto Luis de Lión\, Santa Inés del Monte Pulciano
END:VEVENT
BEGIN:VEVENT
DTSTART;TZID=UTC:20220710T130000
DTEND;TZID=UTC:20220710T160000
DTSTAMP:20260420T041857
CREATED:20220405T162855Z
LAST-MODIFIED:20220405T162855Z
UID:10000031-1657458000-1657468800@laantiguaguatemala.com
SUMMARY:Marimba en vivo
DESCRIPTION:Todos los domingos. Entrada por consumo
URL:https://laantiguaguatemala.com/event/marimba-en-vivo/2022-07-10/
LOCATION:Atardeceres musicales – Proyecto Luis de Lión\, Santa Inés del Monte Pulciano
END:VEVENT
END:VCALENDAR