BEGIN:VCALENDAR
VERSION:2.0
PRODID:-//LA ANTIGUA GUATEMALA - ECPv6.0.3.1//NONSGML v1.0//EN
CALSCALE:GREGORIAN
METHOD:PUBLISH
X-WR-CALNAME:LA ANTIGUA GUATEMALA
X-ORIGINAL-URL:https://laantiguaguatemala.com
X-WR-CALDESC:Events for LA ANTIGUA GUATEMALA
REFRESH-INTERVAL;VALUE=DURATION:PT1H
X-Robots-Tag:noindex
X-PUBLISHED-TTL:PT1H
BEGIN:VTIMEZONE
TZID:UTC
BEGIN:STANDARD
TZOFFSETFROM:+0000
TZOFFSETTO:+0000
TZNAME:UTC
DTSTART:20220101T000000
END:STANDARD
END:VTIMEZONE
BEGIN:VEVENT
DTSTART;TZID=UTC:20220706T180000
DTEND;TZID=UTC:20220706T200000
DTSTAMP:20260420T041718
CREATED:20220704T184633Z
LAST-MODIFIED:20220704T184633Z
UID:10000168-1657130400-1657137600@laantiguaguatemala.com
SUMMARY:Club de Lectura
DESCRIPTION:Libro: vendo mi caja me quiero morir de Haroldo Sánchez.\nvía zoom
URL:https://laantiguaguatemala.com/event/club-de-lectura-4/
LOCATION:Atardeceres musicales – Proyecto Luis de Lión\, Santa Inés del Monte Pulciano
END:VEVENT
BEGIN:VEVENT
DTSTART;TZID=UTC:20220706T190000
DTEND;TZID=UTC:20220706T200000
DTSTAMP:20260420T041718
CREATED:20220704T185111Z
LAST-MODIFIED:20220704T185111Z
UID:10000169-1657134000-1657137600@laantiguaguatemala.com
SUMMARY:Salsa session
DESCRIPTION:¿Qué tal una clase de salsa con la increíble instructora Nancy? Un curso de baile de 1 hora le ayudará a empezar a bailar salsa como profesional. Todos los miércoles del mes.
URL:https://laantiguaguatemala.com/event/salsa-session/
LOCATION:Atardeceres musicales – Proyecto Luis de Lión\, Santa Inés del Monte Pulciano
END:VEVENT
END:VCALENDAR