BEGIN:VCALENDAR
VERSION:2.0
PRODID:-//LA ANTIGUA GUATEMALA - ECPv6.0.3.1//NONSGML v1.0//EN
CALSCALE:GREGORIAN
METHOD:PUBLISH
X-ORIGINAL-URL:https://laantiguaguatemala.com
X-WR-CALDESC:Events for LA ANTIGUA GUATEMALA
REFRESH-INTERVAL;VALUE=DURATION:PT1H
X-Robots-Tag:noindex
X-PUBLISHED-TTL:PT1H
BEGIN:VTIMEZONE
TZID:UTC
BEGIN:STANDARD
TZOFFSETFROM:+0000
TZOFFSETTO:+0000
TZNAME:UTC
DTSTART:20220101T000000
END:STANDARD
END:VTIMEZONE
BEGIN:VEVENT
DTSTART;TZID=UTC:20220702T100000
DTEND;TZID=UTC:20220702T160000
DTSTAMP:20260420T041827
CREATED:20220704T180710Z
LAST-MODIFIED:20220704T180710Z
UID:10000160-1656756000-1656777600@laantiguaguatemala.com
SUMMARY:Mercadito local
DESCRIPTION:Acércate a nuestro mercado de variedades\, y así apoyar a los artesanos\, impulsar la economía local y disfrutar de una experiencia única
URL:https://laantiguaguatemala.com/event/mercadito-local-2/
LOCATION:Atardeceres musicales – Proyecto Luis de Lión\, Santa Inés del Monte Pulciano
END:VEVENT
BEGIN:VEVENT
DTSTART;TZID=UTC:20220702T190000
DTEND;TZID=UTC:20220702T210000
DTSTAMP:20260420T041827
CREATED:20220704T180119Z
LAST-MODIFIED:20220704T180119Z
UID:10000159-1656788400-1656795600@laantiguaguatemala.com
SUMMARY:Candy Valle
DESCRIPTION:Música en vivo. Por consumo
URL:https://laantiguaguatemala.com/event/candy-valle-14/
LOCATION:Atardeceres musicales – Proyecto Luis de Lión\, Santa Inés del Monte Pulciano
END:VEVENT
END:VCALENDAR