BEGIN:VCALENDAR
VERSION:2.0
PRODID:-//LA ANTIGUA GUATEMALA - ECPv6.0.3.1//NONSGML v1.0//EN
CALSCALE:GREGORIAN
METHOD:PUBLISH
X-WR-CALNAME:LA ANTIGUA GUATEMALA
X-ORIGINAL-URL:https://laantiguaguatemala.com
X-WR-CALDESC:Events for LA ANTIGUA GUATEMALA
REFRESH-INTERVAL;VALUE=DURATION:PT1H
X-Robots-Tag:noindex
X-PUBLISHED-TTL:PT1H
BEGIN:VTIMEZONE
TZID:UTC
BEGIN:STANDARD
TZOFFSETFROM:+0000
TZOFFSETTO:+0000
TZNAME:UTC
DTSTART:20220101T000000
END:STANDARD
END:VTIMEZONE
BEGIN:VEVENT
DTSTART;TZID=UTC:20220624T110000
DTEND;TZID=UTC:20220624T120000
DTSTAMP:20260420T054600
CREATED:20220601T160831Z
LAST-MODIFIED:20220601T160831Z
UID:10000151-1656068400-1656072000@laantiguaguatemala.com
SUMMARY:Carlos Raúl Montes Segura
DESCRIPTION:Análisis de su obra\, bajo el ojo crítico de Hugo Gutierréz \nActividad vía Facebook: Colegio Mayor Santo Tomás de Aquino USAC
URL:https://laantiguaguatemala.com/event/carlos-raul-montes-segura/
LOCATION:Atardeceres musicales – Proyecto Luis de Lión\, Santa Inés del Monte Pulciano
END:VEVENT
BEGIN:VEVENT
DTSTART;TZID=UTC:20220624T190000
DTEND;TZID=UTC:20220624T210000
DTSTAMP:20260420T054600
CREATED:20220601T160717Z
LAST-MODIFIED:20220601T160717Z
UID:10000150-1656097200-1656104400@laantiguaguatemala.com
SUMMARY:Andy García
DESCRIPTION:Entrada por consumo
URL:https://laantiguaguatemala.com/event/andy-garcia-2/
LOCATION:Atardeceres musicales – Proyecto Luis de Lión\, Santa Inés del Monte Pulciano
END:VEVENT
END:VCALENDAR