BEGIN:VCALENDAR
VERSION:2.0
PRODID:-//LA ANTIGUA GUATEMALA - ECPv6.0.3.1//NONSGML v1.0//EN
CALSCALE:GREGORIAN
METHOD:PUBLISH
X-WR-CALNAME:LA ANTIGUA GUATEMALA
X-ORIGINAL-URL:https://laantiguaguatemala.com
X-WR-CALDESC:Events for LA ANTIGUA GUATEMALA
REFRESH-INTERVAL;VALUE=DURATION:PT1H
X-Robots-Tag:noindex
X-PUBLISHED-TTL:PT1H
BEGIN:VTIMEZONE
TZID:UTC
BEGIN:STANDARD
TZOFFSETFROM:+0000
TZOFFSETTO:+0000
TZNAME:UTC
DTSTART:20220101T000000
END:STANDARD
END:VTIMEZONE
BEGIN:VEVENT
DTSTART;TZID=UTC:20220610T100000
DTEND;TZID=UTC:20220610T120000
DTSTAMP:20260420T070732
CREATED:20220601T154353Z
LAST-MODIFIED:20220601T154353Z
UID:10000137-1654855200-1654862400@laantiguaguatemala.com
SUMMARY:Borda tu propia bolsa con Claribel
DESCRIPTION:Esta clase de 2 horas incluye todos los materiales para bordar tu propio bolso y una guía en PDF con instrucciones sobre cada una de las puntadas tradicionales para el bordado. Q175.00/$25.00. WS +502 5191 1991
URL:https://laantiguaguatemala.com/event/borda-tu-propia-bolsa-con-claribel/
LOCATION:Atardeceres musicales – Proyecto Luis de Lión\, Santa Inés del Monte Pulciano
END:VEVENT
BEGIN:VEVENT
DTSTART;TZID=UTC:20220610T110000
DTEND;TZID=UTC:20220610T120000
DTSTAMP:20260420T070732
CREATED:20220601T152410Z
LAST-MODIFIED:20220601T152410Z
UID:10000136-1654858800-1654862400@laantiguaguatemala.com
SUMMARY:Un espacio para la literatura
DESCRIPTION:Libros de la época de la colonia. \nActividad vía Facebook: Colegio Mayor Santo Tomás de Aquino USAC
URL:https://laantiguaguatemala.com/event/un-espacio-para-la-literatura-2/
LOCATION:Atardeceres musicales – Proyecto Luis de Lión\, Santa Inés del Monte Pulciano
END:VEVENT
BEGIN:VEVENT
DTSTART;TZID=UTC:20220610T190000
DTEND;TZID=UTC:20220610T210000
DTSTAMP:20260420T070732
CREATED:20220601T154558Z
LAST-MODIFIED:20220601T154558Z
UID:10000138-1654887600-1654894800@laantiguaguatemala.com
SUMMARY:Tundra y Kenia
DESCRIPTION:Entrada por consumo
URL:https://laantiguaguatemala.com/event/tundra-y-kenia/
LOCATION:Atardeceres musicales – Proyecto Luis de Lión\, Santa Inés del Monte Pulciano
END:VEVENT
END:VCALENDAR