BEGIN:VCALENDAR
VERSION:2.0
PRODID:-//LA ANTIGUA GUATEMALA - ECPv6.0.3.1//NONSGML v1.0//EN
CALSCALE:GREGORIAN
METHOD:PUBLISH
X-ORIGINAL-URL:https://laantiguaguatemala.com
X-WR-CALDESC:Events for LA ANTIGUA GUATEMALA
REFRESH-INTERVAL;VALUE=DURATION:PT1H
X-Robots-Tag:noindex
X-PUBLISHED-TTL:PT1H
BEGIN:VTIMEZONE
TZID:UTC
BEGIN:STANDARD
TZOFFSETFROM:+0000
TZOFFSETTO:+0000
TZNAME:UTC
DTSTART:20220101T000000
END:STANDARD
END:VTIMEZONE
BEGIN:VEVENT
DTSTART;TZID=UTC:20220604T110000
DTEND;TZID=UTC:20220604T120000
DTSTAMP:20260420T054824
CREATED:20220601T151035Z
LAST-MODIFIED:20220601T151035Z
UID:10000128-1654340400-1654344000@laantiguaguatemala.com
SUMMARY:Miradas Diluidas
DESCRIPTION:Exposición de pintura del artista: Exal Rivera. \nActividad vía Facebook: Colegio Mayor Santo Tomás de Aquino USAC
URL:https://laantiguaguatemala.com/event/miradas-diluidas/
LOCATION:Atardeceres musicales – Proyecto Luis de Lión\, Santa Inés del Monte Pulciano
END:VEVENT
BEGIN:VEVENT
DTSTART;TZID=UTC:20220604T160000
DTEND;TZID=UTC:20220604T200000
DTSTAMP:20260420T054824
CREATED:20220601T151149Z
LAST-MODIFIED:20220601T151149Z
UID:10000129-1654358400-1654372800@laantiguaguatemala.com
SUMMARY:Paint and drink
DESCRIPTION:Un espacio enfocado en la creatividad y la convivencia\, donde podrás pintar tu propio cuadro mientras disfrutas un buen cocktail. Todos los sábados
URL:https://laantiguaguatemala.com/event/paint-and-drink/
LOCATION:Atardeceres musicales – Proyecto Luis de Lión\, Santa Inés del Monte Pulciano
END:VEVENT
BEGIN:VEVENT
DTSTART;TZID=UTC:20220604T190000
DTEND;TZID=UTC:20220604T210000
DTSTAMP:20260420T054824
CREATED:20220601T151251Z
LAST-MODIFIED:20220601T151251Z
UID:10000130-1654369200-1654376400@laantiguaguatemala.com
SUMMARY:Candy Valle
DESCRIPTION:Entrada por consumo
URL:https://laantiguaguatemala.com/event/candy-valle-10/
LOCATION:Atardeceres musicales – Proyecto Luis de Lión\, Santa Inés del Monte Pulciano
END:VEVENT
END:VCALENDAR