BEGIN:VCALENDAR
VERSION:2.0
PRODID:-//LA ANTIGUA GUATEMALA - ECPv6.0.3.1//NONSGML v1.0//EN
CALSCALE:GREGORIAN
METHOD:PUBLISH
X-ORIGINAL-URL:https://laantiguaguatemala.com
X-WR-CALDESC:Events for LA ANTIGUA GUATEMALA
REFRESH-INTERVAL;VALUE=DURATION:PT1H
X-Robots-Tag:noindex
X-PUBLISHED-TTL:PT1H
BEGIN:VTIMEZONE
TZID:UTC
BEGIN:STANDARD
TZOFFSETFROM:+0000
TZOFFSETTO:+0000
TZNAME:UTC
DTSTART:20220101T000000
END:STANDARD
END:VTIMEZONE
BEGIN:VEVENT
DTSTART;TZID=UTC:20220522T100000
DTEND;TZID=UTC:20220522T120000
DTSTAMP:20260420T071015
CREATED:20220503T160422Z
LAST-MODIFIED:20220503T160422Z
UID:10000115-1653213600-1653220800@laantiguaguatemala.com
SUMMARY:Duo Friends
DESCRIPTION:Música en vivo. Entrada por consumo.
URL:https://laantiguaguatemala.com/event/duo-friends-3/
LOCATION:Atardeceres musicales – Proyecto Luis de Lión\, Santa Inés del Monte Pulciano
END:VEVENT
BEGIN:VEVENT
DTSTART;TZID=UTC:20220522T130000
DTEND;TZID=UTC:20220522T160000
DTSTAMP:20260420T071015
CREATED:20220405T162855Z
LAST-MODIFIED:20220405T162855Z
UID:10000024-1653224400-1653235200@laantiguaguatemala.com
SUMMARY:Marimba en vivo
DESCRIPTION:Todos los domingos. Entrada por consumo
URL:https://laantiguaguatemala.com/event/marimba-en-vivo/2022-05-22/
LOCATION:Atardeceres musicales – Proyecto Luis de Lión\, Santa Inés del Monte Pulciano
END:VEVENT
BEGIN:VEVENT
DTSTART;TZID=UTC:20220522T160000
DTEND;TZID=UTC:20220522T180000
DTSTAMP:20260420T071015
CREATED:20220503T160521Z
LAST-MODIFIED:20220503T160521Z
UID:10000116-1653235200-1653242400@laantiguaguatemala.com
SUMMARY:Tarde de juegos de mesa
DESCRIPTION:¡Ven a jugar con nosotros a varios juegos de mesa!
URL:https://laantiguaguatemala.com/event/tarde-de-juegos-de-mesa/
LOCATION:Atardeceres musicales – Proyecto Luis de Lión\, Santa Inés del Monte Pulciano
END:VEVENT
END:VCALENDAR