BEGIN:VCALENDAR
VERSION:2.0
PRODID:-//LA ANTIGUA GUATEMALA - ECPv6.0.3.1//NONSGML v1.0//EN
CALSCALE:GREGORIAN
METHOD:PUBLISH
X-WR-CALNAME:LA ANTIGUA GUATEMALA
X-ORIGINAL-URL:https://laantiguaguatemala.com
X-WR-CALDESC:Events for LA ANTIGUA GUATEMALA
REFRESH-INTERVAL;VALUE=DURATION:PT1H
X-Robots-Tag:noindex
X-PUBLISHED-TTL:PT1H
BEGIN:VTIMEZONE
TZID:UTC
BEGIN:STANDARD
TZOFFSETFROM:+0000
TZOFFSETTO:+0000
TZNAME:UTC
DTSTART:20220101T000000
END:STANDARD
END:VTIMEZONE
BEGIN:VEVENT
DTSTART;TZID=UTC:20220501T100000
DTEND;TZID=UTC:20220501T120000
DTSTAMP:20260420T070732
CREATED:20220502T153915Z
LAST-MODIFIED:20220502T153915Z
UID:10000084-1651399200-1651406400@laantiguaguatemala.com
SUMMARY:Dúo Friends
DESCRIPTION:Música en vivo. Entrada por consumo.
URL:https://laantiguaguatemala.com/event/duo-friends-2/
LOCATION:Atardeceres musicales – Proyecto Luis de Lión\, Santa Inés del Monte Pulciano
END:VEVENT
BEGIN:VEVENT
DTSTART;TZID=UTC:20220501T100000
DTEND;TZID=UTC:20220501T160000
DTSTAMP:20260420T070732
CREATED:20220502T154251Z
LAST-MODIFIED:20220502T154251Z
UID:10000086-1651399200-1651420800@laantiguaguatemala.com
SUMMARY:Mercadito artesanal
DESCRIPTION:visita nuestras instalaciones para apoyar al mercadito local de variedades y vivir la experiencia cercana de compras guatemaltecas. \nTodos los sábados y domingos del mes.
URL:https://laantiguaguatemala.com/event/mercadito-artesanal-2/
LOCATION:Atardeceres musicales – Proyecto Luis de Lión\, Santa Inés del Monte Pulciano
END:VEVENT
BEGIN:VEVENT
DTSTART;TZID=UTC:20220501T110000
DTEND;TZID=UTC:20220501T113000
DTSTAMP:20260420T070732
CREATED:20220502T153543Z
LAST-MODIFIED:20220502T153543Z
UID:10000083-1651402800-1651404600@laantiguaguatemala.com
SUMMARY:Cápsulas educativas sobre literatura
DESCRIPTION:
URL:https://laantiguaguatemala.com/event/capsulas-educativas-sobre-literatura-4/
LOCATION:Atardeceres musicales – Proyecto Luis de Lión\, Santa Inés del Monte Pulciano
END:VEVENT
BEGIN:VEVENT
DTSTART;TZID=UTC:20220501T130000
DTEND;TZID=UTC:20220501T160000
DTSTAMP:20260420T070732
CREATED:20220405T162855Z
LAST-MODIFIED:20220405T162855Z
UID:10000021-1651410000-1651420800@laantiguaguatemala.com
SUMMARY:Marimba en vivo
DESCRIPTION:Todos los domingos. Entrada por consumo
URL:https://laantiguaguatemala.com/event/marimba-en-vivo/2022-05-01/
LOCATION:Atardeceres musicales – Proyecto Luis de Lión\, Santa Inés del Monte Pulciano
END:VEVENT
BEGIN:VEVENT
DTSTART;TZID=UTC:20220501T130000
DTEND;TZID=UTC:20220501T160000
DTSTAMP:20260420T070732
CREATED:20220502T154034Z
LAST-MODIFIED:20220502T154034Z
UID:10000085-1651410000-1651420800@laantiguaguatemala.com
SUMMARY:Marimba en Vivo
DESCRIPTION:Marimba en vivo todos los domingos del mes.
URL:https://laantiguaguatemala.com/event/marimba-en-vivo-2/
LOCATION:Atardeceres musicales – Proyecto Luis de Lión\, Santa Inés del Monte Pulciano
END:VEVENT
END:VCALENDAR