BEGIN:VCALENDAR
VERSION:2.0
PRODID:-//LA ANTIGUA GUATEMALA - ECPv6.0.3.1//NONSGML v1.0//EN
CALSCALE:GREGORIAN
METHOD:PUBLISH
X-ORIGINAL-URL:https://laantiguaguatemala.com
X-WR-CALDESC:Events for LA ANTIGUA GUATEMALA
REFRESH-INTERVAL;VALUE=DURATION:PT1H
X-Robots-Tag:noindex
X-PUBLISHED-TTL:PT1H
BEGIN:VTIMEZONE
TZID:UTC
BEGIN:STANDARD
TZOFFSETFROM:+0000
TZOFFSETTO:+0000
TZNAME:UTC
DTSTART:20220101T000000
END:STANDARD
END:VTIMEZONE
BEGIN:VEVENT
DTSTART;TZID=UTC:20220401T090000
DTEND;TZID=UTC:20220430T190000
DTSTAMP:20260420T095617
CREATED:20220404T164646Z
LAST-MODIFIED:20220404T164646Z
UID:10000004-1648803600-1651345200@laantiguaguatemala.com
SUMMARY:Arte sacro en miniatura
DESCRIPTION:Exposición disponible toda la Semana Santa
URL:https://laantiguaguatemala.com/event/arte-sacro-en-miniatura/
LOCATION:Atardeceres musicales – Proyecto Luis de Lión\, Santa Inés del Monte Pulciano
END:VEVENT
BEGIN:VEVENT
DTSTART;TZID=UTC:20220423T100000
DTEND;TZID=UTC:20220423T230000
DTSTAMP:20260420T095617
CREATED:20220405T175214Z
LAST-MODIFIED:20220405T175214Z
UID:10000073-1650708000-1650754800@laantiguaguatemala.com
SUMMARY:Cápsulas educativas sobre literatura
DESCRIPTION:Actividad vía Facebook: Colegio Mayor Santo Tomás de Aquino USAC
URL:https://laantiguaguatemala.com/event/capsulas-educativas-sobre-literatura-3/
LOCATION:Atardeceres musicales – Proyecto Luis de Lión\, Santa Inés del Monte Pulciano
END:VEVENT
BEGIN:VEVENT
DTSTART;TZID=UTC:20220423T160000
DTEND;TZID=UTC:20220423T180000
DTSTAMP:20260420T095617
CREATED:20220405T175507Z
LAST-MODIFIED:20220405T175507Z
UID:10000074-1650729600-1650736800@laantiguaguatemala.com
SUMMARY:Espectáculo de Títeres
DESCRIPTION:El Monstruo de la Basura nace por la inquietud del grupo sobre la problemática ambiental. \nEntrada: Q10.00 incluye poporopos
URL:https://laantiguaguatemala.com/event/espectaculo-de-titeres/
LOCATION:Atardeceres musicales – Proyecto Luis de Lión\, Santa Inés del Monte Pulciano
END:VEVENT
BEGIN:VEVENT
DTSTART;TZID=UTC:20220423T180000
DTEND;TZID=UTC:20220423T200000
DTSTAMP:20260420T095617
CREATED:20220407T130631Z
LAST-MODIFIED:20220407T130631Z
UID:10000082-1650736800-1650744000@laantiguaguatemala.com
SUMMARY:Cuaresma y Semana Santa de Guatemala
DESCRIPTION:Proyección de fotografías de cuaresma y semana santa.
URL:https://laantiguaguatemala.com/event/cuaresma-y-semana-santa-de-guatemala/
LOCATION:Atardeceres musicales – Proyecto Luis de Lión\, Santa Inés del Monte Pulciano
END:VEVENT
BEGIN:VEVENT
DTSTART;TZID=UTC:20220423T190000
DTEND;TZID=UTC:20220423T220000
DTSTAMP:20260420T095617
CREATED:20220405T175624Z
LAST-MODIFIED:20220405T175624Z
UID:10000075-1650740400-1650751200@laantiguaguatemala.com
SUMMARY:Candy Valle
DESCRIPTION:Entrada por Consumo
URL:https://laantiguaguatemala.com/event/candy-valle-3/
LOCATION:Atardeceres musicales – Proyecto Luis de Lión\, Santa Inés del Monte Pulciano
END:VEVENT
END:VCALENDAR