BEGIN:VCALENDAR
VERSION:2.0
PRODID:-//LA ANTIGUA GUATEMALA - ECPv6.0.3.1//NONSGML v1.0//EN
CALSCALE:GREGORIAN
METHOD:PUBLISH
X-WR-CALNAME:LA ANTIGUA GUATEMALA
X-ORIGINAL-URL:https://laantiguaguatemala.com
X-WR-CALDESC:Events for LA ANTIGUA GUATEMALA
REFRESH-INTERVAL;VALUE=DURATION:PT1H
X-Robots-Tag:noindex
X-PUBLISHED-TTL:PT1H
BEGIN:VTIMEZONE
TZID:UTC
BEGIN:STANDARD
TZOFFSETFROM:+0000
TZOFFSETTO:+0000
TZNAME:UTC
DTSTART:20220101T000000
END:STANDARD
END:VTIMEZONE
BEGIN:VEVENT
DTSTART;TZID=UTC:20220401T090000
DTEND;TZID=UTC:20220430T190000
DTSTAMP:20260420T095348
CREATED:20220404T164646Z
LAST-MODIFIED:20220404T164646Z
UID:10000004-1648803600-1651345200@laantiguaguatemala.com
SUMMARY:Arte sacro en miniatura
DESCRIPTION:Exposición disponible toda la Semana Santa
URL:https://laantiguaguatemala.com/event/arte-sacro-en-miniatura/
LOCATION:Atardeceres musicales – Proyecto Luis de Lión\, Santa Inés del Monte Pulciano
END:VEVENT
BEGIN:VEVENT
DTSTART;TZID=UTC:20220415T100000
DTEND;TZID=UTC:20220415T233000
DTSTAMP:20260420T095348
CREATED:20220405T171200Z
LAST-MODIFIED:20220405T171200Z
UID:10000061-1650016800-1650065400@laantiguaguatemala.com
SUMMARY:Feria Chapina
DESCRIPTION:Manualidades
URL:https://laantiguaguatemala.com/event/feria-chapina-2/
LOCATION:Atardeceres musicales – Proyecto Luis de Lión\, Santa Inés del Monte Pulciano
END:VEVENT
BEGIN:VEVENT
DTSTART;TZID=UTC:20220415T150000
DTEND;TZID=UTC:20220415T170000
DTSTAMP:20260420T095348
CREATED:20220405T171323Z
LAST-MODIFIED:20220405T171323Z
UID:10000062-1650034800-1650042000@laantiguaguatemala.com
SUMMARY:Feria Chapina
DESCRIPTION:Elaboración de alfombra
URL:https://laantiguaguatemala.com/event/feria-chapina-3/
LOCATION:Atardeceres musicales – Proyecto Luis de Lión\, Santa Inés del Monte Pulciano
END:VEVENT
BEGIN:VEVENT
DTSTART;TZID=UTC:20220415T180000
DTEND;TZID=UTC:20220415T200000
DTSTAMP:20260420T095348
CREATED:20220405T171629Z
LAST-MODIFIED:20220405T171629Z
UID:10000063-1650045600-1650052800@laantiguaguatemala.com
SUMMARY:Feria Chapina
DESCRIPTION:Cine Infantil
URL:https://laantiguaguatemala.com/event/feria-chapina-4/
LOCATION:Atardeceres musicales – Proyecto Luis de Lión\, Santa Inés del Monte Pulciano
END:VEVENT
END:VCALENDAR