BEGIN:VCALENDAR
VERSION:2.0
PRODID:-//LA ANTIGUA GUATEMALA - ECPv6.0.3.1//NONSGML v1.0//EN
CALSCALE:GREGORIAN
METHOD:PUBLISH
X-ORIGINAL-URL:https://laantiguaguatemala.com
X-WR-CALDESC:Events for LA ANTIGUA GUATEMALA
REFRESH-INTERVAL;VALUE=DURATION:PT1H
X-Robots-Tag:noindex
X-PUBLISHED-TTL:PT1H
BEGIN:VTIMEZONE
TZID:UTC
BEGIN:STANDARD
TZOFFSETFROM:+0000
TZOFFSETTO:+0000
TZNAME:UTC
DTSTART:20220101T000000
END:STANDARD
END:VTIMEZONE
BEGIN:VEVENT
DTSTART;TZID=UTC:20220401T090000
DTEND;TZID=UTC:20220430T190000
DTSTAMP:20260420T095616
CREATED:20220404T164646Z
LAST-MODIFIED:20220404T164646Z
UID:10000004-1648803600-1651345200@laantiguaguatemala.com
SUMMARY:Arte sacro en miniatura
DESCRIPTION:Exposición disponible toda la Semana Santa
URL:https://laantiguaguatemala.com/event/arte-sacro-en-miniatura/
LOCATION:Atardeceres musicales – Proyecto Luis de Lión\, Santa Inés del Monte Pulciano
END:VEVENT
BEGIN:VEVENT
DTSTART;VALUE=DATE:20220411
DTEND;VALUE=DATE:20220412
DTSTAMP:20260420T095616
CREATED:20220405T165835Z
LAST-MODIFIED:20220405T165835Z
UID:10000055-1649635200-1649721599@laantiguaguatemala.com
SUMMARY:Elaboración de alfombra y huerto de velación
DESCRIPTION:
URL:https://laantiguaguatemala.com/event/elaboracion-de-alfombra-y-huerto-de-velacion/
LOCATION:Atardeceres musicales – Proyecto Luis de Lión\, Santa Inés del Monte Pulciano
END:VEVENT
BEGIN:VEVENT
DTSTART;TZID=UTC:20220411T100000
DTEND;TZID=UTC:20220411T110000
DTSTAMP:20260420T095616
CREATED:20220405T170130Z
LAST-MODIFIED:20220405T170130Z
UID:10000056-1649671200-1649674800@laantiguaguatemala.com
SUMMARY:Cápsulas educativas sobre literatura
DESCRIPTION:Actividad vía Facebook: Colegio Mayor Santo Tomás de Aquino USAC
URL:https://laantiguaguatemala.com/event/capsulas-educativas-sobre-literatura-2/
LOCATION:Atardeceres musicales – Proyecto Luis de Lión\, Santa Inés del Monte Pulciano
END:VEVENT
END:VCALENDAR