BEGIN:VCALENDAR
VERSION:2.0
PRODID:-//LA ANTIGUA GUATEMALA - ECPv6.0.3.1//NONSGML v1.0//EN
CALSCALE:GREGORIAN
METHOD:PUBLISH
X-ORIGINAL-URL:https://laantiguaguatemala.com
X-WR-CALDESC:Events for LA ANTIGUA GUATEMALA
REFRESH-INTERVAL;VALUE=DURATION:PT1H
X-Robots-Tag:noindex
X-PUBLISHED-TTL:PT1H
BEGIN:VTIMEZONE
TZID:UTC
BEGIN:STANDARD
TZOFFSETFROM:+0000
TZOFFSETTO:+0000
TZNAME:UTC
DTSTART:20220101T000000
END:STANDARD
END:VTIMEZONE
BEGIN:VEVENT
DTSTART;TZID=UTC:20220401T090000
DTEND;TZID=UTC:20220430T190000
DTSTAMP:20260420T095449
CREATED:20220404T164646Z
LAST-MODIFIED:20220404T164646Z
UID:10000004-1648803600-1651345200@laantiguaguatemala.com
SUMMARY:Arte sacro en miniatura
DESCRIPTION:Exposición disponible toda la Semana Santa
URL:https://laantiguaguatemala.com/event/arte-sacro-en-miniatura/
LOCATION:Atardeceres musicales – Proyecto Luis de Lión\, Santa Inés del Monte Pulciano
END:VEVENT
BEGIN:VEVENT
DTSTART;TZID=UTC:20220406T170000
DTEND;TZID=UTC:20220406T180000
DTSTAMP:20260420T095449
CREATED:20220405T161150Z
LAST-MODIFIED:20220405T161150Z
UID:10000013-1649264400-1649268000@laantiguaguatemala.com
SUMMARY:Exposición de pintura y escultura
DESCRIPTION:Con los artístas Byron Ramírez\, Luz María Ori\, Elfigio Cappelini y Gio López \nActividad vía Facebook: Colegio Mayor Santo Tomás de Aquino USAC
URL:https://laantiguaguatemala.com/event/exposicion-de-pintura-y-escultura/
LOCATION:Atardeceres musicales – Proyecto Luis de Lión\, Santa Inés del Monte Pulciano
END:VEVENT
BEGIN:VEVENT
DTSTART;TZID=UTC:20220406T180000
DTEND;TZID=UTC:20220406T200000
DTSTAMP:20260420T095449
CREATED:20220405T161735Z
LAST-MODIFIED:20220405T161735Z
UID:10000014-1649268000-1649275200@laantiguaguatemala.com
SUMMARY:Club de Lectura
DESCRIPTION:Libro: Canción\, Novela de Eduardo Halfon. \nActividad Virtual vía: zoom 
URL:https://laantiguaguatemala.com/event/club-de-lectura/
LOCATION:Atardeceres musicales – Proyecto Luis de Lión\, Santa Inés del Monte Pulciano
END:VEVENT
END:VCALENDAR