BEGIN:VCALENDAR
VERSION:2.0
PRODID:-//LA ANTIGUA GUATEMALA - ECPv6.0.3.1//NONSGML v1.0//EN
CALSCALE:GREGORIAN
METHOD:PUBLISH
X-ORIGINAL-URL:https://laantiguaguatemala.com
X-WR-CALDESC:Events for LA ANTIGUA GUATEMALA
REFRESH-INTERVAL;VALUE=DURATION:PT1H
X-Robots-Tag:noindex
X-PUBLISHED-TTL:PT1H
BEGIN:VTIMEZONE
TZID:UTC
BEGIN:STANDARD
TZOFFSETFROM:+0000
TZOFFSETTO:+0000
TZNAME:UTC
DTSTART:20220101T000000
END:STANDARD
END:VTIMEZONE
BEGIN:VEVENT
DTSTART;TZID=UTC:20220401T090000
DTEND;TZID=UTC:20220430T190000
DTSTAMP:20260420T095452
CREATED:20220404T164646Z
LAST-MODIFIED:20220404T164646Z
UID:10000004-1648803600-1651345200@laantiguaguatemala.com
SUMMARY:Arte sacro en miniatura
DESCRIPTION:Exposición disponible toda la Semana Santa
URL:https://laantiguaguatemala.com/event/arte-sacro-en-miniatura/
LOCATION:Atardeceres musicales – Proyecto Luis de Lión\, Santa Inés del Monte Pulciano
END:VEVENT
BEGIN:VEVENT
DTSTART;TZID=UTC:20220402T100000
DTEND;TZID=UTC:20220403T160000
DTSTAMP:20260420T095452
CREATED:20220405T153438Z
LAST-MODIFIED:20220405T153438Z
UID:10000007-1648893600-1649001600@laantiguaguatemala.com
SUMMARY:Mercadito artesanal
DESCRIPTION:Todos los sábados y domingos del mes
URL:https://laantiguaguatemala.com/event/mercadito-artesanal/
LOCATION:Atardeceres musicales – Proyecto Luis de Lión\, Santa Inés del Monte Pulciano
END:VEVENT
BEGIN:VEVENT
DTSTART;TZID=UTC:20220402T103000
DTEND;TZID=UTC:20220402T233000
DTSTAMP:20260420T095452
CREATED:20220405T160102Z
LAST-MODIFIED:20220405T160102Z
UID:10000011-1648895400-1648942200@laantiguaguatemala.com
SUMMARY:Exposición Histoires Naturelles
DESCRIPTION:Visita guiada con dos de los artistas de la exposición: Selvin Cojolón y Juan Ramón. Contacto: 5045-7857
URL:https://laantiguaguatemala.com/event/exposicion-histoires-naturelles/
LOCATION:Atardeceres musicales – Proyecto Luis de Lión\, Santa Inés del Monte Pulciano
END:VEVENT
BEGIN:VEVENT
DTSTART;TZID=UTC:20220402T110000
DTEND;TZID=UTC:20220402T120000
DTSTAMP:20260420T095452
CREATED:20220405T154245Z
LAST-MODIFIED:20220405T154245Z
UID:10000008-1648897200-1648900800@laantiguaguatemala.com
SUMMARY:Cápsulas Educativas sobre Literatura
DESCRIPTION:Modalidad virtual vía Facebook: Colegio Mayor Santo Tomás de Aquino
URL:https://laantiguaguatemala.com/event/capsulas-educativas-sobre-literatura/
LOCATION:Atardeceres musicales – Proyecto Luis de Lión\, Santa Inés del Monte Pulciano
END:VEVENT
BEGIN:VEVENT
DTSTART;TZID=UTC:20220402T170000
DTEND;TZID=UTC:20220402T180000
DTSTAMP:20260420T095452
CREATED:20220405T155044Z
LAST-MODIFIED:20220405T155044Z
UID:10000009-1648918800-1648922400@laantiguaguatemala.com
SUMMARY:Evolutionis Sunt
DESCRIPTION:Exposición de pintura por la artista Rita Romero \nActividad vía Facebook: Colegio Mayor Santo Tomás de Aquino USAC
URL:https://laantiguaguatemala.com/event/evolutionis-sunt/
LOCATION:Atardeceres musicales – Proyecto Luis de Lión\, Santa Inés del Monte Pulciano
END:VEVENT
BEGIN:VEVENT
DTSTART;TZID=UTC:20220402T180000
DTEND;TZID=UTC:20220402T210000
DTSTAMP:20260420T095452
CREATED:20220405T155714Z
LAST-MODIFIED:20220405T155714Z
UID:10000010-1648922400-1648933200@laantiguaguatemala.com
SUMMARY:"Dualidad"\, Salto al Vacío y Alquimia Escena
DESCRIPTION:En el marco de la inauguración del Teatro Garden\, ¡Xoshil Rose y Diego Cazali te proponen una noche de diversión y de risa!
URL:https://laantiguaguatemala.com/event/dualidad-salto-al-vacio-y-alquimia-escena/
LOCATION:Atardeceres musicales – Proyecto Luis de Lión\, Santa Inés del Monte Pulciano
END:VEVENT
BEGIN:VEVENT
DTSTART;TZID=UTC:20220402T190000
DTEND;TZID=UTC:20220402T210000
DTSTAMP:20260420T095452
CREATED:20220405T160506Z
LAST-MODIFIED:20220405T160506Z
UID:10000012-1648926000-1648933200@laantiguaguatemala.com
SUMMARY:Stephanie Darce
DESCRIPTION:Entrada por consumo
URL:https://laantiguaguatemala.com/event/stephanie-darce/
LOCATION:Atardeceres musicales – Proyecto Luis de Lión\, Santa Inés del Monte Pulciano
END:VEVENT
END:VCALENDAR