BEGIN:VCALENDAR
VERSION:2.0
PRODID:-//LA ANTIGUA GUATEMALA - ECPv6.0.3.1//NONSGML v1.0//EN
CALSCALE:GREGORIAN
METHOD:PUBLISH
X-WR-CALNAME:LA ANTIGUA GUATEMALA
X-ORIGINAL-URL:https://laantiguaguatemala.com
X-WR-CALDESC:Events for LA ANTIGUA GUATEMALA
REFRESH-INTERVAL;VALUE=DURATION:PT1H
X-Robots-Tag:noindex
X-PUBLISHED-TTL:PT1H
BEGIN:VTIMEZONE
TZID:UTC
BEGIN:STANDARD
TZOFFSETFROM:+0000
TZOFFSETTO:+0000
TZNAME:UTC
DTSTART:20220101T000000
END:STANDARD
END:VTIMEZONE
BEGIN:VEVENT
DTSTART;TZID=UTC:20220401T080000
DTEND;TZID=UTC:20220401T170000
DTSTAMP:20260420T095320
CREATED:20220403T231457Z
LAST-MODIFIED:20220403T231457Z
UID:10000003-1648800000-1648832400@laantiguaguatemala.com
SUMMARY:Test Event
DESCRIPTION:
URL:https://laantiguaguatemala.com/event/test-event/
LOCATION:Atardeceres musicales – Proyecto Luis de Lión\, Santa Inés del Monte Pulciano
END:VEVENT
BEGIN:VEVENT
DTSTART;TZID=UTC:20220401T090000
DTEND;TZID=UTC:20220430T190000
DTSTAMP:20260420T095320
CREATED:20220404T164646Z
LAST-MODIFIED:20220404T164646Z
UID:10000004-1648803600-1651345200@laantiguaguatemala.com
SUMMARY:Arte sacro en miniatura
DESCRIPTION:Exposición disponible toda la Semana Santa
URL:https://laantiguaguatemala.com/event/arte-sacro-en-miniatura/
LOCATION:Atardeceres musicales – Proyecto Luis de Lión\, Santa Inés del Monte Pulciano
END:VEVENT
BEGIN:VEVENT
DTSTART;TZID=UTC:20220401T110000
DTEND;TZID=UTC:20220401T120000
DTSTAMP:20260420T095320
CREATED:20220404T165935Z
LAST-MODIFIED:20220404T165935Z
UID:10000005-1648810800-1648814400@laantiguaguatemala.com
SUMMARY:Vasijas antiguas de Guatemala
DESCRIPTION:Exposición de la colección privada de Luis Sitán. \nActividad vía Facebook: Colegio Mayor Santo Tomás de Aquino USAC  \n 
URL:https://laantiguaguatemala.com/event/vasijas-antiguas-de-guatemala/
LOCATION:Atardeceres musicales – Proyecto Luis de Lión\, Santa Inés del Monte Pulciano
END:VEVENT
BEGIN:VEVENT
DTSTART;TZID=UTC:20220401T190000
DTEND;TZID=UTC:20220401T210000
DTSTAMP:20260420T095320
CREATED:20220405T152807Z
LAST-MODIFIED:20220405T152807Z
UID:10000006-1648839600-1648846800@laantiguaguatemala.com
SUMMARY:Candy Valle
DESCRIPTION:Entrada por Consumo
URL:https://laantiguaguatemala.com/event/candy-valle/
LOCATION:Atardeceres musicales – Proyecto Luis de Lión\, Santa Inés del Monte Pulciano
END:VEVENT
END:VCALENDAR